BEGIN:VCALENDAR
VERSION:2.0
PRODID:-//Barker Road Methodist Church - ECPv6.15.18//NONSGML v1.0//EN
CALSCALE:GREGORIAN
METHOD:PUBLISH
X-WR-CALNAME:Barker Road Methodist Church
X-ORIGINAL-URL:https://www.brmc.org.sg
X-WR-CALDESC:Events for Barker Road Methodist Church
REFRESH-INTERVAL;VALUE=DURATION:PT1H
X-Robots-Tag:noindex
X-PUBLISHED-TTL:PT1H
BEGIN:VTIMEZONE
TZID:Asia/Singapore
BEGIN:STANDARD
TZOFFSETFROM:+0800
TZOFFSETTO:+0800
TZNAME:+08
DTSTART:20250101T000000
END:STANDARD
END:VTIMEZONE
BEGIN:VEVENT
DTSTART;VALUE=DATE:20260525
DTEND;VALUE=DATE:20261129
DTSTAMP:20260424T065650
CREATED:20251008T025927Z
LAST-MODIFIED:20251008T032550Z
UID:12001-1779667200-1795910399@www.brmc.org.sg
SUMMARY:Ordinary Time after Pentecost
DESCRIPTION:WHAT IS IT?\nOrdinary Time refers to the time between the two cycles of Advent-Christmas-Epiphany and Lent-Easter-Pentecost. They are marked as “After Epiphany” and “After Pentecost” respectively. \nWHY DO WE CELEBRATE IT?\nOrdinary Time itself has no central theme\, but Scripture readings during After Pentecost often emphasise the Kingdom of God and the reign of Jesus\, through the work of his body\, the Church. We learn that the ministry of Jesus to the world continues through us\, and we minister out of the blessed hope we have of his glorious return. \nNOTHING ORDINARY ABOUT ORDINARY TIME\n“Ordinary” comes from the word “ordinal”\, referring to how the weeks are counted in order (e.g.\, 1st Sunday After Pentecost\, 2nd Sunday After Pentecost\, and so on). \nWHAT DO WE DO?\nWorship during this time generally adopts themes more related to the sermon series than the season itself. The season is punctuated by special holy days\, the source of the word “holiday”. \nGreen is used to signify growth and life. \nSpecial Days are observed\, including TRAC Conference Sunday. \nBOOKENDING THE ORDINARY\nThe first Sunday of After Pentecost is Trinity Sunday\, focusing on the doctrine of the Holy Trinity\, a crucial underlying statement of faith for all Christians. The last Sunday of After Pentecost is Christ the King Sunday\, focusing on how Christ reigns over all Creation as King\, and that this king will one day come back in glory – leading us back into the Advent anticipation. \nREFERENCES \nSenn\, Frank C. Introduction to Christian Liturgy. Minneapolis\, MN: FortressPress\, 2012.\nUnited Methodist Church.The United Methodist Book of Worship. Nashville\, TN: The United Methodist Publishing House\, 1992.
URL:https://www.brmc.org.sg/event/ordinary-time-after-pentecost-5/
ATTACH;FMTTYPE=image/jpeg:https://www.brmc.org.sg/wp-content/uploads/2022/08/After-Pentecost-CCV-cropped-e1661416645181.jpeg
END:VEVENT
BEGIN:VEVENT
DTSTART;TZID=Asia/Singapore:20261002T103000
DTEND;TZID=Asia/Singapore:20261002T123000
DTSTAMP:20260424T065650
CREATED:20251006T072230Z
LAST-MODIFIED:20251006T072230Z
UID:11812-1790937000-1790944200@www.brmc.org.sg
SUMMARY:CONNECT - Seniors Fellowship Brunch
DESCRIPTION:Join us at the monthly Seniors Fellowship Brunch for seniors and their caregivers. \nThis event offers a chance to G.R.O.W. (Gracefully Ripen\, Overflowing with Wisdom from God) by connecting and engaging in activities with like-minded individuals. \nCome and be a part of our community as we share stories\, offer support\, and encourage one another over brunch. \nWhether you are a regular attendee or a first-timer\, all are welcome. \nDate: Fri\, 2 Oct 2026\nTime: 10.30am – 12.30pm\nVenue: Zaffron Kitchen\nAddress: 30 Orange Grove Rd\, #04-02 RELC International Hotel\, Singapore 258352 \nAny amount is acceptable. Freewill offering is welcome. \nRegistration is required. More details will be provided soon. \n\nThe CONNECT Seniors Ministry meets regularly to G.R.O.W. – Graciously Ripen\, Overflowing with Wisdom from Above. \nJoin us and embrace the joy of growth\, wisdom\, and community.
URL:https://www.brmc.org.sg/event/connect-seniors-fellowship-brunch-10/
ATTACH;FMTTYPE=image/png:https://www.brmc.org.sg/wp-content/uploads/2025/04/WEB_Seniors_Brunch_2025.png
END:VEVENT
BEGIN:VEVENT
DTSTART;TZID=Asia/Singapore:20261002T193000
DTEND;TZID=Asia/Singapore:20261002T213000
DTSTAMP:20260424T065650
CREATED:20260216T045228Z
LAST-MODIFIED:20260320T061018Z
UID:13371-1790969400-1790976600@www.brmc.org.sg
SUMMARY:KAIROS
DESCRIPTION:Come gather\, pray and worship as one church family at our monthly corporate prayer session. \nAll are welcome. \n  \nAre any among you suffering? They should pray. Are any cheerful? They should sing songs of praise. Are any among you sick? They should call for the elders of the church and have them pray over them\, anointing them with oil in the name of the Lord. The prayer of faith will save the sick\, and the Lord will raise them up\, and anyone who has committed sins will be forgiven. Therefore confess your sins to one another and pray for one another\, so that you may be healed. The prayer of the righteous is powerful and effective. \n– James 5:13-16 (NRSV)
URL:https://www.brmc.org.sg/event/kairos-21/
LOCATION:Wesley Hall
ATTACH;FMTTYPE=image/png:https://www.brmc.org.sg/wp-content/uploads/2025/10/Web_Kairos-2026.png
END:VEVENT
BEGIN:VEVENT
DTSTART;TZID=Asia/Singapore:20261003T060000
DTEND;TZID=Asia/Singapore:20261003T083000
DTSTAMP:20260424T065650
CREATED:20251006T073557Z
LAST-MODIFIED:20260423T055253Z
UID:11844-1791007200-1791016200@www.brmc.org.sg
SUMMARY:CONNECT - Emmaus Walk Men’s Fellowship
DESCRIPTION:He has told you\, O mortal\, what is good\, and what does the Lord require of you but to do justice and to love kindness and to walk humbly with your God? – Micah 6:8 \nEmmaus Walk Men’s Fellowship meets on Saturdays to encourage men\, whether singles\, husbands or fathers\, to be men after God’s heart. \nMen’s Prayer Sessions\nSaturdays\, 6am – 7am\, Wesley Hall \nMen’s Fellowship Sessions\nSaturdays\, 7am – 8.30am\, Wesley Hall \nFIND OUT MORE
URL:https://www.brmc.org.sg/event/connect-emmaus-walk-mens-fellowship-142/
ATTACH;FMTTYPE=image/jpeg:https://www.brmc.org.sg/wp-content/uploads/2025/10/Web_Wesley-Hall.jpg
END:VEVENT
BEGIN:VEVENT
DTSTART;TZID=Asia/Singapore:20261003T200000
DTEND;TZID=Asia/Singapore:20261003T213000
DTSTAMP:20260424T065650
CREATED:20260417T085109Z
LAST-MODIFIED:20260417T085109Z
UID:14430-1791057600-1791063000@www.brmc.org.sg
SUMMARY:Alpha Course 2H2026 Online (#12/12)
DESCRIPTION:Alpha is a safe space to ask honest questions about life\, spirituality and the Christian faith. Each session creates an open and friendly environment where you can explore big ideas with new friends. \nJoin us for the first session to get a taste of what Alpha is like. Come for lunch\, meet people\, and decide if this journey is for you. \nThis online Alpha runs weekly on Tuesdays\, 8pm–9.30pm\, over 12 weeks. \nRegistration opens 1 Jun 2026 and closes 30 Jun 2026. We look forward to welcoming you to Alpha! \nSign up on the Church Center App \nProgramme \n\n\n\nSession\nTopic\nDate\n\n\nSession 1\nIntroduction – is there more to life than this?\nTue\, 14 Jul 2026\, 8pm – 9.30pm\n\n\nSession 2\nWho is Jesus?\nTue\, 21 Jul 2026\, 8pm – 9.30pm\n\n\nSession 3\nWhy did Jesus die?\nTue\, 28 Jul 2026\, 8pm – 9.30pm\n\n\nSession 4\nHow can I have faith?\nTue\, 4 Aug 2026\, 8pm – 9.30pm\n\n\nSession 5\nWhy & how do I pray?\nTue\, 11 Aug 2026\, 8pm – 9.30pm\n\n\nSession 6\nWhy & how should I read the bible?\nTue\, 18 Aug 2026\, 8pm – 9.30pm\n\n\nSession 7\nHow does God guide us?\nTue\, 25 Aug 2026\, 8pm – 9.30pm\n\n\nSession 8\nAlpha highlight: Holy Spirit – who/what/how?\nSat\, 5 Sep 2026\, 9am – 6pm\n\n\nSession 9\nDoes God still heal today?\nTue\, 8 Sep 2026\, 8pm – 9.30pm\n\n\nSession 10\nHow can I resist evil?\nTue\, 15 Sep 2026\, 8pm – 9.30pm\n\n\nSession 11\nWhy and how should I tell others?\nTue\, 22 Sep 2026\, 8pm – 9.30pm\n\n\nSession 12\nAlpha celebration lunch & how can I make the most of the rest of my life?\nSat\, 3 Oct 2026\n\n\n\n  \n*Please note that Session 8 and Session 12 have a different time schedule. \n  \n 
URL:https://www.brmc.org.sg/event/alpha-course-2h2026-online-12-12/
LOCATION:Online
ATTACH;FMTTYPE=image/png:https://www.brmc.org.sg/wp-content/uploads/2024/11/WEB_Alpha_1H2025.png
END:VEVENT
BEGIN:VEVENT
DTSTART;TZID=Asia/Singapore:20261004T140000
DTEND;TZID=Asia/Singapore:20261004T170000
DTSTAMP:20260424T065650
CREATED:20260414T061053Z
LAST-MODIFIED:20260414T061053Z
UID:14332-1791122400-1791133200@www.brmc.org.sg
SUMMARY:CONNECT - Pickleball
DESCRIPTION:Join us for weekly pickleball sessions for a time of inter-generational bonding with our church family! \nWhether you’re a seasoned player or a complete beginner\, everyone is welcome—children\, youth\, adults\, and seniors alike. We’ll teach newcomers the game\, and equipment (paddles\, balls\, and nets) will be provided. \n🧒 Free for children 12 and under\, & seniors 55 and over💵 $4 per session for all others (payable via QR code at the entrance)👟 Sports attire with non-marking court shoes required🚫 No food in the Auditorium. Bring your own water/drinks \nParticipation is only open to BRMC members. \nVolunteer with us! \n\n\nWe need committed volunteers to help set up and return all equipment at the end of each session.  If we can get 12 volunteers\, we will roster 2 volunteers per session.  Commitment will then be once every 6 weeks. \nWhatsApp Chat Group\nAll participants will be placed in a BRMC Pickleball WhatsApp group for ease of communication.\n\n\nRegister your interest
URL:https://www.brmc.org.sg/event/connect-pickleball-77/
LOCATION:ACS Auditorium
ATTACH;FMTTYPE=image/png:https://www.brmc.org.sg/wp-content/uploads/2025/10/Web_Pickleball.png
END:VEVENT
BEGIN:VEVENT
DTSTART;TZID=Asia/Singapore:20261004T143000
DTEND;TZID=Asia/Singapore:20261004T160000
DTSTAMP:20260424T065650
CREATED:20251017T070636Z
LAST-MODIFIED:20251215T095340Z
UID:12148-1791124200-1791129600@www.brmc.org.sg
SUMMARY:EQUIP - Singles Coffee\, Conversations & Activi-Tea
DESCRIPTION:Coffee\, Conversations & Activi-Tea is a monthly event for singles to gather in a safe and welcoming environment to build meaningful relationships and develop greater self and interpersonal awareness. \nEach session includes interactive activities and guided discussions grounded in biblical themes. Participants can look forward to reflective sharing\, light refreshments\, and opportunities for wholesome fellowship that encourage personal and spiritual growth. \n2026 dates: 4 Jan\, 1 Feb\, 1 Mar\, 3 May\, 7 Jun\, 5 Jul\, 2 Aug\, 6 Sep\, 4 Oct\, 1 Nov \nSign up on the Church Center App
URL:https://www.brmc.org.sg/event/equip-singles-coffee-conversations-activi-tea-22/
ATTACH;FMTTYPE=image/png:https://www.brmc.org.sg/wp-content/uploads/2024/12/WEB_Singles-Coffee-Conversation.png
END:VEVENT
BEGIN:VEVENT
DTSTART;TZID=Asia/Singapore:20261008T100000
DTEND;TZID=Asia/Singapore:20261008T120000
DTSTAMP:20260424T065650
CREATED:20260414T054006Z
LAST-MODIFIED:20260414T054006Z
UID:14299-1791453600-1791460800@www.brmc.org.sg
SUMMARY:CONNECT - Seniors Singing Fellowship
DESCRIPTION:Date: Thu\, 8 Oct 2026\nTime: 10am – 12pm\nVenue: Methodist Girls’ School (IGLC room) @ Blackmore Drive \nOn the second week of the month\, we call out to all seniors and their caregivers who love singing. \nAt the Singing Fellowship\, we share our reﬂections on our Christian life through the songs we nominate to sing together\, facilitated by a pastoral staff. \nSinging helps us explore and grow in faith both cognitively and affectively. The lyrics guide our thinking and the music inspires our souls. After singing\, we deepen our bonds of bonds of kinship\, friendship and discipleship over a shared meal together. \nPlease confirm your attendance with Chang Chong Tian at the church office at 6256 4298. \n\nThe CONNECT Seniors Ministry meets regularly to G.R.O.W. – Graciously Ripen\, Overflowing with Wisdom from Above. \nJoin us and embrace the joy of growth\, wisdom\, and community.
URL:https://www.brmc.org.sg/event/connect-seniors-singing-fellowship-25/
ATTACH;FMTTYPE=image/png:https://www.brmc.org.sg/wp-content/uploads/2024/10/WEB_Senior-Singing.png
END:VEVENT
BEGIN:VEVENT
DTSTART;TZID=Asia/Singapore:20261010T060000
DTEND;TZID=Asia/Singapore:20261010T083000
DTSTAMP:20260424T065650
CREATED:20251006T073647Z
LAST-MODIFIED:20260423T055306Z
UID:11846-1791612000-1791621000@www.brmc.org.sg
SUMMARY:CONNECT - Emmaus Walk Men’s Fellowship
DESCRIPTION:He has told you\, O mortal\, what is good\, and what does the Lord require of you but to do justice and to love kindness and to walk humbly with your God? – Micah 6:8 \nEmmaus Walk Men’s Fellowship meets on Saturdays to encourage men\, whether singles\, husbands or fathers\, to be men after God’s heart. \nMen’s Prayer Sessions\nSaturdays\, 6am – 7am\, Wesley Hall \nMen’s Fellowship Sessions\nSaturdays\, 7am – 8.30am\, Wesley Hall \nFIND OUT MORE
URL:https://www.brmc.org.sg/event/connect-emmaus-walk-mens-fellowship-143/
ATTACH;FMTTYPE=image/jpeg:https://www.brmc.org.sg/wp-content/uploads/2025/10/Web_Wesley-Hall.jpg
END:VEVENT
BEGIN:VEVENT
DTSTART;TZID=Asia/Singapore:20261011T140000
DTEND;TZID=Asia/Singapore:20261011T170000
DTSTAMP:20260424T065650
CREATED:20260414T061138Z
LAST-MODIFIED:20260414T061138Z
UID:14334-1791727200-1791738000@www.brmc.org.sg
SUMMARY:CONNECT - Pickleball
DESCRIPTION:Join us for weekly pickleball sessions for a time of inter-generational bonding with our church family! \nWhether you’re a seasoned player or a complete beginner\, everyone is welcome—children\, youth\, adults\, and seniors alike. We’ll teach newcomers the game\, and equipment (paddles\, balls\, and nets) will be provided. \n🧒 Free for children 12 and under\, & seniors 55 and over💵 $4 per session for all others (payable via QR code at the entrance)👟 Sports attire with non-marking court shoes required🚫 No food in the Auditorium. Bring your own water/drinks \nParticipation is only open to BRMC members. \nVolunteer with us! \n\n\nWe need committed volunteers to help set up and return all equipment at the end of each session.  If we can get 12 volunteers\, we will roster 2 volunteers per session.  Commitment will then be once every 6 weeks. \nWhatsApp Chat Group\nAll participants will be placed in a BRMC Pickleball WhatsApp group for ease of communication.\n\n\nRegister your interest
URL:https://www.brmc.org.sg/event/connect-pickleball-78/
LOCATION:ACS Auditorium
ATTACH;FMTTYPE=image/png:https://www.brmc.org.sg/wp-content/uploads/2025/10/Web_Pickleball.png
END:VEVENT
BEGIN:VEVENT
DTSTART;TZID=Asia/Singapore:20261014T153000
DTEND;TZID=Asia/Singapore:20261014T163000
DTSTAMP:20260424T065650
CREATED:20260414T052522Z
LAST-MODIFIED:20260415T025830Z
UID:14272-1791991800-1791995400@www.brmc.org.sg
SUMMARY:CONNECT - Seniors Chapel
DESCRIPTION:This is a time and place for us to personally draw near to God in His Sanctuary through songs\, prayers\, and guided meditation. \nDate: Wed\, 14 Oct 2026\nTime: 3.30pm – 4.30pm\nVenue: Wesley Hall \nHoly Communion is served every month at Seniors Chapel. \nNo registration is required. \n\nThe CONNECT Seniors Ministry meets regularly to G.R.O.W. – Graciously Ripen\, Overflowing with Wisdom from Above. \nJoin us and embrace the joy of growth\, wisdom\, and community.
URL:https://www.brmc.org.sg/event/connect-seniors-chapel-40/
LOCATION:Wesley Hall
ATTACH;FMTTYPE=image/jpeg:https://www.brmc.org.sg/wp-content/uploads/2025/10/Web_Wesley-Hall.jpg
END:VEVENT
BEGIN:VEVENT
DTSTART;TZID=Asia/Singapore:20261017T060000
DTEND;TZID=Asia/Singapore:20261017T083000
DTSTAMP:20260424T065650
CREATED:20251006T073732Z
LAST-MODIFIED:20260423T055319Z
UID:11848-1792216800-1792225800@www.brmc.org.sg
SUMMARY:CONNECT - Emmaus Walk Men’s Fellowship
DESCRIPTION:He has told you\, O mortal\, what is good\, and what does the Lord require of you but to do justice and to love kindness and to walk humbly with your God? – Micah 6:8 \nEmmaus Walk Men’s Fellowship meets on Saturdays to encourage men\, whether singles\, husbands or fathers\, to be men after God’s heart. \nMen’s Prayer Sessions\nSaturdays\, 6am – 7am\, Wesley Hall \nMen’s Fellowship Sessions\nSaturdays\, 7am – 8.30am\, Wesley Hall \nFIND OUT MORE
URL:https://www.brmc.org.sg/event/connect-emmaus-walk-mens-fellowship-144/
ATTACH;FMTTYPE=image/jpeg:https://www.brmc.org.sg/wp-content/uploads/2025/10/Web_Wesley-Hall.jpg
END:VEVENT
BEGIN:VEVENT
DTSTART;TZID=Asia/Singapore:20261017T193000
DTEND;TZID=Asia/Singapore:20261017T213000
DTSTAMP:20260424T065650
CREATED:20251027T054410Z
LAST-MODIFIED:20251027T054410Z
UID:12301-1792265400-1792272600@www.brmc.org.sg
SUMMARY:SERVE - Community Night with Migrant Workers
DESCRIPTION:Are you interested in cross-cultural mission work without needing a passport?  \nJoin us every 3rd Saturday of the month\, 7.30pm – 9.30pm\, at Defu Industrial City (DIC) Dormitory. \nWe will be sharing the love of Christ by distributing fruits to Bangladeshi workers residing at DIC and continuing to deepen our friendships with them. \nMonthly community night dates in 2026 are as follows: \n17 Jan\, 21 Feb\, 21 Mar\, 18 Apr\, 16 May\, 20 Jun\, 18 Jul\, 15 Aug\, 19 Sep\, 17 Oct\, 21 Nov\, 19 Dec \nSIGN UP NOW
URL:https://www.brmc.org.sg/event/serve-community-night-with-migrant-workers-20/
ATTACH;FMTTYPE=image/png:https://www.brmc.org.sg/wp-content/uploads/2025/02/WEB_mw-1.png
END:VEVENT
BEGIN:VEVENT
DTSTART;TZID=Asia/Singapore:20261018T140000
DTEND;TZID=Asia/Singapore:20261018T170000
DTSTAMP:20260424T065650
CREATED:20260414T061213Z
LAST-MODIFIED:20260414T061213Z
UID:14336-1792332000-1792342800@www.brmc.org.sg
SUMMARY:CONNECT - Pickleball
DESCRIPTION:Join us for weekly pickleball sessions for a time of inter-generational bonding with our church family! \nWhether you’re a seasoned player or a complete beginner\, everyone is welcome—children\, youth\, adults\, and seniors alike. We’ll teach newcomers the game\, and equipment (paddles\, balls\, and nets) will be provided. \n🧒 Free for children 12 and under\, & seniors 55 and over💵 $4 per session for all others (payable via QR code at the entrance)👟 Sports attire with non-marking court shoes required🚫 No food in the Auditorium. Bring your own water/drinks \nParticipation is only open to BRMC members. \nVolunteer with us! \n\n\nWe need committed volunteers to help set up and return all equipment at the end of each session.  If we can get 12 volunteers\, we will roster 2 volunteers per session.  Commitment will then be once every 6 weeks. \nWhatsApp Chat Group\nAll participants will be placed in a BRMC Pickleball WhatsApp group for ease of communication.\n\n\nRegister your interest
URL:https://www.brmc.org.sg/event/connect-pickleball-79/
LOCATION:ACS Auditorium
ATTACH;FMTTYPE=image/png:https://www.brmc.org.sg/wp-content/uploads/2025/10/Web_Pickleball.png
END:VEVENT
BEGIN:VEVENT
DTSTART;TZID=Asia/Singapore:20261024T060000
DTEND;TZID=Asia/Singapore:20261024T083000
DTSTAMP:20260424T065650
CREATED:20251006T073815Z
LAST-MODIFIED:20260423T055330Z
UID:11850-1792821600-1792830600@www.brmc.org.sg
SUMMARY:CONNECT - Emmaus Walk Men’s Fellowship
DESCRIPTION:He has told you\, O mortal\, what is good\, and what does the Lord require of you but to do justice and to love kindness and to walk humbly with your God? – Micah 6:8 \nEmmaus Walk Men’s Fellowship meets on Saturdays to encourage men\, whether singles\, husbands or fathers\, to be men after God’s heart. \nMen’s Prayer Sessions\nSaturdays\, 6am – 7am\, Wesley Hall \nMen’s Fellowship Sessions\nSaturdays\, 7am – 8.30am\, Wesley Hall \nFIND OUT MORE
URL:https://www.brmc.org.sg/event/connect-emmaus-walk-mens-fellowship-145/
ATTACH;FMTTYPE=image/jpeg:https://www.brmc.org.sg/wp-content/uploads/2025/10/Web_Wesley-Hall.jpg
END:VEVENT
BEGIN:VEVENT
DTSTART;TZID=Asia/Singapore:20261024T133000
DTEND;TZID=Asia/Singapore:20261024T160000
DTSTAMP:20260424T065650
CREATED:20260414T053516Z
LAST-MODIFIED:20260415T030036Z
UID:14287-1792848600-1792857600@www.brmc.org.sg
SUMMARY:CONNECT - Shalom Dementia Care Fellowship
DESCRIPTION:Caring for someone with dementia or living with it can be overwhelming\, but you’re not alone. \nThe monthly Shalom Dementia Care Fellowship provides a supportive space where those with dementia and their caregivers can come together in faith and fellowship. It runs on 3rd Saturdays of the month. \nDate: 24 Oct 2026\nTime: 1.30pm – 4pm\nVenue: Wesley Hall \nThe programme is as follows: \n\nWelcome\nWorship\nScripture/Message\nExercise\nClosing\n\nRegistration is required. Please contact Chong Tian at the church office at 6256 4298. \nGet in touch \n\nThe CONNECT Seniors Ministry meets regularly to G.R.O.W. – Graciously Ripen\, Overflowing with Wisdom from Above. \nJoin us and embrace the joy of growth\, wisdom\, and community.
URL:https://www.brmc.org.sg/event/connect-shalom-dementia-care-fellowship-41/
ATTACH;FMTTYPE=image/jpeg:https://www.brmc.org.sg/wp-content/uploads/2023/07/dementia-care.jpeg
END:VEVENT
BEGIN:VEVENT
DTSTART;TZID=Asia/Singapore:20261025T140000
DTEND;TZID=Asia/Singapore:20261025T170000
DTSTAMP:20260424T065650
CREATED:20260414T061251Z
LAST-MODIFIED:20260414T061251Z
UID:14338-1792936800-1792947600@www.brmc.org.sg
SUMMARY:CONNECT - Pickleball
DESCRIPTION:Join us for weekly pickleball sessions for a time of inter-generational bonding with our church family! \nWhether you’re a seasoned player or a complete beginner\, everyone is welcome—children\, youth\, adults\, and seniors alike. We’ll teach newcomers the game\, and equipment (paddles\, balls\, and nets) will be provided. \n🧒 Free for children 12 and under\, & seniors 55 and over💵 $4 per session for all others (payable via QR code at the entrance)👟 Sports attire with non-marking court shoes required🚫 No food in the Auditorium. Bring your own water/drinks \nParticipation is only open to BRMC members. \nVolunteer with us! \n\n\nWe need committed volunteers to help set up and return all equipment at the end of each session.  If we can get 12 volunteers\, we will roster 2 volunteers per session.  Commitment will then be once every 6 weeks. \nWhatsApp Chat Group\nAll participants will be placed in a BRMC Pickleball WhatsApp group for ease of communication.\n\n\nRegister your interest
URL:https://www.brmc.org.sg/event/connect-pickleball-80/
LOCATION:ACS Auditorium
ATTACH;FMTTYPE=image/png:https://www.brmc.org.sg/wp-content/uploads/2025/10/Web_Pickleball.png
END:VEVENT
BEGIN:VEVENT
DTSTART;VALUE=DATE:20261031
DTEND;VALUE=DATE:20261102
DTSTAMP:20260424T065650
CREATED:20251008T030400Z
LAST-MODIFIED:20251008T030400Z
UID:12003-1793404800-1793577599@www.brmc.org.sg
SUMMARY:All Saints Day
DESCRIPTION:WHAT IS IT?\nA day of remembrance for those who died in the Lord. A celebration of how the Church Militant (those still alive) and the Church Triumphant (those who have died) are alive in Christ\, as one Communion of Saints. \nWHY DO WE CELEBRATE IT?\nWe affirm our blessed hope that Christ has conquered death. Even death cannot separate us from his love\, and through Christ we remain connected with saints through time and space. \nWHO ARE THE SAINTS?\nWhile “saints” is sometimes used in the context of the heroes of the faith\, saints here refers to “all Christians in every time and place.” \nWHAT DO WE DO?\nWe never pray to the dead – prayers are always directed to God. We pray and thank God for those who have been called home to him\, seeking to emulate their godly examples. \nWhite is used as a symbol of joy. \nNames of those who died in the past year are read aloud. \nWe thank God for the lives of those who have gone before us. \nEASTER AND HALLOWEEN\nMost cultures have a day of remembrance for the departed\, but Christians have two – Easter and All Saints. Both are rooted in the resurrection of Jesus. \nRoughly half a year from Easter\, All Saints often bears the character of being a “little Easter”. \nHalloween\, observed on 31 Oct\, has roots in All Saints Day. It was originally known as All Hallow’s Eve\, “hallow” meaning “holy one” or “saint”. \nREFERENCES\n \n\nAlexander\, J. Neil. Celebrating Liturgical Time: Days\, Weeks\, and Seasons\, 2014.\nThe United Methodist Book of Worship. Nashville\, TN: The United Methodist Publishing House\, 1992.
URL:https://www.brmc.org.sg/event/all-saints-day-5/
ATTACH;FMTTYPE=image/jpeg:https://www.brmc.org.sg/wp-content/uploads/2022/08/All-Saints-cropped-e1661416706982.jpeg
END:VEVENT
BEGIN:VEVENT
DTSTART;TZID=Asia/Singapore:20261031T060000
DTEND;TZID=Asia/Singapore:20261031T083000
DTSTAMP:20260424T065650
CREATED:20251006T073901Z
LAST-MODIFIED:20260423T055347Z
UID:11852-1793426400-1793435400@www.brmc.org.sg
SUMMARY:CONNECT - Emmaus Walk Men’s Fellowship
DESCRIPTION:He has told you\, O mortal\, what is good\, and what does the Lord require of you but to do justice and to love kindness and to walk humbly with your God? – Micah 6:8 \nEmmaus Walk Men’s Fellowship meets on Saturdays to encourage men\, whether singles\, husbands or fathers\, to be men after God’s heart. \nMen’s Prayer Sessions\nSaturdays\, 6am – 7am\, Wesley Hall \nMen’s Fellowship Sessions\nSaturdays\, 7am – 8.30am\, Wesley Hall \nFIND OUT MORE
URL:https://www.brmc.org.sg/event/connect-emmaus-walk-mens-fellowship-146/
ATTACH;FMTTYPE=image/jpeg:https://www.brmc.org.sg/wp-content/uploads/2025/10/Web_Wesley-Hall.jpg
END:VEVENT
END:VCALENDAR