BEGIN:VCALENDAR
VERSION:2.0
PRODID:-//Barker Road Methodist Church - ECPv6.15.18//NONSGML v1.0//EN
CALSCALE:GREGORIAN
METHOD:PUBLISH
X-ORIGINAL-URL:https://www.brmc.org.sg
X-WR-CALDESC:Events for Barker Road Methodist Church
REFRESH-INTERVAL;VALUE=DURATION:PT1H
X-Robots-Tag:noindex
X-PUBLISHED-TTL:PT1H
BEGIN:VTIMEZONE
TZID:Asia/Singapore
BEGIN:STANDARD
TZOFFSETFROM:+0800
TZOFFSETTO:+0800
TZNAME:+08
DTSTART:20230101T000000
END:STANDARD
END:VTIMEZONE
BEGIN:VEVENT
DTSTART;VALUE=DATE:20241126
DTEND;VALUE=DATE:20241129
DTSTAMP:20260425T060129
CREATED:20240717T021609Z
LAST-MODIFIED:20240814T041505Z
UID:7704-1732579200-1732838399@www.brmc.org.sg
SUMMARY:Vacation Bible School (VBS)
DESCRIPTION:Dates: 26-28 Nov \nDuration: Two and a half days \nFor children in Primary 1-5. \nRegistration is open! \nSign up here
URL:https://www.brmc.org.sg/event/vacation-bible-school-vbs-3/
ATTACH;FMTTYPE=image/jpeg:https://www.brmc.org.sg/wp-content/uploads/2024/07/VBS-2024.jpg
END:VEVENT
END:VCALENDAR