BEGIN:VCALENDAR
VERSION:2.0
PRODID:-//Barker Road Methodist Church - ECPv6.15.18//NONSGML v1.0//EN
CALSCALE:GREGORIAN
METHOD:PUBLISH
X-ORIGINAL-URL:https://www.brmc.org.sg
X-WR-CALDESC:Events for Barker Road Methodist Church
REFRESH-INTERVAL;VALUE=DURATION:PT1H
X-Robots-Tag:noindex
X-PUBLISHED-TTL:PT1H
BEGIN:VTIMEZONE
TZID:Asia/Singapore
BEGIN:STANDARD
TZOFFSETFROM:+0800
TZOFFSETTO:+0800
TZNAME:+08
DTSTART:20230101T000000
END:STANDARD
END:VTIMEZONE
BEGIN:VEVENT
DTSTART;VALUE=DATE:20241214
DTEND;VALUE=DATE:20241218
DTSTAMP:20260425T042453
CREATED:20241023T072342Z
LAST-MODIFIED:20241030T001119Z
UID:8190-1734134400-1734479999@www.brmc.org.sg
SUMMARY:Youth December Camp 2024
DESCRIPTION:Camp Theme: Live Laud Love \nTheme Verse: 1 John 3:1\n“See what great love the Father has lavished on us\, that we should be called children of God! And that is what we are! The reason the world does not know us is that it did not know Him.”  \nSubsidised Camp Fee: $57 \nSign up now \nStay tuned for more information on BRMC Youth Ministry Instagram. \n  \n 
URL:https://www.brmc.org.sg/event/youth-december-camp-2024/
ATTACH;FMTTYPE=image/jpeg:https://www.brmc.org.sg/wp-content/uploads/2024/10/6127475085397836514.jpg
END:VEVENT
END:VCALENDAR