BEGIN:VCALENDAR
VERSION:2.0
PRODID:-//Barker Road Methodist Church - ECPv6.15.18//NONSGML v1.0//EN
CALSCALE:GREGORIAN
METHOD:PUBLISH
X-ORIGINAL-URL:https://www.brmc.org.sg
X-WR-CALDESC:Events for Barker Road Methodist Church
REFRESH-INTERVAL;VALUE=DURATION:PT1H
X-Robots-Tag:noindex
X-PUBLISHED-TTL:PT1H
BEGIN:VTIMEZONE
TZID:Asia/Singapore
BEGIN:STANDARD
TZOFFSETFROM:+0800
TZOFFSETTO:+0800
TZNAME:+08
DTSTART:20230101T000000
END:STANDARD
END:VTIMEZONE
BEGIN:VEVENT
DTSTART;TZID=Asia/Singapore:20240405T094500
DTEND;TZID=Asia/Singapore:20240405T120000
DTSTAMP:20260425T063531
CREATED:20231220T030223Z
LAST-MODIFIED:20240403T070328Z
UID:6479-1712310300-1712318400@www.brmc.org.sg
SUMMARY:CONNECT - Seniors Brunch Connection
DESCRIPTION:Join us at the monthly Brunch Connection for seniors and their caregivers. \nThis event offers a chance to G.R.O.W. (Gracefully Ripen\, Overflowing with Wisdom from God) by connecting and engaging in activities with like-minded individuals. \nCome and be a part of our community as we share stories\, offer support\, and encourage one another over brunch. \nWhether you are a regular attendee or a first-timer\, all are welcome. \nDate: Fri\, 5 Apr 2024\nTime: 9.45 am – 12 pm (Registration at 9.30 am)\nVenue: New Ubin Seafood  (@Metropolitan YMCA)\nAddress: 60 Stevens Rd\, Metropolitan YMCA (Lobby)\, Singapore 25785 \nAny amount is acceptable. Freewill offering is welcome. \nRegistration is required. \nSign up now
URL:https://www.brmc.org.sg/event/connect-seniors-brunch-connection-10/
ATTACH;FMTTYPE=image/jpeg:https://www.brmc.org.sg/wp-content/uploads/2023/07/Senior-Brunch_6-Oct_Weblisting.jpg
END:VEVENT
BEGIN:VEVENT
DTSTART;TZID=Asia/Singapore:20240405T200000
DTEND;TZID=Asia/Singapore:20240405T220000
DTSTAMP:20260425T063531
CREATED:20240403T062548Z
LAST-MODIFIED:20240403T062548Z
UID:6964-1712347200-1712354400@www.brmc.org.sg
SUMMARY:Youth Connect Group
DESCRIPTION:The Youth Connect Group meets weekly on Friday evenings (except on the Fridays before Holy Communion Sundays). \nTime: 8pm- 10pm\nVenue: Wesley Hall \nFollow our Youth Ministry on Instagram! 
URL:https://www.brmc.org.sg/event/youth-connect-group-22/
LOCATION:Wesley Hall
ATTACH;FMTTYPE=image/jpeg:https://www.brmc.org.sg/wp-content/uploads/2022/07/church-school-youths-e1667986685550.jpg
END:VEVENT
BEGIN:VEVENT
DTSTART;TZID=Asia/Singapore:20240406T060000
DTEND;TZID=Asia/Singapore:20240406T083000
DTSTAMP:20260425T063531
CREATED:20240324T042542Z
LAST-MODIFIED:20240326T052300Z
UID:7105-1712383200-1712392200@www.brmc.org.sg
SUMMARY:CONNECT- Emmaus Walk Men’s Fellowship
DESCRIPTION:Emmaus Walk Men’s Fellowship meets on Saturdays to encourage men\, whether singles\, husbands or fathers\, to be men after God’s heart. \nMen’s Prayer Sessions \n\nSaturdays\, 6am-7am\, Wesley Hall\n\nMen’s Fellowship Sessions \n\nSaturdays\, 7am-8.30am\, Wesley Hall\n\nFIND OUT MORE
URL:https://www.brmc.org.sg/event/connect-emmaus-walk-mens-fellowship-17/
ATTACH;FMTTYPE=image/jpeg:https://www.brmc.org.sg/wp-content/uploads/2023/06/EWALK-2.jpg
END:VEVENT
BEGIN:VEVENT
DTSTART;TZID=Asia/Singapore:20240413T060000
DTEND;TZID=Asia/Singapore:20240413T083000
DTSTAMP:20260425T063531
CREATED:20240326T040512Z
LAST-MODIFIED:20240326T040512Z
UID:7101-1712988000-1712997000@www.brmc.org.sg
SUMMARY:CONNECT- Emmaus Walk Men’s Fellowship
DESCRIPTION:Emmaus Walk Men’s Fellowship meets on Saturdays to encourage men\, whether singles\, husbands or fathers\, to be men after God’s heart. \nMen’s Prayer Sessions \n\nSaturdays\, 6am-7am\, Wesley Hall\n\nMen’s Fellowship Sessions \n\nSaturdays\, 7am-8.30am\, Wesley Hall\n\nFIND OUT MORE
URL:https://www.brmc.org.sg/event/connect-emmaus-walk-mens-fellowship-15/
ATTACH;FMTTYPE=image/jpeg:https://www.brmc.org.sg/wp-content/uploads/2023/06/EWALK-2.jpg
END:VEVENT
BEGIN:VEVENT
DTSTART;TZID=Asia/Singapore:20240417T153000
DTEND;TZID=Asia/Singapore:20240417T163000
DTSTAMP:20260425T063531
CREATED:20231220T030854Z
LAST-MODIFIED:20231220T030854Z
UID:6487-1713367800-1713371400@www.brmc.org.sg
SUMMARY:CONNECT - Seniors Chapel
DESCRIPTION:This is a time and place for us to personally draw near to God in His Sanctuary through songs\, prayers\, and guided meditation. \nDate: Wed\, 17 Apr 2024\nTime: 3.30pm – 4.30pm\nVenue: Wesley Hall \nNo registration is required. \n 
URL:https://www.brmc.org.sg/event/connect-seniors-chapel-10/
LOCATION:Wesley Hall
ATTACH;FMTTYPE=image/jpeg:https://www.brmc.org.sg/wp-content/uploads/2023/07/seniors-chapel.jpg
END:VEVENT
BEGIN:VEVENT
DTSTART;TZID=Asia/Singapore:20240419T200000
DTEND;TZID=Asia/Singapore:20240419T220000
DTSTAMP:20260425T063531
CREATED:20240403T062701Z
LAST-MODIFIED:20240403T062701Z
UID:7166-1713556800-1713564000@www.brmc.org.sg
SUMMARY:Youth Connect Group
DESCRIPTION:The Youth Connect Group meets weekly on Friday evenings (except on the Fridays before Holy Communion Sundays). \nTime: 8pm- 10pm\nVenue: Wesley Hall \nFollow our Youth Ministry on Instagram! 
URL:https://www.brmc.org.sg/event/youth-connect-group-23/
LOCATION:Wesley Hall
ATTACH;FMTTYPE=image/jpeg:https://www.brmc.org.sg/wp-content/uploads/2022/07/church-school-youths-e1667986685550.jpg
END:VEVENT
BEGIN:VEVENT
DTSTART;TZID=Asia/Singapore:20240420T060000
DTEND;TZID=Asia/Singapore:20240420T083000
DTSTAMP:20260425T063531
CREATED:20240326T042439Z
LAST-MODIFIED:20240326T042439Z
UID:7099-1713592800-1713601800@www.brmc.org.sg
SUMMARY:CONNECT- Emmaus Walk Men’s Fellowship
DESCRIPTION:Emmaus Walk Men’s Fellowship meets on Saturdays to encourage men\, whether singles\, husbands or fathers\, to be men after God’s heart. \nMen’s Prayer Sessions \n\nSaturdays\, 6am-7am\, Wesley Hall\n\nMen’s Fellowship Sessions \n\nSaturdays\, 7am-8.30am\, Wesley Hall\n\nFIND OUT MORE
URL:https://www.brmc.org.sg/event/connect-emmaus-walk-mens-fellowship-16/
ATTACH;FMTTYPE=image/jpeg:https://www.brmc.org.sg/wp-content/uploads/2023/06/EWALK-2.jpg
END:VEVENT
BEGIN:VEVENT
DTSTART;TZID=Asia/Singapore:20240420T140000
DTEND;TZID=Asia/Singapore:20240420T160000
DTSTAMP:20260425T063531
CREATED:20240117T011817Z
LAST-MODIFIED:20240117T011817Z
UID:6725-1713621600-1713628800@www.brmc.org.sg
SUMMARY:CONNECT - Shalom Dementia Care Fellowship
DESCRIPTION:Time: 2pm – 4pm\nVenue: Wesley Hall \nThe Shalom Dementia Care Fellowship is for those with dementia\, and their carers. \nIt usually runs on 3rd Saturdays of the month\, 2pm-4pm. \nAll are welcome. \nThe programme usually runs as follows: \n\nWelcome\nWorship\nScripture/Message\nExercise\nClosing\n\nRegistration is required. Please contact Chong Tian at the church office at 6256 4298. \nGet in touch \n\nThe CONNECT Seniors Ministry meets regularly to G.R.O.W. – Graciously Ripen\, Overflowing with Wisdom from Above. \nJoin us and embrace the joy of growth\, wisdom\, and community.
URL:https://www.brmc.org.sg/event/connect-shalom-dementia-care-fellowship-11/
ATTACH;FMTTYPE=image/jpeg:https://www.brmc.org.sg/wp-content/uploads/2023/07/dementia-care.jpeg
END:VEVENT
BEGIN:VEVENT
DTSTART;TZID=Asia/Singapore:20240426T200000
DTEND;TZID=Asia/Singapore:20240426T220000
DTSTAMP:20260425T063531
CREATED:20240403T062800Z
LAST-MODIFIED:20240403T062800Z
UID:7168-1714161600-1714168800@www.brmc.org.sg
SUMMARY:Youth Connect Group
DESCRIPTION:The Youth Connect Group meets weekly on Friday evenings (except on the Fridays before Holy Communion Sundays). \nTime: 8pm- 10pm\nVenue: Wesley Hall \nFollow our Youth Ministry on Instagram! 
URL:https://www.brmc.org.sg/event/youth-connect-group-24/
LOCATION:Wesley Hall
ATTACH;FMTTYPE=image/jpeg:https://www.brmc.org.sg/wp-content/uploads/2022/07/church-school-youths-e1667986685550.jpg
END:VEVENT
BEGIN:VEVENT
DTSTART;TZID=Asia/Singapore:20240427T060000
DTEND;TZID=Asia/Singapore:20240427T083000
DTSTAMP:20260425T063531
CREATED:20240326T042834Z
LAST-MODIFIED:20240326T044408Z
UID:7107-1714197600-1714206600@www.brmc.org.sg
SUMMARY:CONNECT- Emmaus Walk Men’s Fellowship
DESCRIPTION:Emmaus Walk Men’s Fellowship meets on Saturdays to encourage men\, whether singles\, husbands or fathers\, to be men after God’s heart. \nMen’s Prayer Sessions \n\nSaturdays\, 6am-7am\, Wesley Hall\n\nMen’s Fellowship Sessions \n\nSaturdays\, 7am-8.30am\, Wesley Hall\n\nFIND OUT MORE
URL:https://www.brmc.org.sg/event/connect-emmaus-walk-mens-fellowship-18/
ATTACH;FMTTYPE=image/jpeg:https://www.brmc.org.sg/wp-content/uploads/2023/06/EWALK-2.jpg
END:VEVENT
END:VCALENDAR