BEGIN:VCALENDAR
VERSION:2.0
PRODID:-//Barker Road Methodist Church - ECPv6.15.18//NONSGML v1.0//EN
CALSCALE:GREGORIAN
METHOD:PUBLISH
X-ORIGINAL-URL:https://www.brmc.org.sg
X-WR-CALDESC:Events for Barker Road Methodist Church
REFRESH-INTERVAL;VALUE=DURATION:PT1H
X-Robots-Tag:noindex
X-PUBLISHED-TTL:PT1H
BEGIN:VTIMEZONE
TZID:Asia/Singapore
BEGIN:STANDARD
TZOFFSETFROM:+0800
TZOFFSETTO:+0800
TZNAME:+08
DTSTART:20230101T000000
END:STANDARD
END:VTIMEZONE
BEGIN:VEVENT
DTSTART;TZID=Asia/Singapore:20240503T094500
DTEND;TZID=Asia/Singapore:20240503T120000
DTSTAMP:20260425T045354
CREATED:20240117T005819Z
LAST-MODIFIED:20240117T005819Z
UID:6704-1714729500-1714737600@www.brmc.org.sg
SUMMARY:CONNECT - Seniors Brunch Connection
DESCRIPTION:Join us at the monthly Brunch Connection for seniors and their caregivers. \nThis event offers a chance to G.R.O.W. (Gracefully Ripen\, Overflowing with Wisdom from God) by connecting and engaging in activities with like-minded individuals. \nCome and be a part of our community as we share stories\, offer support\, and encourage one another over brunch. \nWhether you are a regular attendee or a first-timer\, all are welcome. \nDate: Fri\, 3 May 2024\nTime: 9.45 am – 12 pm (Registration at 9.30 am)\nVenue: New Ubin Seafood  (@Metropolitan YMCA)\nAddress: 60 Stevens Rd\, Metropolitan YMCA (Lobby)\, Singapore 25785 \nAny amount is acceptable. Freewill offering is welcome. \nRegistration is required.
URL:https://www.brmc.org.sg/event/connect-seniors-brunch-connection-11/
ATTACH;FMTTYPE=image/jpeg:https://www.brmc.org.sg/wp-content/uploads/2023/07/Senior-Brunch_6-Oct_Weblisting.jpg
END:VEVENT
BEGIN:VEVENT
DTSTART;TZID=Asia/Singapore:20240504T060000
DTEND;TZID=Asia/Singapore:20240504T083000
DTSTAMP:20260425T045354
CREATED:20240326T052108Z
LAST-MODIFIED:20240326T052108Z
UID:7109-1714802400-1714811400@www.brmc.org.sg
SUMMARY:CONNECT- Emmaus Walk Men’s Fellowship
DESCRIPTION:Emmaus Walk Men’s Fellowship meets on Saturdays to encourage men\, whether singles\, husbands or fathers\, to be men after God’s heart. \nMen’s Prayer Sessions \n\nSaturdays\, 6am-7am\, Wesley Hall\n\nMen’s Fellowship Sessions \n\nSaturdays\, 7am-8.30am\, Wesley Hall\n\nFIND OUT MORE
URL:https://www.brmc.org.sg/event/connect-emmaus-walk-mens-fellowship-19/
ATTACH;FMTTYPE=image/jpeg:https://www.brmc.org.sg/wp-content/uploads/2023/06/EWALK-2.jpg
END:VEVENT
BEGIN:VEVENT
DTSTART;TZID=Asia/Singapore:20240510T200000
DTEND;TZID=Asia/Singapore:20240510T220000
DTSTAMP:20260425T045354
CREATED:20240403T062917Z
LAST-MODIFIED:20240403T062917Z
UID:7170-1715371200-1715378400@www.brmc.org.sg
SUMMARY:Youth Connect Group
DESCRIPTION:The Youth Connect Group meets weekly on Friday evenings (except on the Fridays before Holy Communion Sundays). \nTime: 8pm- 10pm\nVenue: Wesley Hall \nFollow our Youth Ministry on Instagram! 
URL:https://www.brmc.org.sg/event/youth-connect-group-25/
LOCATION:Wesley Hall
ATTACH;FMTTYPE=image/jpeg:https://www.brmc.org.sg/wp-content/uploads/2022/07/church-school-youths-e1667986685550.jpg
END:VEVENT
BEGIN:VEVENT
DTSTART;TZID=Asia/Singapore:20240511T060000
DTEND;TZID=Asia/Singapore:20240511T083000
DTSTAMP:20260425T045354
CREATED:20240326T052216Z
LAST-MODIFIED:20240326T052216Z
UID:7110-1715407200-1715416200@www.brmc.org.sg
SUMMARY:CONNECT- Emmaus Walk Men’s Fellowship
DESCRIPTION:Emmaus Walk Men’s Fellowship meets on Saturdays to encourage men\, whether singles\, husbands or fathers\, to be men after God’s heart. \nMen’s Prayer Sessions \n\nSaturdays\, 6am-7am\, Wesley Hall\n\nMen’s Fellowship Sessions \n\nSaturdays\, 7am-8.30am\, Wesley Hall\n\nFIND OUT MORE
URL:https://www.brmc.org.sg/event/connect-emmaus-walk-mens-fellowship-20/
ATTACH;FMTTYPE=image/jpeg:https://www.brmc.org.sg/wp-content/uploads/2023/06/EWALK-2.jpg
END:VEVENT
BEGIN:VEVENT
DTSTART;TZID=Asia/Singapore:20240515T153000
DTEND;TZID=Asia/Singapore:20240515T163000
DTSTAMP:20260425T045354
CREATED:20240117T004302Z
LAST-MODIFIED:20240117T004302Z
UID:6688-1715787000-1715790600@www.brmc.org.sg
SUMMARY:CONNECT - Seniors Chapel
DESCRIPTION:This is a time and place for us to personally draw near to God in His Sanctuary through songs\, prayers\, and guided meditation. \nDate: Wed\, 15 May 2024\nTime: 3.30pm – 4.30pm\nVenue: Wesley Hall \nNo registration is required. \n 
URL:https://www.brmc.org.sg/event/connect-seniors-chapel-11/
LOCATION:Wesley Hall
ATTACH;FMTTYPE=image/jpeg:https://www.brmc.org.sg/wp-content/uploads/2023/07/seniors-chapel.jpg
END:VEVENT
BEGIN:VEVENT
DTSTART;TZID=Asia/Singapore:20240517T200000
DTEND;TZID=Asia/Singapore:20240517T220000
DTSTAMP:20260425T045354
CREATED:20240403T063000Z
LAST-MODIFIED:20240403T063000Z
UID:7172-1715976000-1715983200@www.brmc.org.sg
SUMMARY:Youth Connect Group
DESCRIPTION:The Youth Connect Group meets weekly on Friday evenings (except on the Fridays before Holy Communion Sundays). \nTime: 8pm- 10pm\nVenue: Wesley Hall \nFollow our Youth Ministry on Instagram! 
URL:https://www.brmc.org.sg/event/youth-connect-group-26/
LOCATION:Wesley Hall
ATTACH;FMTTYPE=image/jpeg:https://www.brmc.org.sg/wp-content/uploads/2022/07/church-school-youths-e1667986685550.jpg
END:VEVENT
BEGIN:VEVENT
DTSTART;TZID=Asia/Singapore:20240518T060000
DTEND;TZID=Asia/Singapore:20240518T083000
DTSTAMP:20260425T045354
CREATED:20240326T052412Z
LAST-MODIFIED:20240326T052424Z
UID:7113-1716012000-1716021000@www.brmc.org.sg
SUMMARY:CONNECT- Emmaus Walk Men’s Fellowship
DESCRIPTION:Emmaus Walk Men’s Fellowship meets on Saturdays to encourage men\, whether singles\, husbands or fathers\, to be men after God’s heart. \nMen’s Prayer Sessions \n\nSaturdays\, 6am-7am\, Wesley Hall\n\nMen’s Fellowship Sessions \n\nSaturdays\, 7am-8.30am\, Wesley Hall\n\nFIND OUT MORE
URL:https://www.brmc.org.sg/event/connect-emmaus-walk-mens-fellowship-21/
ATTACH;FMTTYPE=image/jpeg:https://www.brmc.org.sg/wp-content/uploads/2023/06/EWALK-2.jpg
END:VEVENT
BEGIN:VEVENT
DTSTART;TZID=Asia/Singapore:20240518T140000
DTEND;TZID=Asia/Singapore:20240518T160000
DTSTAMP:20260425T045354
CREATED:20240117T012019Z
LAST-MODIFIED:20240117T012019Z
UID:6727-1716040800-1716048000@www.brmc.org.sg
SUMMARY:CONNECT - Shalom Dementia Care Fellowship
DESCRIPTION:Time: 2pm – 4pm\nVenue: Wesley Hall \nThe Shalom Dementia Care Fellowship is for those with dementia\, and their carers. \nIt usually runs on 3rd Saturdays of the month\, 2pm-4pm. \nAll are welcome. \nThe programme usually runs as follows: \n\nWelcome\nWorship\nScripture/Message\nExercise\nClosing\n\nRegistration is required. Please contact Chong Tian at the church office at 6256 4298. \nGet in touch \n\nThe CONNECT Seniors Ministry meets regularly to G.R.O.W. – Graciously Ripen\, Overflowing with Wisdom from Above. \nJoin us and embrace the joy of growth\, wisdom\, and community.
URL:https://www.brmc.org.sg/event/connect-shalom-dementia-care-fellowship-12/
ATTACH;FMTTYPE=image/jpeg:https://www.brmc.org.sg/wp-content/uploads/2023/07/dementia-care.jpeg
END:VEVENT
BEGIN:VEVENT
DTSTART;TZID=Asia/Singapore:20240524T200000
DTEND;TZID=Asia/Singapore:20240524T220000
DTSTAMP:20260425T045354
CREATED:20240403T063039Z
LAST-MODIFIED:20240403T063039Z
UID:7174-1716580800-1716588000@www.brmc.org.sg
SUMMARY:Youth Connect Group
DESCRIPTION:The Youth Connect Group meets weekly on Friday evenings (except on the Fridays before Holy Communion Sundays). \nTime: 8pm- 10pm\nVenue: Wesley Hall \nFollow our Youth Ministry on Instagram! 
URL:https://www.brmc.org.sg/event/youth-connect-group-27/
LOCATION:Wesley Hall
ATTACH;FMTTYPE=image/jpeg:https://www.brmc.org.sg/wp-content/uploads/2022/07/church-school-youths-e1667986685550.jpg
END:VEVENT
BEGIN:VEVENT
DTSTART;TZID=Asia/Singapore:20240525T060000
DTEND;TZID=Asia/Singapore:20240525T083000
DTSTAMP:20260425T045354
CREATED:20240326T052547Z
LAST-MODIFIED:20240521T053830Z
UID:7114-1716616800-1716625800@www.brmc.org.sg
SUMMARY:CONNECT- Emmaus Walk Men’s Fellowship
DESCRIPTION:Emmaus Walk Men’s Fellowship meets on Saturdays to encourage men\, whether singles\, husbands or fathers\, to be men after God’s heart. \nMen’s Prayer Sessions\nSaturdays\, 6am-7am\, Wesley Hall \nMen’s Fellowship Sessions\nSaturdays\, 7am-8.30am\, Wesley Hall \nFIND OUT MORE
URL:https://www.brmc.org.sg/event/connect-emmaus-walk-mens-fellowship-22/
END:VEVENT
END:VCALENDAR