BEGIN:VCALENDAR
VERSION:2.0
PRODID:-//Barker Road Methodist Church - ECPv6.15.18//NONSGML v1.0//EN
CALSCALE:GREGORIAN
METHOD:PUBLISH
X-ORIGINAL-URL:https://www.brmc.org.sg
X-WR-CALDESC:Events for Barker Road Methodist Church
REFRESH-INTERVAL;VALUE=DURATION:PT1H
X-Robots-Tag:noindex
X-PUBLISHED-TTL:PT1H
BEGIN:VTIMEZONE
TZID:Asia/Singapore
BEGIN:STANDARD
TZOFFSETFROM:+0800
TZOFFSETTO:+0800
TZNAME:+08
DTSTART:20230101T000000
END:STANDARD
END:VTIMEZONE
BEGIN:VEVENT
DTSTART;TZID=Asia/Singapore:20240705T094500
DTEND;TZID=Asia/Singapore:20240705T120000
DTSTAMP:20260425T014551
CREATED:20240117T010214Z
LAST-MODIFIED:20240625T034730Z
UID:6709-1720172700-1720180800@www.brmc.org.sg
SUMMARY:CONNECT - Seniors Brunch Connection
DESCRIPTION:Join us at the monthly Brunch Connection for seniors and their caregivers. \nThis event offers a chance to G.R.O.W. (Gracefully Ripen\, Overflowing with Wisdom from God) by connecting and engaging in activities with like-minded individuals. \nCome and be a part of our community as we share stories\, offer support\, and encourage one another over brunch. \nWhether you are a regular attendee or a first-timer\, all are welcome. \nDate: Fri\, 5 Jul 2024\nTime: 9.45 am – 12 pm (Registration at 9.30 am)\nVenue: New Ubin Seafood  (@Metropolitan YMCA)\nAddress: 60 Stevens Rd\, Metropolitan YMCA (Lobby)\, Singapore 25785 \nAny amount is acceptable. Freewill offering is welcome. \nRegistration is required. \nSign up now
URL:https://www.brmc.org.sg/event/connect-seniors-brunch-connection-13/
ATTACH;FMTTYPE=image/jpeg:https://www.brmc.org.sg/wp-content/uploads/2023/07/Senior-Brunch_6-Oct_Weblisting.jpg
END:VEVENT
BEGIN:VEVENT
DTSTART;TZID=Asia/Singapore:20240706T060000
DTEND;TZID=Asia/Singapore:20240706T083000
DTSTAMP:20260425T014551
CREATED:20240521T061337Z
LAST-MODIFIED:20240521T061337Z
UID:7420-1720245600-1720254600@www.brmc.org.sg
SUMMARY:CONNECT- Emmaus Walk Men’s Fellowship
DESCRIPTION:Emmaus Walk Men’s Fellowship meets on Saturdays to encourage men\, whether singles\, husbands or fathers\, to be men after God’s heart. \nMen’s Prayer Sessions\nSaturdays\, 6am-7am\, Wesley Hall \nMen’s Fellowship Sessions\nSaturdays\, 7am-8.30am\, Wesley Hall \nFIND OUT MORE
URL:https://www.brmc.org.sg/event/connect-emmaus-walk-mens-fellowship-27/
END:VEVENT
BEGIN:VEVENT
DTSTART;VALUE=DATE:20240712
DTEND;VALUE=DATE:20240715
DTSTAMP:20260425T014551
CREATED:20240405T120119Z
LAST-MODIFIED:20240712T022304Z
UID:7232-1720742400-1721001599@www.brmc.org.sg
SUMMARY:CONNECT - Young Adults Ministry Retreat
DESCRIPTION:Dates: 12 – 14 Jul\, 2024 \nVenue: Holiday Villa\, JB\, Malaysia \nGod has placed each of us on our own unique journey and path in life. But oftentimes\, we struggle along the way due to many circumstances – distractions\, tough terrain\, losing sight of the final destination. These moments\, the ones that we are lost and are trying to seek God\, are what we call crossroads. \nThis begs a few questions: What kind of crossroads are there? What should you do when you face crossroads? What crossroads are other people facing? How does God direct our paths? Why should we obey God along these paths? \nCome join us at YAM Retreat 2024 as we explore these questions\, working out our own walks with God and also journeying with others as we run towards Him more and more! \nRegistration is closed.
URL:https://www.brmc.org.sg/event/connect-young-adults-ministry-retreat-2/
ATTACH;FMTTYPE=image/jpeg:https://www.brmc.org.sg/wp-content/uploads/2024/04/web-listing.jpg
END:VEVENT
BEGIN:VEVENT
DTSTART;TZID=Asia/Singapore:20240712T200000
DTEND;TZID=Asia/Singapore:20240712T220000
DTSTAMP:20260425T014551
CREATED:20240403T063557Z
LAST-MODIFIED:20240403T063557Z
UID:7184-1720814400-1720821600@www.brmc.org.sg
SUMMARY:Youth Connect Group
DESCRIPTION:The Youth Connect Group meets weekly on Friday evenings (except on the Fridays before Holy Communion Sundays). \nTime: 8pm- 10pm\nVenue: Wesley Hall \nFollow our Youth Ministry on Instagram! 
URL:https://www.brmc.org.sg/event/youth-connect-group-32/
LOCATION:Wesley Hall
ATTACH;FMTTYPE=image/jpeg:https://www.brmc.org.sg/wp-content/uploads/2022/07/church-school-youths-e1667986685550.jpg
END:VEVENT
BEGIN:VEVENT
DTSTART;TZID=Asia/Singapore:20240713T060000
DTEND;TZID=Asia/Singapore:20240713T083000
DTSTAMP:20260425T014551
CREATED:20240605T025954Z
LAST-MODIFIED:20240605T025954Z
UID:7499-1720850400-1720859400@www.brmc.org.sg
SUMMARY:CONNECT- Emmaus Walk Men’s Fellowship
DESCRIPTION:Emmaus Walk Men’s Fellowship meets on Saturdays to encourage men\, whether singles\, husbands or fathers\, to be men after God’s heart. \nMen’s Prayer Sessions\nSaturdays\, 6am-7am\, Wesley Hall \nMen’s Fellowship Sessions\nSaturdays\, 7am-8.30am\, Wesley Hall \nFIND OUT MORE
URL:https://www.brmc.org.sg/event/connect-emmaus-walk-mens-fellowship-28/
END:VEVENT
BEGIN:VEVENT
DTSTART;TZID=Asia/Singapore:20240717T153000
DTEND;TZID=Asia/Singapore:20240717T163000
DTSTAMP:20260425T014551
CREATED:20240117T004508Z
LAST-MODIFIED:20240117T004508Z
UID:6692-1721230200-1721233800@www.brmc.org.sg
SUMMARY:CONNECT - Seniors Chapel
DESCRIPTION:This is a time and place for us to personally draw near to God in His Sanctuary through songs\, prayers\, and guided meditation. \nDate: Wed\, 17 Jul 2024\nTime: 3.30pm – 4.30pm\nVenue: Wesley Hall \nNo registration is required. \n 
URL:https://www.brmc.org.sg/event/connect-seniors-chapel-13/
LOCATION:Wesley Hall
ATTACH;FMTTYPE=image/jpeg:https://www.brmc.org.sg/wp-content/uploads/2023/07/seniors-chapel.jpg
END:VEVENT
BEGIN:VEVENT
DTSTART;TZID=Asia/Singapore:20240719T200000
DTEND;TZID=Asia/Singapore:20240719T220000
DTSTAMP:20260425T014551
CREATED:20240403T063638Z
LAST-MODIFIED:20240403T064628Z
UID:7186-1721419200-1721426400@www.brmc.org.sg
SUMMARY:Youth Connect Group
DESCRIPTION:The Youth Connect Group meets weekly on Friday evenings (except on the Fridays before Holy Communion Sundays). \nTime: 8pm- 10pm\nVenue: Wesley Hall \nFollow our Youth Ministry on Instagram! 
URL:https://www.brmc.org.sg/event/youth-connect-group-33/
LOCATION:Wesley Hall
ATTACH;FMTTYPE=image/jpeg:https://www.brmc.org.sg/wp-content/uploads/2022/07/church-school-youths-e1667986685550.jpg
END:VEVENT
BEGIN:VEVENT
DTSTART;TZID=Asia/Singapore:20240720T060000
DTEND;TZID=Asia/Singapore:20240720T083000
DTSTAMP:20260425T014551
CREATED:20240605T030143Z
LAST-MODIFIED:20240605T030143Z
UID:7501-1721455200-1721464200@www.brmc.org.sg
SUMMARY:CONNECT- Emmaus Walk Men’s Fellowship
DESCRIPTION:Emmaus Walk Men’s Fellowship meets on Saturdays to encourage men\, whether singles\, husbands or fathers\, to be men after God’s heart. \nMen’s Prayer Sessions\nSaturdays\, 6am-7am\, Wesley Hall \nMen’s Fellowship Sessions\nSaturdays\, 7am-8.30am\, Wesley Hall \nFIND OUT MORE
URL:https://www.brmc.org.sg/event/connect-emmaus-walk-mens-fellowship-29/
END:VEVENT
BEGIN:VEVENT
DTSTART;TZID=Asia/Singapore:20240720T140000
DTEND;TZID=Asia/Singapore:20240720T160000
DTSTAMP:20260425T014551
CREATED:20240117T012556Z
LAST-MODIFIED:20240117T012556Z
UID:6743-1721484000-1721491200@www.brmc.org.sg
SUMMARY:CONNECT - Shalom Dementia Care Fellowship
DESCRIPTION:Time: 2pm – 4pm\nVenue: Wesley Hall \nThe Shalom Dementia Care Fellowship is for those with dementia\, and their carers. \nIt usually runs on 3rd Saturdays of the month\, 2pm-4pm. \nAll are welcome. \nThe programme usually runs as follows: \n\nWelcome\nWorship\nScripture/Message\nExercise\nClosing\n\nRegistration is required. Please contact Chong Tian at the church office at 6256 4298. \nGet in touch \n\nThe CONNECT Seniors Ministry meets regularly to G.R.O.W. – Graciously Ripen\, Overflowing with Wisdom from Above. \nJoin us and embrace the joy of growth\, wisdom\, and community.
URL:https://www.brmc.org.sg/event/connect-shalom-dementia-care-fellowship-19/
ATTACH;FMTTYPE=image/jpeg:https://www.brmc.org.sg/wp-content/uploads/2023/07/dementia-care.jpeg
END:VEVENT
BEGIN:VEVENT
DTSTART;TZID=Asia/Singapore:20240720T140000
DTEND;TZID=Asia/Singapore:20240720T170000
DTSTAMP:20260425T014551
CREATED:20240515T081325Z
LAST-MODIFIED:20240701T084851Z
UID:7378-1721484000-1721494800@www.brmc.org.sg
SUMMARY:EQUIP - Discipleship 101: Prayer
DESCRIPTION:Prayer is two-way communication with God our Father\, which is essential in every Christian’s life. \nPerhaps you are a new believer\, or you have been a Christian for a while – You find it hard to make time to pray\, or you can’t seem to find the words to say when you want to pray. Don’t worry\, you are not alone. \nThis 3-hour workshop is designed to help you learn to pray more regularly and fruitfully. During the session\, we will not just teach you but we will practice together! \nYou will learn: \n• What is prayer and why we need to pray\n• Types of prayers\n• How to pray in response to God’s word \nRegister  \nRegistration closes 17 Jul 2024.  \nThis workshop is part of Discipleship 101 – a basic programme comprising three 3-hour workshops on Devotional Life\, Prayer and the Bible – for new believers and long-time believers looking to reset their spiritual growth and build a personal connection with God.
URL:https://www.brmc.org.sg/event/discipleship-101-prayer/
LOCATION:L1 Music Room
ATTACH;FMTTYPE=image/png:https://www.brmc.org.sg/wp-content/uploads/2024/05/Web_D101EW.png
END:VEVENT
BEGIN:VEVENT
DTSTART;TZID=Asia/Singapore:20240726T200000
DTEND;TZID=Asia/Singapore:20240726T220000
DTSTAMP:20260425T014551
CREATED:20240403T063724Z
LAST-MODIFIED:20240403T064713Z
UID:7189-1722024000-1722031200@www.brmc.org.sg
SUMMARY:Youth Connect Group
DESCRIPTION:The Youth Connect Group meets weekly on Friday evenings (except on the Fridays before Holy Communion Sundays). \nTime: 8pm- 10pm\nVenue: Wesley Hall \nFollow our Youth Ministry on Instagram! 
URL:https://www.brmc.org.sg/event/youth-connect-group-34/
LOCATION:Wesley Hall
ATTACH;FMTTYPE=image/jpeg:https://www.brmc.org.sg/wp-content/uploads/2022/07/church-school-youths-e1667986685550.jpg
END:VEVENT
BEGIN:VEVENT
DTSTART;TZID=Asia/Singapore:20240727T060000
DTEND;TZID=Asia/Singapore:20240727T083000
DTSTAMP:20260425T014551
CREATED:20240605T030231Z
LAST-MODIFIED:20240605T030231Z
UID:7503-1722060000-1722069000@www.brmc.org.sg
SUMMARY:CONNECT- Emmaus Walk Men’s Fellowship
DESCRIPTION:Emmaus Walk Men’s Fellowship meets on Saturdays to encourage men\, whether singles\, husbands or fathers\, to be men after God’s heart. \nMen’s Prayer Sessions\nSaturdays\, 6am-7am\, Wesley Hall \nMen’s Fellowship Sessions\nSaturdays\, 7am-8.30am\, Wesley Hall \nFIND OUT MORE
URL:https://www.brmc.org.sg/event/connect-emmaus-walk-mens-fellowship-30/
END:VEVENT
END:VCALENDAR