BEGIN:VCALENDAR
VERSION:2.0
PRODID:-//Barker Road Methodist Church - ECPv6.15.18//NONSGML v1.0//EN
CALSCALE:GREGORIAN
METHOD:PUBLISH
X-ORIGINAL-URL:https://www.brmc.org.sg
X-WR-CALDESC:Events for Barker Road Methodist Church
REFRESH-INTERVAL;VALUE=DURATION:PT1H
X-Robots-Tag:noindex
X-PUBLISHED-TTL:PT1H
BEGIN:VTIMEZONE
TZID:Asia/Singapore
BEGIN:STANDARD
TZOFFSETFROM:+0800
TZOFFSETTO:+0800
TZNAME:+08
DTSTART:20230101T000000
END:STANDARD
END:VTIMEZONE
BEGIN:VEVENT
DTSTART;TZID=Asia/Singapore:20240906T094500
DTEND;TZID=Asia/Singapore:20240906T120000
DTSTAMP:20260424T225907
CREATED:20240117T010523Z
LAST-MODIFIED:20240902T021049Z
UID:6713-1725615900-1725624000@www.brmc.org.sg
SUMMARY:CONNECT - Seniors Brunch Connection
DESCRIPTION:Join us at the monthly Brunch Connection for seniors and their caregivers. \nThis event offers a chance to G.R.O.W. (Gracefully Ripen\, Overflowing with Wisdom from God) by connecting and engaging in activities with like-minded individuals. \nCome and be a part of our community as we share stories\, offer support\, and encourage one another over brunch. \nWhether you are a regular attendee or a first-timer\, all are welcome. \nDate: Fri\, 6 Sep 2024\nTime: 9.45 am – 12 pm (Registration at 9.30 am)\nVenue: New Ubin Seafood  (@Metropolitan YMCA)\nAddress: 60 Stevens Rd\, Metropolitan YMCA (Lobby)\, Singapore 25785 \nAny amount is acceptable. Freewill offering is welcome. \nRegistration is required. \nSign up now
URL:https://www.brmc.org.sg/event/connect-seniors-brunch-connection-15/
ATTACH;FMTTYPE=image/jpeg:https://www.brmc.org.sg/wp-content/uploads/2023/07/Senior-Brunch_6-Oct_Weblisting.jpg
END:VEVENT
BEGIN:VEVENT
DTSTART;TZID=Asia/Singapore:20240906T200000
DTEND;TZID=Asia/Singapore:20240906T220000
DTSTAMP:20260424T225907
CREATED:20240403T064213Z
LAST-MODIFIED:20240403T064213Z
UID:7195-1725652800-1725660000@www.brmc.org.sg
SUMMARY:Youth Connect Group
DESCRIPTION:The Youth Connect Group meets weekly on Friday evenings (except on the Fridays before Holy Communion Sundays). \nTime: 8pm- 10pm\nVenue: Wesley Hall \nFollow our Youth Ministry on Instagram! 
URL:https://www.brmc.org.sg/event/youth-connect-group-37/
LOCATION:Wesley Hall
ATTACH;FMTTYPE=image/jpeg:https://www.brmc.org.sg/wp-content/uploads/2022/07/church-school-youths-e1667986685550.jpg
END:VEVENT
BEGIN:VEVENT
DTSTART;TZID=Asia/Singapore:20240907T060000
DTEND;TZID=Asia/Singapore:20240907T083000
DTSTAMP:20260424T225907
CREATED:20240605T030944Z
LAST-MODIFIED:20240605T030944Z
UID:7513-1725688800-1725697800@www.brmc.org.sg
SUMMARY:CONNECT- Emmaus Walk Men’s Fellowship
DESCRIPTION:Emmaus Walk Men’s Fellowship meets on Saturdays to encourage men\, whether singles\, husbands or fathers\, to be men after God’s heart. \nMen’s Prayer Sessions\nSaturdays\, 6am-7am\, Wesley Hall \nMen’s Fellowship Sessions\nSaturdays\, 7am-8.30am\, Wesley Hall \nFIND OUT MORE
URL:https://www.brmc.org.sg/event/connect-emmaus-walk-mens-fellowship-35/
END:VEVENT
BEGIN:VEVENT
DTSTART;TZID=Asia/Singapore:20240913T200000
DTEND;TZID=Asia/Singapore:20240913T220000
DTSTAMP:20260424T225907
CREATED:20240403T064242Z
LAST-MODIFIED:20240403T064242Z
UID:7197-1726257600-1726264800@www.brmc.org.sg
SUMMARY:Youth Connect Group
DESCRIPTION:The Youth Connect Group meets weekly on Friday evenings (except on the Fridays before Holy Communion Sundays). \nTime: 8pm- 10pm\nVenue: Wesley Hall \nFollow our Youth Ministry on Instagram! 
URL:https://www.brmc.org.sg/event/youth-connect-group-38/
LOCATION:Wesley Hall
ATTACH;FMTTYPE=image/jpeg:https://www.brmc.org.sg/wp-content/uploads/2022/07/church-school-youths-e1667986685550.jpg
END:VEVENT
BEGIN:VEVENT
DTSTART;TZID=Asia/Singapore:20240914T060000
DTEND;TZID=Asia/Singapore:20240914T083000
DTSTAMP:20260424T225907
CREATED:20240605T031628Z
LAST-MODIFIED:20240605T031628Z
UID:7515-1726293600-1726302600@www.brmc.org.sg
SUMMARY:CONNECT- Emmaus Walk Men’s Fellowship
DESCRIPTION:Emmaus Walk Men’s Fellowship meets on Saturdays to encourage men\, whether singles\, husbands or fathers\, to be men after God’s heart. \nMen’s Prayer Sessions\nSaturdays\, 6am-7am\, Wesley Hall \nMen’s Fellowship Sessions\nSaturdays\, 7am-8.30am\, Wesley Hall \nFIND OUT MORE
URL:https://www.brmc.org.sg/event/connect-emmaus-walk-mens-fellowship-36/
END:VEVENT
BEGIN:VEVENT
DTSTART;TZID=Asia/Singapore:20240914T100000
DTEND;TZID=Asia/Singapore:20240914T120000
DTSTAMP:20260424T225907
CREATED:20240802T071548Z
LAST-MODIFIED:20240902T021740Z
UID:7803-1726308000-1726315200@www.brmc.org.sg
SUMMARY:CONNECT - Caregivers' Training (Session 1/7)
DESCRIPTION:This is a 7-week training by the Caregivers Alliance from 14 Sep 2024 to 26 Oct 2024. \nAt these weekly training sessions\, we will go deeper into each topic and provide handles on how to cope with caregiving and better understand our loved ones. \nTopics covered: \n1. Introduction to Dementia\n2. Understanding Dementia\n3. The Brain and Treatment\n4. Empathy and Compassion\n5. Communication\n6. Self Care\n7. Home Care for Persons with Dementia \nWho should attend? \nThe talk and training are primarily for current caregivers of loved ones with dementia. \nIf you are a volunteer who is interested in finding out more\, please contact Chong Tian at the church office at 6256 4298. \nImpact of caregiving \nMost care recipients are either the caregiver’s parent (60%) or spouse (36%). It is painful for every caregiver to see their parents or spouse becoming frail in their older years (over 80% are over 80 years old)\, needing increasing medical care. \nAccording to the WISE study in 2015\, over 33% of seniors over 80 years old have dementia. Caregivers to older seniors need support to cope with caregiving for loved ones with dementia. \nWho will support our caregivers? \nJesus calls us to love God with all of ourselves and to love others. He calls loving and caring the “least of them” as loving and caring for Him. \n“And the king will answer them\, ‘Truly I tell you\, just as you did it to one of the least of these who are members of my family\, you did it to me.” – Matthew 25:40 (NRSV) \nFor most of us\, these are the “least of them” Jesus has called us to love and care — our parents\, our spouses\, and siblings. They are “least” because they need “help in personal care\, performing tasks inside or outside the home\, and arranging for transportation and medical care to deal with a range of health problems\, illnesses or disabilities.” \nOur Lord calls His church to support our caregivers: \n“Blessed be the God and Father of our Lord Jesus Christ\, the Father of mercies and the God of all consolation\, who consoles us in all our affliction\, so that we may be able to console those who are in any affliction with the consolation with which we ourselves are consoled by God.” – 2 Corinthians 1:3–4 (NRSV) \nSign up now \nGet in touch \n\nThe CONNECT Seniors Ministry meets regularly to G.R.O.W. – Graciously Ripen\, Overflowing with Wisdom from Above. \nJoin us and embrace the joy of growth\, wisdom\, and community.
URL:https://www.brmc.org.sg/event/connect-caregivers-training-session-1-8/
ATTACH;FMTTYPE=image/png:https://www.brmc.org.sg/wp-content/uploads/2024/08/WEB_Caregivers-Training.png
END:VEVENT
BEGIN:VEVENT
DTSTART;TZID=Asia/Singapore:20240918T153000
DTEND;TZID=Asia/Singapore:20240918T163000
DTSTAMP:20260424T225907
CREATED:20240117T004706Z
LAST-MODIFIED:20240117T004706Z
UID:6696-1726673400-1726677000@www.brmc.org.sg
SUMMARY:CONNECT - Seniors Chapel
DESCRIPTION:This is a time and place for us to personally draw near to God in His Sanctuary through songs\, prayers\, and guided meditation. \nDate: Wed\, 18 Sep 2024\nTime: 3.30pm – 4.30pm\nVenue: Wesley Hall \nNo registration is required. \n 
URL:https://www.brmc.org.sg/event/connect-seniors-chapel-15/
LOCATION:Wesley Hall
ATTACH;FMTTYPE=image/jpeg:https://www.brmc.org.sg/wp-content/uploads/2023/07/seniors-chapel.jpg
END:VEVENT
BEGIN:VEVENT
DTSTART;TZID=Asia/Singapore:20240920T200000
DTEND;TZID=Asia/Singapore:20240920T220000
DTSTAMP:20260424T225907
CREATED:20240403T064318Z
LAST-MODIFIED:20240403T064318Z
UID:7199-1726862400-1726869600@www.brmc.org.sg
SUMMARY:Youth Connect Group
DESCRIPTION:The Youth Connect Group meets weekly on Friday evenings (except on the Fridays before Holy Communion Sundays). \nTime: 8pm- 10pm\nVenue: Wesley Hall \nFollow our Youth Ministry on Instagram! 
URL:https://www.brmc.org.sg/event/youth-connect-group-39/
LOCATION:Wesley Hall
ATTACH;FMTTYPE=image/jpeg:https://www.brmc.org.sg/wp-content/uploads/2022/07/church-school-youths-e1667986685550.jpg
END:VEVENT
BEGIN:VEVENT
DTSTART;TZID=Asia/Singapore:20240921T060000
DTEND;TZID=Asia/Singapore:20240921T083000
DTSTAMP:20260424T225907
CREATED:20240605T031734Z
LAST-MODIFIED:20240605T031734Z
UID:7517-1726898400-1726907400@www.brmc.org.sg
SUMMARY:CONNECT- Emmaus Walk Men’s Fellowship
DESCRIPTION:Emmaus Walk Men’s Fellowship meets on Saturdays to encourage men\, whether singles\, husbands or fathers\, to be men after God’s heart. \nMen’s Prayer Sessions\nSaturdays\, 6am-7am\, Wesley Hall \nMen’s Fellowship Sessions\nSaturdays\, 7am-8.30am\, Wesley Hall \nFIND OUT MORE
URL:https://www.brmc.org.sg/event/connect-emmaus-walk-mens-fellowship-37/
END:VEVENT
BEGIN:VEVENT
DTSTART;TZID=Asia/Singapore:20240921T100000
DTEND;TZID=Asia/Singapore:20240921T120000
DTSTAMP:20260424T225907
CREATED:20240802T071719Z
LAST-MODIFIED:20240828T093328Z
UID:7818-1726912800-1726920000@www.brmc.org.sg
SUMMARY:CONNECT - Caregivers' Training (Session 2/7)
DESCRIPTION:This is a 7-week training by the Caregivers Alliance from 14 Sep 2024 to 26 Oct 2024. \nAt these weekly training sessions\, we will go deeper into each topic and provide handles on how to cope with caregiving and better understand our loved ones. \nTopics covered: \n1. Introduction to Dementia\n2. Understanding Dementia\n3. The Brain and Treatment\n4. Empathy and Compassion\n5. Communication\n6. Self Care\n7. Home Care for Persons with Dementia \nWho should attend? \nThe talk and training are primarily for current caregivers of loved ones with dementia. \nIf you are a volunteer who is interested in finding out more\, please contact Chong Tian at the church office at 6256 4298. \nImpact of caregiving \nMost care recipients are either the caregiver’s parent (60%) or spouse (36%). It is painful for every caregiver to see their parents or spouse becoming frail in their older years (over 80% are over 80 years old)\, needing increasing medical care. \nAccording to the WISE study in 2015\, over 33% of seniors over 80 years old have dementia. Caregivers to older seniors need support to cope with caregiving for loved ones with dementia. \nWho will support our caregivers? \nJesus calls us to love God with all of ourselves and to love others. He calls loving and caring the “least of them” as loving and caring for Him. \n“And the king will answer them\, ‘Truly I tell you\, just as you did it to one of the least of these who are members of my family\, you did it to me.” – Matthew 25:40 (NRSV) \nFor most of us\, these are the “least of them” Jesus has called us to love and care — our parents\, our spouses\, and siblings. They are “least” because they need “help in personal care\, performing tasks inside or outside the home\, and arranging for transportation and medical care to deal with a range of health problems\, illnesses or disabilities.” \nOur Lord calls His church to support our caregivers: \n“Blessed be the God and Father of our Lord Jesus Christ\, the Father of mercies and the God of all consolation\, who consoles us in all our affliction\, so that we may be able to console those who are in any affliction with the consolation with which we ourselves are consoled by God.” – 2 Corinthians 1:3–4 (NRSV) \nGet in touch \n\nThe CONNECT Seniors Ministry meets regularly to G.R.O.W. – Graciously Ripen\, Overflowing with Wisdom from Above. \nJoin us and embrace the joy of growth\, wisdom\, and community.
URL:https://www.brmc.org.sg/event/connect-caregivers-training-session-2-8/
ATTACH;FMTTYPE=image/png:https://www.brmc.org.sg/wp-content/uploads/2024/08/WEB_Caregivers-Training.png
END:VEVENT
BEGIN:VEVENT
DTSTART;TZID=Asia/Singapore:20240921T140000
DTEND;TZID=Asia/Singapore:20240921T160000
DTSTAMP:20260424T225907
CREATED:20240117T012234Z
LAST-MODIFIED:20240117T012234Z
UID:6735-1726927200-1726934400@www.brmc.org.sg
SUMMARY:CONNECT - Shalom Dementia Care Fellowship
DESCRIPTION:Time: 2pm – 4pm\nVenue: Wesley Hall \nThe Shalom Dementia Care Fellowship is for those with dementia\, and their carers. \nIt usually runs on 3rd Saturdays of the month\, 2pm-4pm. \nAll are welcome. \nThe programme usually runs as follows: \n\nWelcome\nWorship\nScripture/Message\nExercise\nClosing\n\nRegistration is required. Please contact Chong Tian at the church office at 6256 4298. \nGet in touch \n\nThe CONNECT Seniors Ministry meets regularly to G.R.O.W. – Graciously Ripen\, Overflowing with Wisdom from Above. \nJoin us and embrace the joy of growth\, wisdom\, and community.
URL:https://www.brmc.org.sg/event/connect-shalom-dementia-care-fellowship-15/
ATTACH;FMTTYPE=image/jpeg:https://www.brmc.org.sg/wp-content/uploads/2023/07/dementia-care.jpeg
END:VEVENT
BEGIN:VEVENT
DTSTART;TZID=Asia/Singapore:20240921T140000
DTEND;TZID=Asia/Singapore:20240921T170000
DTSTAMP:20260424T225907
CREATED:20240724T085140Z
LAST-MODIFIED:20240806T023852Z
UID:7738-1726927200-1726938000@www.brmc.org.sg
SUMMARY:EQUIP - Discipleship 101: The Bible
DESCRIPTION:“All Scripture is God-breathed and is useful for teaching\, rebuking\, correcting and training in righteousness\, so that the servant of God may be thoroughly equipped for every good work.” — 2 Timothy 3:16-17 NIV \nThis three-hour interactive workshop is designed for new believers and those who have never read the Bible on their own. \nThe goal is for participants to gain confidence to start reading the Bible. \nParticipants will learn: \n• Why the Bible is essential to Christian life\n• What are the different books in the Bible and a quick overview\n• How we can interact with the Bible\n• Where to start reading the Bible \nRegister  \nRegistration closes 17 Sep 2024.  \nThis workshop is part of Discipleship 101 – a basic programme comprising three 3-hour workshops on Devotional Life\, Prayer and the Bible – for new believers and long-time believers looking to reset their spiritual growth and build a personal connection with God.
URL:https://www.brmc.org.sg/event/equip-discipleship-101-bible/
LOCATION:L1 Conference Room
ATTACH;FMTTYPE=image/png:https://www.brmc.org.sg/wp-content/uploads/2024/05/Web_D101EW.png
END:VEVENT
BEGIN:VEVENT
DTSTART;TZID=Asia/Singapore:20240927T200000
DTEND;TZID=Asia/Singapore:20240927T220000
DTSTAMP:20260424T225907
CREATED:20240403T064348Z
LAST-MODIFIED:20240403T064348Z
UID:7201-1727467200-1727474400@www.brmc.org.sg
SUMMARY:Youth Connect Group
DESCRIPTION:The Youth Connect Group meets weekly on Friday evenings (except on the Fridays before Holy Communion Sundays). \nTime: 8pm- 10pm\nVenue: Wesley Hall \nFollow our Youth Ministry on Instagram! 
URL:https://www.brmc.org.sg/event/youth-connect-group-40/
LOCATION:Wesley Hall
ATTACH;FMTTYPE=image/jpeg:https://www.brmc.org.sg/wp-content/uploads/2022/07/church-school-youths-e1667986685550.jpg
END:VEVENT
BEGIN:VEVENT
DTSTART;TZID=Asia/Singapore:20240928T060000
DTEND;TZID=Asia/Singapore:20240928T083000
DTSTAMP:20260424T225907
CREATED:20240605T031835Z
LAST-MODIFIED:20240605T031835Z
UID:7519-1727503200-1727512200@www.brmc.org.sg
SUMMARY:CONNECT- Emmaus Walk Men’s Fellowship
DESCRIPTION:Emmaus Walk Men’s Fellowship meets on Saturdays to encourage men\, whether singles\, husbands or fathers\, to be men after God’s heart. \nMen’s Prayer Sessions\nSaturdays\, 6am-7am\, Wesley Hall \nMen’s Fellowship Sessions\nSaturdays\, 7am-8.30am\, Wesley Hall \nFIND OUT MORE
URL:https://www.brmc.org.sg/event/connect-emmaus-walk-mens-fellowship-38/
END:VEVENT
BEGIN:VEVENT
DTSTART;TZID=Asia/Singapore:20240928T100000
DTEND;TZID=Asia/Singapore:20240928T120000
DTSTAMP:20260424T225907
CREATED:20240802T071755Z
LAST-MODIFIED:20240828T093439Z
UID:7820-1727517600-1727524800@www.brmc.org.sg
SUMMARY:CONNECT - Caregivers' Training (Session 3/7)
DESCRIPTION:This is a 7-week training by the Caregivers Alliance from 14 Sep 2024 to 26 Oct 2024. \nAt these weekly training sessions\, we will go deeper into each topic and provide handles on how to cope with caregiving and better understand our loved ones. \nTopics covered: \n1. Introduction to Dementia\n2. Understanding Dementia\n3. The Brain and Treatment\n4. Empathy and Compassion\n5. Communication\n6. Self Care\n7. Home Care for Persons with Dementia \nWho should attend? \nThe talk and training are primarily for current caregivers of loved ones with dementia. \nIf you are a volunteer who is interested in finding out more\, please contact Chong Tian at the church office at 6256 4298. \nImpact of caregiving \nMost care recipients are either the caregiver’s parent (60%) or spouse (36%). It is painful for every caregiver to see their parents or spouse becoming frail in their older years (over 80% are over 80 years old)\, needing increasing medical care. \nAccording to the WISE study in 2015\, over 33% of seniors over 80 years old have dementia. Caregivers to older seniors need support to cope with caregiving for loved ones with dementia. \nWho will support our caregivers? \nJesus calls us to love God with all of ourselves and to love others. He calls loving and caring the “least of them” as loving and caring for Him. \n“And the king will answer them\, ‘Truly I tell you\, just as you did it to one of the least of these who are members of my family\, you did it to me.” – Matthew 25:40 (NRSV) \nFor most of us\, these are the “least of them” Jesus has called us to love and care — our parents\, our spouses\, and siblings. They are “least” because they need “help in personal care\, performing tasks inside or outside the home\, and arranging for transportation and medical care to deal with a range of health problems\, illnesses or disabilities.” \nOur Lord calls His church to support our caregivers: \n“Blessed be the God and Father of our Lord Jesus Christ\, the Father of mercies and the God of all consolation\, who consoles us in all our affliction\, so that we may be able to console those who are in any affliction with the consolation with which we ourselves are consoled by God.” – 2 Corinthians 1:3–4 (NRSV) \nGet in touch \n\nThe CONNECT Seniors Ministry meets regularly to G.R.O.W. – Graciously Ripen\, Overflowing with Wisdom from Above. \nJoin us and embrace the joy of growth\, wisdom\, and community.
URL:https://www.brmc.org.sg/event/connect-caregivers-training-session-3-8/
ATTACH;FMTTYPE=image/png:https://www.brmc.org.sg/wp-content/uploads/2024/08/WEB_Caregivers-Training.png
END:VEVENT
END:VCALENDAR