BEGIN:VCALENDAR
VERSION:2.0
PRODID:-//Barker Road Methodist Church - ECPv6.15.18//NONSGML v1.0//EN
CALSCALE:GREGORIAN
METHOD:PUBLISH
X-WR-CALNAME:Barker Road Methodist Church
X-ORIGINAL-URL:https://www.brmc.org.sg
X-WR-CALDESC:Events for Barker Road Methodist Church
REFRESH-INTERVAL;VALUE=DURATION:PT1H
X-Robots-Tag:noindex
X-PUBLISHED-TTL:PT1H
BEGIN:VTIMEZONE
TZID:Asia/Singapore
BEGIN:STANDARD
TZOFFSETFROM:+0800
TZOFFSETTO:+0800
TZNAME:+08
DTSTART:20230101T000000
END:STANDARD
END:VTIMEZONE
BEGIN:VEVENT
DTSTART;VALUE=DATE:20241207
DTEND;VALUE=DATE:20250421
DTSTAMP:20260424T131246
CREATED:20250116T040035Z
LAST-MODIFIED:20250304T085336Z
UID:8520-1733529600-1745193599@www.brmc.org.sg
SUMMARY:Connect Experience (18 Jan - 20 Apr 2025)
DESCRIPTION:The Connect Experience (CE) exercise will run again from this January to encourage everyone to commit\, or re-commit\, to a Connect Group (CG). \nCE’25 will happen concurrently with the sermon series – “Who is Worthy of our Worship?” – based on Revelation from 18 Jan to 20 Apr 2025.  \nIf you missed the CE’25 registration deadline (14 Jan 2025)\, you are still very welcome to join a Connect Group anytime throughout the year.  \nJoin a Connect Group \nSee: Announcement and more information about CE’25
URL:https://www.brmc.org.sg/event/connect-experience-19-jan-20-apr-2025/
ATTACH;FMTTYPE=image/jpeg:https://www.brmc.org.sg/wp-content/uploads/2024/12/CE25-journals1.jpg
END:VEVENT
BEGIN:VEVENT
DTSTART;TZID=Asia/Singapore:20250404T103000
DTEND;TZID=Asia/Singapore:20250404T121500
DTSTAMP:20260424T131246
CREATED:20241218T020725Z
LAST-MODIFIED:20250320T062155Z
UID:8611-1743762600-1743768900@www.brmc.org.sg
SUMMARY:CONNECT - Seniors Brunch Connection
DESCRIPTION:Join us at the monthly Brunch Connection for seniors and their caregivers. \nThis event offers a chance to G.R.O.W. (Gracefully Ripen\, Overflowing with Wisdom from God) by connecting and engaging in activities with like-minded individuals. \nCome and be a part of our community as we share stories\, offer support\, and encourage one another over brunch. \nWhether you are a regular attendee or a first-timer\, all are welcome. \nDate: Fri\, 4 Apr 2025\nTime: 10.30 am – 12.15 pm (Registration at 10.15 am)\nVenue: New Ubin Seafood  (@Metropolitan YMCA)\nAddress: 60 Stevens Rd\, Metropolitan YMCA (Lobby)\, Singapore 25785 \nAny amount is acceptable. Freewill offering is welcome. \nRegister here. \n\nThe CONNECT Seniors Ministry meets regularly to G.R.O.W. – Graciously Ripen\, Overflowing with Wisdom from Above. \nJoin us and embrace the joy of growth\, wisdom\, and community.
URL:https://www.brmc.org.sg/event/connect-seniors-brunch-connection-22/
ATTACH;FMTTYPE=image/jpeg:https://www.brmc.org.sg/wp-content/uploads/2023/07/Senior-Brunch_6-Oct_Weblisting.jpg
END:VEVENT
BEGIN:VEVENT
DTSTART;TZID=Asia/Singapore:20250405T060000
DTEND;TZID=Asia/Singapore:20250405T083000
DTSTAMP:20260424T131246
CREATED:20241218T090525Z
LAST-MODIFIED:20241218T090525Z
UID:8653-1743832800-1743841800@www.brmc.org.sg
SUMMARY:CONNECT - Emmaus Walk Men’s Fellowship
DESCRIPTION:Emmaus Walk Men’s Fellowship meets on Saturdays to encourage men\, whether singles\, husbands or fathers\, to be men after God’s heart. \nMen’s Prayer Sessions\nSaturdays\, 6am-7am\, Wesley Hall \nMen’s Fellowship Sessions\nSaturdays\, 7am-8.30am\, Wesley Hall \nFIND OUT MORE
URL:https://www.brmc.org.sg/event/connect-emmaus-walk-mens-fellowship-65/
END:VEVENT
BEGIN:VEVENT
DTSTART;TZID=Asia/Singapore:20250410T100000
DTEND;TZID=Asia/Singapore:20250410T120000
DTSTAMP:20260424T131246
CREATED:20241218T021056Z
LAST-MODIFIED:20250904T033622Z
UID:8617-1744279200-1744286400@www.brmc.org.sg
SUMMARY:CONNECT - Seniors Singing Fellowship
DESCRIPTION:Date: Thu\, 10 Apr 2025\nTime: 10am – 12noon\nVenue: Methodist Girls’ School (IGLC room) @ Blackmore Drive \nOn the second week of the month\, we call out to all seniors and their caregivers who love singing. \nAt the Singing Fellowship\, we share our reﬂections on our Christian life through the songs we nominate to sing together\, facilitated by a pastoral staff. \nSinging helps us explore and grow in faith both cognitively and affectively. The lyrics guide our thinking and the music inspires our souls. After singing\, we deepen our bonds of bonds of kinship\, friendship and discipleship over a shared meal together. \nPlease confirm your attendance with Chang Chong Tian at the church office at 6256 4298. \n\nThe CONNECT Seniors Ministry meets regularly to G.R.O.W. – Graciously Ripen\, Overflowing with Wisdom from Above. \nJoin us and embrace the joy of growth\, wisdom\, and community.
URL:https://www.brmc.org.sg/event/connect-seniors-singing-fellowship-7/
ATTACH;FMTTYPE=image/png:https://www.brmc.org.sg/wp-content/uploads/2024/10/WEB_Senior-Singing.png
END:VEVENT
BEGIN:VEVENT
DTSTART;TZID=Asia/Singapore:20250411T200000
DTEND;TZID=Asia/Singapore:20250411T220000
DTSTAMP:20260424T131246
CREATED:20241218T092132Z
LAST-MODIFIED:20241218T092132Z
UID:8679-1744401600-1744408800@www.brmc.org.sg
SUMMARY:Youth Connect Group
DESCRIPTION:The Youth Connect Group meets weekly on Friday evenings (except on the Fridays before Holy Communion Sundays). \nTime: 8pm- 10pm\nVenue: Wesley Hall \nFollow our Youth Ministry on Instagram! 
URL:https://www.brmc.org.sg/event/youth-connect-group-57/
LOCATION:Wesley Hall
ATTACH;FMTTYPE=image/jpeg:https://www.brmc.org.sg/wp-content/uploads/2022/07/church-school-youths-e1667986685550.jpg
END:VEVENT
BEGIN:VEVENT
DTSTART;TZID=Asia/Singapore:20250412T060000
DTEND;TZID=Asia/Singapore:20250412T083000
DTSTAMP:20260424T131246
CREATED:20241218T090614Z
LAST-MODIFIED:20241218T090614Z
UID:8655-1744437600-1744446600@www.brmc.org.sg
SUMMARY:CONNECT - Emmaus Walk Men’s Fellowship
DESCRIPTION:Emmaus Walk Men’s Fellowship meets on Saturdays to encourage men\, whether singles\, husbands or fathers\, to be men after God’s heart. \nMen’s Prayer Sessions\nSaturdays\, 6am-7am\, Wesley Hall \nMen’s Fellowship Sessions\nSaturdays\, 7am-8.30am\, Wesley Hall \nFIND OUT MORE
URL:https://www.brmc.org.sg/event/connect-emmaus-walk-mens-fellowship-66/
END:VEVENT
BEGIN:VEVENT
DTSTART;TZID=Asia/Singapore:20250412T133000
DTEND;TZID=Asia/Singapore:20250412T160000
DTSTAMP:20260424T131246
CREATED:20241218T021709Z
LAST-MODIFIED:20250128T021558Z
UID:8629-1744464600-1744473600@www.brmc.org.sg
SUMMARY:CONNECT - Shalom Dementia Care Fellowship
DESCRIPTION:Caring for someone with dementia or living with it can be overwhelming\, but you’re not alone. \nThe monthly Shalom Dementia Care Fellowship provides a supportive space where those with dementia and their caregivers can come together in faith and fellowship. \nIt usually runs on 3rd Saturdays of the month\, 1.30pm-4pm. \nJoin in and embrace the joy of growth\, wisdom and community. \nThe programme usually runs as follows: \n\nWelcome\nWorship\nScripture/Message\nExercise\nClosing\n\nRegistration is required. Please contact Chong Tian at the church office at 6256 4298. \nGet in touch \n\nThe CONNECT Seniors Ministry meets regularly to G.R.O.W. – Graciously Ripen\, Overflowing with Wisdom from Above. \nJoin us and embrace the joy of growth\, wisdom\, and community.
URL:https://www.brmc.org.sg/event/connect-shalom-dementia-care-fellowship-23/
ATTACH;FMTTYPE=image/jpeg:https://www.brmc.org.sg/wp-content/uploads/2023/07/dementia-care.jpeg
END:VEVENT
BEGIN:VEVENT
DTSTART;TZID=Asia/Singapore:20250416T153000
DTEND;TZID=Asia/Singapore:20250416T163000
DTSTAMP:20260424T131246
CREATED:20241218T021349Z
LAST-MODIFIED:20241218T021349Z
UID:8623-1744817400-1744821000@www.brmc.org.sg
SUMMARY:CONNECT - Seniors Chapel
DESCRIPTION:This is a time and place for us to personally draw near to God in His Sanctuary through songs\, prayers\, and guided meditation. \nDate: Wed\, 16 Apr 2025\nTime: 3.30pm – 4.30pm\nVenue: Wesley Hall \nNo registration is required. \n\nThe CONNECT Seniors Ministry meets regularly to G.R.O.W. – Graciously Ripen\, Overflowing with Wisdom from Above. \nJoin us and embrace the joy of growth\, wisdom\, and community.
URL:https://www.brmc.org.sg/event/connect-seniors-chapel-22/
LOCATION:Wesley Hall
ATTACH;FMTTYPE=image/jpeg:https://www.brmc.org.sg/wp-content/uploads/2023/07/seniors-chapel.jpg
END:VEVENT
BEGIN:VEVENT
DTSTART;TZID=Asia/Singapore:20250419T060000
DTEND;TZID=Asia/Singapore:20250419T083000
DTSTAMP:20260424T131246
CREATED:20241218T090723Z
LAST-MODIFIED:20241218T090723Z
UID:8657-1745042400-1745051400@www.brmc.org.sg
SUMMARY:CONNECT - Emmaus Walk Men’s Fellowship
DESCRIPTION:Emmaus Walk Men’s Fellowship meets on Saturdays to encourage men\, whether singles\, husbands or fathers\, to be men after God’s heart. \nMen’s Prayer Sessions\nSaturdays\, 6am-7am\, Wesley Hall \nMen’s Fellowship Sessions\nSaturdays\, 7am-8.30am\, Wesley Hall \nFIND OUT MORE
URL:https://www.brmc.org.sg/event/connect-emmaus-walk-mens-fellowship-67/
END:VEVENT
BEGIN:VEVENT
DTSTART;TZID=Asia/Singapore:20250424T180000
DTEND;TZID=Asia/Singapore:20250424T200000
DTSTAMP:20260424T131246
CREATED:20241218T022042Z
LAST-MODIFIED:20241218T022042Z
UID:8635-1745517600-1745524800@www.brmc.org.sg
SUMMARY:CONNECT Seniors - Pickleball
DESCRIPTION:Pickleball is an easy-to-learn sport that combines tennis\, ping pong\, and badminton\, and is perfect for all fitness levels. With a small court and minimal running\, it’s accessible to everyone—but if you’re up for a challenge\, the pace can get intense! \nDate: Thu\, 24 Apr 2025\nTime: 6pm – 8pm\nVenue: Tennis courts\, Methodist Girls’ School @ Blackmore Drive \nPlease contact Chong Tian at the church office at 6256 4298 to confirm that the event is on in case of last-minute changes. \nIf you’re not a senior yet\, we’d love for you to serve alongside us in fostering a Christ-centred inter-generational community. \nGet in touch \n\nThe CONNECT Seniors Ministry meets regularly to G.R.O.W. – Graciously Ripen\, Overflowing with Wisdom from Above. \nJoin us and embrace the joy of growth\, wisdom\, and community.
URL:https://www.brmc.org.sg/event/connect-seniors-pickleball-4/
ATTACH;FMTTYPE=image/png:https://www.brmc.org.sg/wp-content/uploads/2024/10/WEB_PickleBall-1.png
END:VEVENT
BEGIN:VEVENT
DTSTART;TZID=Asia/Singapore:20250425T200000
DTEND;TZID=Asia/Singapore:20250425T220000
DTSTAMP:20260424T131246
CREATED:20241218T092322Z
LAST-MODIFIED:20241218T092322Z
UID:8683-1745611200-1745618400@www.brmc.org.sg
SUMMARY:Youth Connect Group
DESCRIPTION:The Youth Connect Group meets weekly on Friday evenings (except on the Fridays before Holy Communion Sundays). \nTime: 8pm- 10pm\nVenue: Wesley Hall \nFollow our Youth Ministry on Instagram! 
URL:https://www.brmc.org.sg/event/youth-connect-group-59/
LOCATION:Wesley Hall
ATTACH;FMTTYPE=image/jpeg:https://www.brmc.org.sg/wp-content/uploads/2022/07/church-school-youths-e1667986685550.jpg
END:VEVENT
END:VCALENDAR