BEGIN:VCALENDAR
VERSION:2.0
PRODID:-//Barker Road Methodist Church - ECPv6.15.18//NONSGML v1.0//EN
CALSCALE:GREGORIAN
METHOD:PUBLISH
X-ORIGINAL-URL:https://www.brmc.org.sg
X-WR-CALDESC:Events for Barker Road Methodist Church
REFRESH-INTERVAL;VALUE=DURATION:PT1H
X-Robots-Tag:noindex
X-PUBLISHED-TTL:PT1H
BEGIN:VTIMEZONE
TZID:Asia/Singapore
BEGIN:STANDARD
TZOFFSETFROM:+0800
TZOFFSETTO:+0800
TZNAME:+08
DTSTART:20240101T000000
END:STANDARD
END:VTIMEZONE
BEGIN:VEVENT
DTSTART;TZID=Asia/Singapore:20250601T140000
DTEND;TZID=Asia/Singapore:20250601T170000
DTSTAMP:20260424T101100
CREATED:20250416T022604Z
LAST-MODIFIED:20250530T075341Z
UID:9246-1748786400-1748797200@www.brmc.org.sg
SUMMARY:Cancelled - CONNECT Pickleball
DESCRIPTION:The pickleball session on 1 Jun 2025 is cancelled as the auditorium will be set up for student examinations.🎓🙏 \nSee you on the courts next week! \n\nJoin us for weekly pickleball sessions designed to promote intergenerational bonding and an active\, healthy lifestyle within the BRMC family! \nWhether you’re a seasoned player or a complete beginner\, everyone is welcome—children\, youth\, adults\, and seniors alike. We’ll teach newcomers the game\, and equipment (paddles\, balls\, and nets) will be provided. Come enjoy this fun\, easy-to-learn sport that blends tennis\, badminton\, and ping pong! \n🧒 Free for children 12 & under and seniors 55 & over💵 $4 per session for all others (payable via QR code at the entrance)👟 Sports attire with non-marking court shoes required🚫 No food in the auditorium. Bring your own water/drinks. \nNote: These sessions will replace the Thursday Seniors’ Pickleball group from May onwards.Participation is only open to BRMC members. \nVolunteer With Us! \n\n\nLooking for committed volunteers to help set up and return all equipment at the end of each session.  If we can get 12 volunteers\, we will roster 2 volunteers per session.  Commitment will then be once every 6 weeks. \nCommunication\nAll participants will be placed in a BRMC Pickleball WhatsApp group for ease of communication.\n\n\nRegister to indicate your interest.
URL:https://www.brmc.org.sg/event/connect-pickleball-7/
LOCATION:ACS Auditorium
ATTACH;FMTTYPE=image/png:https://www.brmc.org.sg/wp-content/uploads/2025/04/WEB_BRMC-PIckleball.png
END:VEVENT
BEGIN:VEVENT
DTSTART;TZID=Asia/Singapore:20250606T103000
DTEND;TZID=Asia/Singapore:20250606T121500
DTSTAMP:20260424T101100
CREATED:20250522T080215Z
LAST-MODIFIED:20250603T034428Z
UID:10322-1749205800-1749212100@www.brmc.org.sg
SUMMARY:CANCELLED: Seniors Brunch Connection (Jun 2025)
DESCRIPTION:Seniors Brunch Connection this month is cancelled because of BRMC Church Camp 2025 taking place from 4 – 7 Jun 2025. \n  \n\nThis event offers a chance to G.R.O.W. (Gracefully Ripen\, Overflowing with Wisdom from God) by connecting and engaging in activities with like-minded individuals. \nCome and be a part of our community as we share stories\, offer support\, and encourage one another over brunch. \nWhether you are a regular attendee or a first-timer\, all are welcome. \n 
URL:https://www.brmc.org.sg/event/connect-seniors-brunch-connection-cancelled/
ATTACH;FMTTYPE=image/jpeg:https://www.brmc.org.sg/wp-content/uploads/2023/07/Senior-Brunch_6-Oct_Weblisting.jpg
END:VEVENT
BEGIN:VEVENT
DTSTART;TZID=Asia/Singapore:20250606T200000
DTEND;TZID=Asia/Singapore:20250606T220000
DTSTAMP:20260424T101100
CREATED:20241218T093610Z
LAST-MODIFIED:20250602T054522Z
UID:8691-1749240000-1749247200@www.brmc.org.sg
SUMMARY:CANCELLED - Friday Youth Connect
DESCRIPTION:There will be no Youth Connect Group on 6 Jun 2025 because of Church Camp 2025 (4-7 Jun). \nYouth Connect Group resumes the following Friday\, on 13 Jun 2025. \n\nThe Youth Connect Group meets weekly on Friday evenings (except on the Fridays before Holy Communion Sundays). \nTime: 8pm- 10pm\nVenue: Wesley Hall \nFollow our Youth Ministry on Instagram! 
URL:https://www.brmc.org.sg/event/youth-connect-group-63/
LOCATION:Wesley Hall
ATTACH;FMTTYPE=image/jpeg:https://www.brmc.org.sg/wp-content/uploads/2022/07/church-school-youths-e1667986685550.jpg
END:VEVENT
BEGIN:VEVENT
DTSTART;TZID=Asia/Singapore:20250607T060000
DTEND;TZID=Asia/Singapore:20250607T083000
DTSTAMP:20260424T101100
CREATED:20241218T091543Z
LAST-MODIFIED:20250509T030901Z
UID:8671-1749276000-1749285000@www.brmc.org.sg
SUMMARY:CONNECT - Emmaus Walk Men’s Fellowship
DESCRIPTION:Emmaus Walk Men’s Fellowship meets on Saturdays to encourage men\, whether singles\, husbands or fathers\, to be men after God’s heart. \nMen’s Prayer Sessions\nSaturdays\, 6am-7am\, Wesley Hall \nMen’s Fellowship Sessions\nSaturdays\, 7am-8.30am\, Wesley Hall \nFIND OUT MORE
URL:https://www.brmc.org.sg/event/connect-emmaus-walk-mens-fellowship-74/
END:VEVENT
BEGIN:VEVENT
DTSTART;TZID=Asia/Singapore:20250608T140000
DTEND;TZID=Asia/Singapore:20250608T170000
DTSTAMP:20260424T101100
CREATED:20250416T022802Z
LAST-MODIFIED:20250505T054129Z
UID:9248-1749391200-1749402000@www.brmc.org.sg
SUMMARY:CONNECT - Pickleball
DESCRIPTION:Join us for weekly pickleball sessions designed to promote intergenerational bonding and an active\, healthy lifestyle within the BRMC family! \nWhether you’re a seasoned player or a complete beginner\, everyone is welcome—children\, youth\, adults\, and seniors alike. We’ll teach newcomers the game\, and equipment (paddles\, balls\, and nets) will be provided. Come enjoy this fun\, easy-to-learn sport that blends tennis\, badminton\, and ping pong! \n🧒 Free for children 12 & under and seniors 55 & over💵 $4 per session for all others (payable via QR code at the entrance)👟 Sports attire with non-marking court shoes required🚫 No food in the auditorium. Bring your own water/drinks. \nNote: These sessions will replace the Thursday Seniors’ Pickleball group from May onwards.Participation is only open to BRMC members. \nVolunteer With Us! \n\n\nLooking for committed volunteers to help set up and return all equipment at the end of each session.  If we can get 12 volunteers\, we will roster 2 volunteers per session.  Commitment will then be once every 6 weeks. \nCommunication\nAll participants will be placed in a BRMC Pickleball WhatsApp group for ease of communication.\n\n\nRegister to indicate your interest
URL:https://www.brmc.org.sg/event/connect-pickleball-8/
LOCATION:ACS Auditorium
ATTACH;FMTTYPE=image/png:https://www.brmc.org.sg/wp-content/uploads/2025/04/WEB_BRMC-PIckleball.png
END:VEVENT
BEGIN:VEVENT
DTSTART;TZID=Asia/Singapore:20250612T100000
DTEND;TZID=Asia/Singapore:20250612T120000
DTSTAMP:20260424T101100
CREATED:20241218T021233Z
LAST-MODIFIED:20250904T033634Z
UID:8621-1749722400-1749729600@www.brmc.org.sg
SUMMARY:CONNECT - Seniors Singing Fellowship
DESCRIPTION:Date: Thu\, 12 Jun 2025\nTime: 10am – 12pm\nVenue: Methodist Girls’ School (IGLC room) @ Blackmore Drive \nOn the second week of the month\, we call out to all seniors and their caregivers who love singing. \nAt the Singing Fellowship\, we share our reﬂections on our Christian life through the songs we nominate to sing together\, facilitated by a pastoral staff. \nSinging helps us explore and grow in faith both cognitively and affectively. The lyrics guide our thinking and the music inspires our souls. After singing\, we deepen our bonds of bonds of kinship\, friendship and discipleship over a shared meal together. \nPlease confirm your attendance with Chang Chong Tian at the church office at 6256 4298. \n\nThe CONNECT Seniors Ministry meets regularly to G.R.O.W. – Graciously Ripen\, Overflowing with Wisdom from Above. \nJoin us and embrace the joy of growth\, wisdom\, and community.
URL:https://www.brmc.org.sg/event/connect-seniors-singing-fellowship-9/
ATTACH;FMTTYPE=image/png:https://www.brmc.org.sg/wp-content/uploads/2024/10/WEB_Senior-Singing.png
END:VEVENT
BEGIN:VEVENT
DTSTART;TZID=Asia/Singapore:20250613T200000
DTEND;TZID=Asia/Singapore:20250613T220000
DTSTAMP:20260424T101100
CREATED:20241218T093710Z
LAST-MODIFIED:20250528T085840Z
UID:8693-1749844800-1749852000@www.brmc.org.sg
SUMMARY:Friday Youth Connect
DESCRIPTION:The Youth Connect Group meets weekly on Friday evenings (except on the Fridays before Holy Communion Sundays). \nTime: 8pm- 10pm\nVenue: Wesley Hall \nFollow our Youth Ministry on Instagram! 
URL:https://www.brmc.org.sg/event/youth-connect-group-64/
LOCATION:Wesley Hall
ATTACH;FMTTYPE=image/jpeg:https://www.brmc.org.sg/wp-content/uploads/2022/07/church-school-youths-e1667986685550.jpg
END:VEVENT
BEGIN:VEVENT
DTSTART;TZID=Asia/Singapore:20250614T060000
DTEND;TZID=Asia/Singapore:20250614T083000
DTSTAMP:20260424T101100
CREATED:20241218T091653Z
LAST-MODIFIED:20250509T030907Z
UID:8673-1749880800-1749889800@www.brmc.org.sg
SUMMARY:CONNECT - Emmaus Walk Men’s Fellowship
DESCRIPTION:Emmaus Walk Men’s Fellowship meets on Saturdays to encourage men\, whether singles\, husbands or fathers\, to be men after God’s heart. \nMen’s Prayer Sessions\nSaturdays\, 6am-7am\, Wesley Hall \nMen’s Fellowship Sessions\nSaturdays\, 7am-8.30am\, Wesley Hall \nFIND OUT MORE
URL:https://www.brmc.org.sg/event/connect-emmaus-walk-mens-fellowship-75/
END:VEVENT
BEGIN:VEVENT
DTSTART;TZID=Asia/Singapore:20250615T140000
DTEND;TZID=Asia/Singapore:20250615T170000
DTSTAMP:20260424T101100
CREATED:20250416T022942Z
LAST-MODIFIED:20250611T140345Z
UID:9250-1749996000-1750006800@www.brmc.org.sg
SUMMARY:CONNECT - Pickleball
DESCRIPTION:Join us for weekly pickleball sessions designed to promote intergenerational bonding and an active\, healthy lifestyle within the BRMC family! \nWhether you’re a seasoned player or a complete beginner\, everyone is welcome—children\, youth\, adults\, and seniors alike. We’ll teach newcomers the game\, and equipment (paddles\, balls\, and nets) will be provided. Come enjoy this fun\, easy-to-learn sport that blends tennis\, badminton\, and ping pong! \n🧒 Free for children 12 & under and seniors 55 & over💵 $4 per session for all others (payable via QR code at the entrance)👟 Sports attire with non-marking court shoes required🚫 No food in the auditorium. Bring your own water/drinks. \nNote: These sessions will replace the Thursday Seniors’ Pickleball group from May onwards. \nParticipation is only open to BRMC members. \nVolunteer With Us! \n\n\nLooking for committed volunteers to help set up and return all equipment at the end of each session.  If we can get 12 volunteers\, we will roster 2 volunteers per session.  Commitment will then be once every 6 weeks. \nCommunication\nAll participants will be placed in a BRMC Pickleball WhatsApp group for ease of communication.\n\n\nRegister to indicate your interest
URL:https://www.brmc.org.sg/event/connect-pickleball-9/
LOCATION:ACS Auditorium
ATTACH;FMTTYPE=image/png:https://www.brmc.org.sg/wp-content/uploads/2025/04/WEB_BRMC-PIckleball.png
END:VEVENT
BEGIN:VEVENT
DTSTART;TZID=Asia/Singapore:20250618T153000
DTEND;TZID=Asia/Singapore:20250618T163000
DTSTAMP:20260424T101100
CREATED:20241218T021535Z
LAST-MODIFIED:20241218T021535Z
UID:8627-1750260600-1750264200@www.brmc.org.sg
SUMMARY:CONNECT - Seniors Chapel
DESCRIPTION:This is a time and place for us to personally draw near to God in His Sanctuary through songs\, prayers\, and guided meditation. \nDate: Wed\, 18 Jun 2025\nTime: 3.30pm – 4.30pm\nVenue: Wesley Hall \nNo registration is required. \n\nThe CONNECT Seniors Ministry meets regularly to G.R.O.W. – Graciously Ripen\, Overflowing with Wisdom from Above. \nJoin us and embrace the joy of growth\, wisdom\, and community.
URL:https://www.brmc.org.sg/event/connect-seniors-chapel-24/
LOCATION:Wesley Hall
ATTACH;FMTTYPE=image/jpeg:https://www.brmc.org.sg/wp-content/uploads/2023/07/seniors-chapel.jpg
END:VEVENT
BEGIN:VEVENT
DTSTART;TZID=Asia/Singapore:20250620T200000
DTEND;TZID=Asia/Singapore:20250620T220000
DTSTAMP:20260424T101100
CREATED:20241218T093806Z
LAST-MODIFIED:20250528T085846Z
UID:8695-1750449600-1750456800@www.brmc.org.sg
SUMMARY:Friday Youth Connect
DESCRIPTION:The Youth Connect Group meets weekly on Friday evenings (except on the Fridays before Holy Communion Sundays). \nTime: 8pm- 10pm\nVenue: Wesley Hall \nFollow our Youth Ministry on Instagram! 
URL:https://www.brmc.org.sg/event/youth-connect-group-65/
LOCATION:Wesley Hall
ATTACH;FMTTYPE=image/jpeg:https://www.brmc.org.sg/wp-content/uploads/2022/07/church-school-youths-e1667986685550.jpg
END:VEVENT
BEGIN:VEVENT
DTSTART;TZID=Asia/Singapore:20250621T060000
DTEND;TZID=Asia/Singapore:20250621T083000
DTSTAMP:20260424T101100
CREATED:20241218T091804Z
LAST-MODIFIED:20250509T030914Z
UID:8675-1750485600-1750494600@www.brmc.org.sg
SUMMARY:CONNECT - Emmaus Walk Men’s Fellowship
DESCRIPTION:Emmaus Walk Men’s Fellowship meets on Saturdays to encourage men\, whether singles\, husbands or fathers\, to be men after God’s heart. \nMen’s Prayer Sessions\nSaturdays\, 6am-7am\, Wesley Hall \nMen’s Fellowship Sessions\nSaturdays\, 7am-8.30am\, Wesley Hall \nFIND OUT MORE
URL:https://www.brmc.org.sg/event/connect-emmaus-walk-mens-fellowship-76/
END:VEVENT
BEGIN:VEVENT
DTSTART;TZID=Asia/Singapore:20250621T133000
DTEND;TZID=Asia/Singapore:20250621T160000
DTSTAMP:20260424T101100
CREATED:20241218T021859Z
LAST-MODIFIED:20250128T021712Z
UID:8633-1750512600-1750521600@www.brmc.org.sg
SUMMARY:CONNECT - Shalom Dementia Care Fellowship
DESCRIPTION:Caring for someone with dementia or living with it can be overwhelming\, but you’re not alone. \nThe monthly Shalom Dementia Care Fellowship provides a supportive space where those with dementia and their caregivers can come together in faith and fellowship. \nIt usually runs on 3rd Saturdays of the month\, 1.30pm-4pm. \nJoin in and embrace the joy of growth\, wisdom and community. \nThe programme usually runs as follows: \n\nWelcome\nWorship\nScripture/Message\nExercise\nClosing\n\nRegistration is required. Please contact Chong Tian at the church office at 6256 4298. \nGet in touch \n\nThe CONNECT Seniors Ministry meets regularly to G.R.O.W. – Graciously Ripen\, Overflowing with Wisdom from Above. \nJoin us and embrace the joy of growth\, wisdom\, and community.
URL:https://www.brmc.org.sg/event/connect-shalom-dementia-care-fellowship-25/
ATTACH;FMTTYPE=image/jpeg:https://www.brmc.org.sg/wp-content/uploads/2023/07/dementia-care.jpeg
END:VEVENT
BEGIN:VEVENT
DTSTART;TZID=Asia/Singapore:20250622T140000
DTEND;TZID=Asia/Singapore:20250622T170000
DTSTAMP:20260424T101100
CREATED:20250416T023441Z
LAST-MODIFIED:20250505T054204Z
UID:9252-1750600800-1750611600@www.brmc.org.sg
SUMMARY:CONNECT - Pickleball
DESCRIPTION:Join us for weekly pickleball sessions designed to promote intergenerational bonding and an active\, healthy lifestyle within the BRMC family! \nWhether you’re a seasoned player or a complete beginner\, everyone is welcome—children\, youth\, adults\, and seniors alike. We’ll teach newcomers the game\, and equipment (paddles\, balls\, and nets) will be provided. Come enjoy this fun\, easy-to-learn sport that blends tennis\, badminton\, and ping pong! \n🧒 Free for children 12 & under and seniors 55 & over💵 $4 per session for all others (payable via QR code at the entrance)👟 Sports attire with non-marking court shoes required🚫 No food in the auditorium. Bring your own water/drinks. \nNote: These sessions will replace the Thursday Seniors’ Pickleball group from May onwards.Participation is only open to BRMC members. \nVolunteer With Us! \n\n\nLooking for committed volunteers to help set up and return all equipment at the end of each session.  If we can get 12 volunteers\, we will roster 2 volunteers per session.  Commitment will then be once every 6 weeks. \nCommunication\nAll participants will be placed in a BRMC Pickleball WhatsApp group for ease of communication.\n\n\nRegister to indicate your interest
URL:https://www.brmc.org.sg/event/connect-pickleball-10/
LOCATION:ACS Auditorium
ATTACH;FMTTYPE=image/png:https://www.brmc.org.sg/wp-content/uploads/2025/04/WEB_BRMC-PIckleball.png
END:VEVENT
BEGIN:VEVENT
DTSTART;TZID=Asia/Singapore:20250627T200000
DTEND;TZID=Asia/Singapore:20250627T220000
DTSTAMP:20260424T101100
CREATED:20241218T093904Z
LAST-MODIFIED:20250528T085851Z
UID:8697-1751054400-1751061600@www.brmc.org.sg
SUMMARY:Friday Youth Connect
DESCRIPTION:The Youth Connect Group meets weekly on Friday evenings (except on the Fridays before Holy Communion Sundays). \nTime: 8pm- 10pm\nVenue: Wesley Hall \nFollow our Youth Ministry on Instagram! 
URL:https://www.brmc.org.sg/event/youth-connect-group-66/
LOCATION:Wesley Hall
ATTACH;FMTTYPE=image/jpeg:https://www.brmc.org.sg/wp-content/uploads/2022/07/church-school-youths-e1667986685550.jpg
END:VEVENT
BEGIN:VEVENT
DTSTART;TZID=Asia/Singapore:20250628T060000
DTEND;TZID=Asia/Singapore:20250628T083000
DTSTAMP:20260424T101100
CREATED:20241218T091859Z
LAST-MODIFIED:20241218T091859Z
UID:8677-1751090400-1751099400@www.brmc.org.sg
SUMMARY:CONNECT - Emmaus Walk Men’s Fellowship
DESCRIPTION:Emmaus Walk Men’s Fellowship meets on Saturdays to encourage men\, whether singles\, husbands or fathers\, to be men after God’s heart. \nMen’s Prayer Sessions\nSaturdays\, 6am-7am\, Wesley Hall \nMen’s Fellowship Sessions\nSaturdays\, 7am-8.30am\, Wesley Hall \nFIND OUT MORE
URL:https://www.brmc.org.sg/event/connect-emmaus-walk-mens-fellowship-77/
END:VEVENT
BEGIN:VEVENT
DTSTART;TZID=Asia/Singapore:20250629T140000
DTEND;TZID=Asia/Singapore:20250629T170000
DTSTAMP:20260424T101100
CREATED:20250416T023545Z
LAST-MODIFIED:20250505T054220Z
UID:9254-1751205600-1751216400@www.brmc.org.sg
SUMMARY:CONNECT - Pickleball
DESCRIPTION:Join us for weekly pickleball sessions designed to promote intergenerational bonding and an active\, healthy lifestyle within the BRMC family! \nWhether you’re a seasoned player or a complete beginner\, everyone is welcome—children\, youth\, adults\, and seniors alike. We’ll teach newcomers the game\, and equipment (paddles\, balls\, and nets) will be provided. Come enjoy this fun\, easy-to-learn sport that blends tennis\, badminton\, and ping pong! \n🧒 Free for children 12 & under and seniors 55 & over💵 $4 per session for all others (payable via QR code at the entrance)👟 Sports attire with non-marking court shoes required🚫 No food in the auditorium. Bring your own water/drinks. \nNote: These sessions will replace the Thursday Seniors’ Pickleball group from May onwards.Participation is only open to BRMC members. \nVolunteer With Us! \n\n\nLooking for committed volunteers to help set up and return all equipment at the end of each session.  If we can get 12 volunteers\, we will roster 2 volunteers per session.  Commitment will then be once every 6 weeks. \nCommunication\nAll participants will be placed in a BRMC Pickleball WhatsApp group for ease of communication.\n\n\nRegister to indicate your interest
URL:https://www.brmc.org.sg/event/connect-pickleball-11/
LOCATION:ACS Auditorium
ATTACH;FMTTYPE=image/png:https://www.brmc.org.sg/wp-content/uploads/2025/04/WEB_BRMC-PIckleball.png
END:VEVENT
END:VCALENDAR