BEGIN:VCALENDAR
VERSION:2.0
PRODID:-//Barker Road Methodist Church - ECPv6.15.18//NONSGML v1.0//EN
CALSCALE:GREGORIAN
METHOD:PUBLISH
X-WR-CALNAME:Barker Road Methodist Church
X-ORIGINAL-URL:https://www.brmc.org.sg
X-WR-CALDESC:Events for Barker Road Methodist Church
REFRESH-INTERVAL;VALUE=DURATION:PT1H
X-Robots-Tag:noindex
X-PUBLISHED-TTL:PT1H
BEGIN:VTIMEZONE
TZID:Asia/Singapore
BEGIN:STANDARD
TZOFFSETFROM:+0800
TZOFFSETTO:+0800
TZNAME:+08
DTSTART:20240101T000000
END:STANDARD
END:VTIMEZONE
BEGIN:VEVENT
DTSTART;TZID=Asia/Singapore:20250704T103000
DTEND;TZID=Asia/Singapore:20250704T123000
DTSTAMP:20260424T084509
CREATED:20250416T055517Z
LAST-MODIFIED:20250903T065021Z
UID:9364-1751625000-1751632200@www.brmc.org.sg
SUMMARY:CONNECT - Seniors Brunch Connection
DESCRIPTION:Please note that there’s a change in venue.  \nDate: Fri\, 4 Jul 2025\nTime: 10.30am – 12.30pm\nVenue: Friends Thai Table at RELC International Hotel\nAddress: 30 Orange Grove Rd\, #04-02 RELC International Hotel\, Singapore 258352 \nJoin us at the monthly Brunch Connection for seniors and their caregivers. \nThis event offers a chance to G.R.O.W. (Gracefully Ripen\, Overflowing with Wisdom from God) by connecting and engaging in activities with like-minded individuals. \nCome and be a part of our community as we share stories\, offer support\, and encourage one another over brunch. \nWhether you are a regular attendee or a first-timer\, all are welcome. \nAny amount is acceptable. Freewill offering is welcome. \nRegistration is required. \nSign up on the Church Center App \n\nThe CONNECT Seniors Ministry meets regularly to G.R.O.W. – Graciously Ripen\, Overflowing with Wisdom from Above. \nJoin us and embrace the joy of growth\, wisdom\, and community.
URL:https://www.brmc.org.sg/event/connect-seniors-brunch-connection-24/
ATTACH;FMTTYPE=image/png:https://www.brmc.org.sg/wp-content/uploads/2025/04/WEB_Seniors_Brunch_2025.png
END:VEVENT
BEGIN:VEVENT
DTSTART;TZID=Asia/Singapore:20250705T060000
DTEND;TZID=Asia/Singapore:20250705T083000
DTSTAMP:20260424T084509
CREATED:20250422T040704Z
LAST-MODIFIED:20250422T043139Z
UID:9455-1751695200-1751704200@www.brmc.org.sg
SUMMARY:CONNECT - Emmaus Walk Men’s Fellowship
DESCRIPTION:Emmaus Walk Men’s Fellowship meets on Saturdays to encourage men\, whether singles\, husbands or fathers\, to be men after God’s heart. \nMen’s Prayer Sessions\nSaturdays\, 6am-7am\, Wesley Hall \nMen’s Fellowship Sessions\nSaturdays\, 7am-8.30am\, Wesley Hall \nFIND OUT MORE
URL:https://www.brmc.org.sg/event/connect-emmaus-walk-mens-fellowship-68/
END:VEVENT
BEGIN:VEVENT
DTSTART;TZID=Asia/Singapore:20250706T140000
DTEND;TZID=Asia/Singapore:20250706T170000
DTSTAMP:20260424T084509
CREATED:20250416T023704Z
LAST-MODIFIED:20250505T054234Z
UID:9256-1751810400-1751821200@www.brmc.org.sg
SUMMARY:CONNECT - Pickleball
DESCRIPTION:Join us for weekly pickleball sessions designed to promote intergenerational bonding and an active\, healthy lifestyle within the BRMC family! \nWhether you’re a seasoned player or a complete beginner\, everyone is welcome—children\, youth\, adults\, and seniors alike. We’ll teach newcomers the game\, and equipment (paddles\, balls\, and nets) will be provided. Come enjoy this fun\, easy-to-learn sport that blends tennis\, badminton\, and ping pong! \n🧒 Free for children 12 & under and seniors 55 & over💵 $4 per session for all others (payable via QR code at the entrance)👟 Sports attire with non-marking court shoes required🚫 No food in the auditorium. Bring your own water/drinks. \nNote: These sessions will replace the Thursday Seniors’ Pickleball group from May onwards.Participation is only open to BRMC members. \nVolunteer With Us! \n\n\nLooking for committed volunteers to help set up and return all equipment at the end of each session.  If we can get 12 volunteers\, we will roster 2 volunteers per session.  Commitment will then be once every 6 weeks. \nCommunication\nAll participants will be placed in a BRMC Pickleball WhatsApp group for ease of communication.\n\n\nRegister to indicate your interest
URL:https://www.brmc.org.sg/event/connect-pickleball-12/
LOCATION:ACS Auditorium
ATTACH;FMTTYPE=image/png:https://www.brmc.org.sg/wp-content/uploads/2025/04/WEB_BRMC-PIckleball.png
END:VEVENT
BEGIN:VEVENT
DTSTART;TZID=Asia/Singapore:20250710T100000
DTEND;TZID=Asia/Singapore:20250710T120000
DTSTAMP:20260424T084509
CREATED:20250416T034344Z
LAST-MODIFIED:20250904T033316Z
UID:9327-1752141600-1752148800@www.brmc.org.sg
SUMMARY:CONNECT - Seniors Singing Fellowship
DESCRIPTION:Date: Thu\, 10 Jul 2025\nTime: 10am – 12pm\nVenue: Methodist Girls’ School (IGLC room) @ Blackmore Drive \nOn the second week of the month\, we call out to all seniors and their caregivers who love singing. \nAt the Singing Fellowship\, we share our reﬂections on our Christian life through the songs we nominate to sing together\, facilitated by a pastoral staff. \nSinging helps us explore and grow in faith both cognitively and affectively. The lyrics guide our thinking and the music inspires our souls. After singing\, we deepen our bonds of bonds of kinship\, friendship and discipleship over a shared meal together. \nPlease confirm your attendance with Chang Chong Tian at the church office at 6256 4298. \n\nThe CONNECT Seniors Ministry meets regularly to G.R.O.W. – Graciously Ripen\, Overflowing with Wisdom from Above. \nJoin us and embrace the joy of growth\, wisdom\, and community.
URL:https://www.brmc.org.sg/event/connect-seniors-singing-fellowship-10/
ATTACH;FMTTYPE=image/png:https://www.brmc.org.sg/wp-content/uploads/2024/10/WEB_Senior-Singing.png
END:VEVENT
BEGIN:VEVENT
DTSTART;TZID=Asia/Singapore:20250711T200000
DTEND;TZID=Asia/Singapore:20250711T220000
DTSTAMP:20260424T084509
CREATED:20250422T052456Z
LAST-MODIFIED:20250528T085900Z
UID:9509-1752264000-1752271200@www.brmc.org.sg
SUMMARY:Friday Youth Connect
DESCRIPTION:The Youth Connect Group meets weekly on Friday evenings (except on the Fridays before Holy Communion Sundays). \nTime: 8pm- 10pm\nVenue: Wesley Hall \nFollow our Youth Ministry on Instagram! 
URL:https://www.brmc.org.sg/event/youth-connect-group-56/
LOCATION:Wesley Hall
ATTACH;FMTTYPE=image/jpeg:https://www.brmc.org.sg/wp-content/uploads/2022/07/church-school-youths-e1667986685550.jpg
END:VEVENT
BEGIN:VEVENT
DTSTART;TZID=Asia/Singapore:20250712T060000
DTEND;TZID=Asia/Singapore:20250712T083000
DTSTAMP:20260424T084509
CREATED:20250422T040811Z
LAST-MODIFIED:20250422T043145Z
UID:9457-1752300000-1752309000@www.brmc.org.sg
SUMMARY:CONNECT - Emmaus Walk Men’s Fellowship
DESCRIPTION:Emmaus Walk Men’s Fellowship meets on Saturdays to encourage men\, whether singles\, husbands or fathers\, to be men after God’s heart. \nMen’s Prayer Sessions\nSaturdays\, 6am-7am\, Wesley Hall \nMen’s Fellowship Sessions\nSaturdays\, 7am-8.30am\, Wesley Hall \nFIND OUT MORE
URL:https://www.brmc.org.sg/event/connect-emmaus-walk-mens-fellowship-78/
END:VEVENT
BEGIN:VEVENT
DTSTART;TZID=Asia/Singapore:20250713T140000
DTEND;TZID=Asia/Singapore:20250713T170000
DTSTAMP:20260424T084509
CREATED:20250416T023809Z
LAST-MODIFIED:20250506T050752Z
UID:9258-1752415200-1752426000@www.brmc.org.sg
SUMMARY:CONNECT - Pickleball
DESCRIPTION:Join us for weekly pickleball sessions designed to promote intergenerational bonding and an active\, healthy lifestyle within the BRMC family! \nWhether you’re a seasoned player or a complete beginner\, everyone is welcome—children\, youth\, adults\, and seniors alike. We’ll teach newcomers the game\, and equipment (paddles\, balls\, and nets) will be provided. Come enjoy this fun\, easy-to-learn sport that blends tennis\, badminton\, and ping pong! \n🧒 Free for children 12 & under and seniors 55 & over💵 $4 per session for all others (payable via QR code at the entrance)👟 Sports attire with non-marking court shoes required🚫 No food in the auditorium. Bring your own water/drinks. \nNote: These sessions will replace the Thursday Seniors’ Pickleball group from May onwards.Participation is only open to BRMC members. \nVolunteer With Us! \n\n\nLooking for committed volunteers to help set up and return all equipment at the end of each session.  If we can get 12 volunteers\, we will roster 2 volunteers per session.  Commitment will then be once every 6 weeks. \nCommunication\nAll participants will be placed in a BRMC Pickleball WhatsApp group for ease of communication.\n\n\nRegister to indicate your interest
URL:https://www.brmc.org.sg/event/connect-pickleball-13/
LOCATION:ACS Auditorium
ATTACH;FMTTYPE=image/png:https://www.brmc.org.sg/wp-content/uploads/2025/04/WEB_BRMC-PIckleball.png
END:VEVENT
BEGIN:VEVENT
DTSTART;TZID=Asia/Singapore:20250716T153000
DTEND;TZID=Asia/Singapore:20250716T163000
DTSTAMP:20260424T084509
CREATED:20250416T035532Z
LAST-MODIFIED:20250630T014039Z
UID:9339-1752679800-1752683400@www.brmc.org.sg
SUMMARY:CONNECT - Seniors Chapel
DESCRIPTION:This is a time and place for us to personally draw near to God in His Sanctuary through songs\, prayers\, and guided meditation. \nDate: Wed\, 16 Jul 2025\nTime: 3.30pm – 4.30pm\nVenue: Wesley Hall \nNo registration is required. \n\nThe CONNECT Seniors Ministry meets regularly to G.R.O.W. – Graciously Ripen\, Overflowing with Wisdom from Above. \nJoin us and embrace the joy of growth\, wisdom\, and community.
URL:https://www.brmc.org.sg/event/connect-seniors-chapel-25/
LOCATION:Wesley Hall
ATTACH;FMTTYPE=image/jpeg:https://www.brmc.org.sg/wp-content/uploads/2023/07/seniors-chapel.jpg
END:VEVENT
BEGIN:VEVENT
DTSTART;TZID=Asia/Singapore:20250718T200000
DTEND;TZID=Asia/Singapore:20250718T220000
DTSTAMP:20260424T084509
CREATED:20250422T052615Z
LAST-MODIFIED:20250528T085903Z
UID:9511-1752868800-1752876000@www.brmc.org.sg
SUMMARY:Friday Youth Connect
DESCRIPTION:The Youth Connect Group meets weekly on Friday evenings (except on the Fridays before Holy Communion Sundays). \nTime: 8pm- 10pm\nVenue: Wesley Hall \nFollow our Youth Ministry on Instagram! 
URL:https://www.brmc.org.sg/event/youth-connect-group-58/
LOCATION:Wesley Hall
ATTACH;FMTTYPE=image/jpeg:https://www.brmc.org.sg/wp-content/uploads/2022/07/church-school-youths-e1667986685550.jpg
END:VEVENT
BEGIN:VEVENT
DTSTART;TZID=Asia/Singapore:20250719T060000
DTEND;TZID=Asia/Singapore:20250719T083000
DTSTAMP:20260424T084509
CREATED:20250422T043203Z
LAST-MODIFIED:20250422T043241Z
UID:9459-1752904800-1752913800@www.brmc.org.sg
SUMMARY:CONNECT - Emmaus Walk Men’s Fellowship
DESCRIPTION:Emmaus Walk Men’s Fellowship meets on Saturdays to encourage men\, whether singles\, husbands or fathers\, to be men after God’s heart. \nMen’s Prayer Sessions\nSaturdays\, 6am-7am\, Wesley Hall \nMen’s Fellowship Sessions\nSaturdays\, 7am-8.30am\, Wesley Hall \nFIND OUT MORE
URL:https://www.brmc.org.sg/event/connect-emmaus-walk-mens-fellowship-79/
END:VEVENT
BEGIN:VEVENT
DTSTART;TZID=Asia/Singapore:20250719T133000
DTEND;TZID=Asia/Singapore:20250719T160000
DTSTAMP:20260424T084509
CREATED:20250416T040713Z
LAST-MODIFIED:20250416T040713Z
UID:9352-1752931800-1752940800@www.brmc.org.sg
SUMMARY:CONNECT - Shalom Dementia Care Fellowship
DESCRIPTION:Caring for someone with dementia or living with it can be overwhelming\, but you’re not alone. \nThe monthly Shalom Dementia Care Fellowship provides a supportive space where those with dementia and their caregivers can come together in faith and fellowship. \nIt usually runs on 3rd Saturdays of the month\, 1.30pm-4pm. \nJoin in and embrace the joy of growth\, wisdom and community. \nThe programme usually runs as follows: \n\nWelcome\nWorship\nScripture/Message\nExercise\nClosing\n\nRegistration is required. Please contact Chong Tian at the church office at 6256 4298. \nGet in touch \n\nThe CONNECT Seniors Ministry meets regularly to G.R.O.W. – Graciously Ripen\, Overflowing with Wisdom from Above. \nJoin us and embrace the joy of growth\, wisdom\, and community.
URL:https://www.brmc.org.sg/event/connect-shalom-dementia-care-fellowship-26/
ATTACH;FMTTYPE=image/jpeg:https://www.brmc.org.sg/wp-content/uploads/2023/07/dementia-care.jpeg
END:VEVENT
BEGIN:VEVENT
DTSTART;TZID=Asia/Singapore:20250720T140000
DTEND;TZID=Asia/Singapore:20250720T170000
DTSTAMP:20260424T084509
CREATED:20250416T023910Z
LAST-MODIFIED:20250506T051219Z
UID:9260-1753020000-1753030800@www.brmc.org.sg
SUMMARY:CONNECT - Pickleball
DESCRIPTION:Join us for weekly pickleball sessions designed to promote intergenerational bonding and an active\, healthy lifestyle within the BRMC family! \nWhether you’re a seasoned player or a complete beginner\, everyone is welcome—children\, youth\, adults\, and seniors alike. We’ll teach newcomers the game\, and equipment (paddles\, balls\, and nets) will be provided. Come enjoy this fun\, easy-to-learn sport that blends tennis\, badminton\, and ping pong! \n🧒 Free for children 12 & under and seniors 55 & over💵 $4 per session for all others (payable via QR code at the entrance)👟 Sports attire with non-marking court shoes required🚫 No food in the auditorium. Bring your own water/drinks. \nNote: These sessions will replace the Thursday Seniors’ Pickleball group from May onwards.Participation is only open to BRMC members. \nVolunteer With Us! \n\n\nLooking for committed volunteers to help set up and return all equipment at the end of each session.  If we can get 12 volunteers\, we will roster 2 volunteers per session.  Commitment will then be once every 6 weeks. \nCommunication\nAll participants will be placed in a BRMC Pickleball WhatsApp group for ease of communication.\n\n\nRegister to indicate your interest
URL:https://www.brmc.org.sg/event/connect-pickleball-14/
LOCATION:ACS Auditorium
ATTACH;FMTTYPE=image/png:https://www.brmc.org.sg/wp-content/uploads/2025/04/WEB_BRMC-PIckleball.png
END:VEVENT
BEGIN:VEVENT
DTSTART;TZID=Asia/Singapore:20250725T200000
DTEND;TZID=Asia/Singapore:20250725T220000
DTSTAMP:20260424T084509
CREATED:20250422T052727Z
LAST-MODIFIED:20250528T085908Z
UID:9513-1753473600-1753480800@www.brmc.org.sg
SUMMARY:Friday Youth Connect
DESCRIPTION:The Youth Connect Group meets weekly on Friday evenings (except on the Fridays before Holy Communion Sundays). \nTime: 8pm- 10pm\nVenue: Wesley Hall \nFollow our Youth Ministry on Instagram! 
URL:https://www.brmc.org.sg/event/youth-connect-group-67/
LOCATION:Wesley Hall
ATTACH;FMTTYPE=image/jpeg:https://www.brmc.org.sg/wp-content/uploads/2022/07/church-school-youths-e1667986685550.jpg
END:VEVENT
BEGIN:VEVENT
DTSTART;TZID=Asia/Singapore:20250726T060000
DTEND;TZID=Asia/Singapore:20250726T083000
DTSTAMP:20260424T084509
CREATED:20250422T043538Z
LAST-MODIFIED:20250422T043538Z
UID:9463-1753509600-1753518600@www.brmc.org.sg
SUMMARY:CONNECT - Emmaus Walk Men’s Fellowship
DESCRIPTION:Emmaus Walk Men’s Fellowship meets on Saturdays to encourage men\, whether singles\, husbands or fathers\, to be men after God’s heart. \nMen’s Prayer Sessions\nSaturdays\, 6am-7am\, Wesley Hall \nMen’s Fellowship Sessions\nSaturdays\, 7am-8.30am\, Wesley Hall \nFIND OUT MORE
URL:https://www.brmc.org.sg/event/connect-emmaus-walk-mens-fellowship-80/
END:VEVENT
BEGIN:VEVENT
DTSTART;TZID=Asia/Singapore:20250727T140000
DTEND;TZID=Asia/Singapore:20250727T170000
DTSTAMP:20260424T084509
CREATED:20250416T024024Z
LAST-MODIFIED:20250506T051645Z
UID:9262-1753624800-1753635600@www.brmc.org.sg
SUMMARY:CONNECT - Pickleball
DESCRIPTION:Join us for weekly pickleball sessions designed to promote intergenerational bonding and an active\, healthy lifestyle within the BRMC family! \nWhether you’re a seasoned player or a complete beginner\, everyone is welcome—children\, youth\, adults\, and seniors alike. We’ll teach newcomers the game\, and equipment (paddles\, balls\, and nets) will be provided. Come enjoy this fun\, easy-to-learn sport that blends tennis\, badminton\, and ping pong! \n🧒 Free for children 12 & under and seniors 55 & over💵 $4 per session for all others (payable via QR code at the entrance)👟 Sports attire with non-marking court shoes required🚫 No food in the auditorium. Bring your own water/drinks. \nNote: These sessions will replace the Thursday Seniors’ Pickleball group from May onwards.Participation is only open to BRMC members. \nVolunteer With Us! \n\n\nLooking for committed volunteers to help set up and return all equipment at the end of each session.  If we can get 12 volunteers\, we will roster 2 volunteers per session.  Commitment will then be once every 6 weeks. \nCommunication\nAll participants will be placed in a BRMC Pickleball WhatsApp group for ease of communication.\n\n\nRegister to indicate your interest
URL:https://www.brmc.org.sg/event/connect-pickleball-15/
LOCATION:ACS Auditorium
ATTACH;FMTTYPE=image/png:https://www.brmc.org.sg/wp-content/uploads/2025/04/WEB_BRMC-PIckleball.png
END:VEVENT
END:VCALENDAR