BEGIN:VCALENDAR
VERSION:2.0
PRODID:-//Barker Road Methodist Church - ECPv6.15.18//NONSGML v1.0//EN
CALSCALE:GREGORIAN
METHOD:PUBLISH
X-ORIGINAL-URL:https://www.brmc.org.sg
X-WR-CALDESC:Events for Barker Road Methodist Church
REFRESH-INTERVAL;VALUE=DURATION:PT1H
X-Robots-Tag:noindex
X-PUBLISHED-TTL:PT1H
BEGIN:VTIMEZONE
TZID:Asia/Singapore
BEGIN:STANDARD
TZOFFSETFROM:+0800
TZOFFSETTO:+0800
TZNAME:+08
DTSTART:20250101T000000
END:STANDARD
END:VTIMEZONE
BEGIN:VEVENT
DTSTART;TZID=Asia/Singapore:20260501T103000
DTEND;TZID=Asia/Singapore:20260501T123000
DTSTAMP:20260423T203336
CREATED:20251003T075810Z
LAST-MODIFIED:20251006T072003Z
UID:11692-1777631400-1777638600@www.brmc.org.sg
SUMMARY:CONNECT - Seniors Fellowship Brunch
DESCRIPTION:Join us at the monthly Seniors Fellowship Brunch for seniors and their caregivers. \nThis event offers a chance to G.R.O.W. (Gracefully Ripen\, Overflowing with Wisdom from God) by connecting and engaging in activities with like-minded individuals. \nCome and be a part of our community as we share stories\, offer support\, and encourage one another over brunch. \nWhether you are a regular attendee or a first-timer\, all are welcome. \nDate: Fri\, 1 May 2026\nTime: 10.30am – 12.30pm\nVenue: Zaffron Kitchen\nAddress: 30 Orange Grove Rd\, #04-02 RELC International Hotel\, Singapore 258352 \nAny amount is acceptable. Freewill offering is welcome. \nRegistration is required. More details will be provided soon. \n\nThe CONNECT Seniors Ministry meets regularly to G.R.O.W. – Graciously Ripen\, Overflowing with Wisdom from Above. \nJoin us and embrace the joy of growth\, wisdom\, and community.
URL:https://www.brmc.org.sg/event/connect-seniors-fellowship-brunch-6/
ATTACH;FMTTYPE=image/png:https://www.brmc.org.sg/wp-content/uploads/2025/04/WEB_Seniors_Brunch_2025.png
END:VEVENT
BEGIN:VEVENT
DTSTART;TZID=Asia/Singapore:20260502T060000
DTEND;TZID=Asia/Singapore:20260502T083000
DTSTAMP:20260423T203336
CREATED:20251006T055156Z
LAST-MODIFIED:20260423T054548Z
UID:11767-1777701600-1777710600@www.brmc.org.sg
SUMMARY:CONNECT - Emmaus Walk Men’s Fellowship
DESCRIPTION:He has told you\, O mortal\, what is good\, and what does the Lord require of you but to do justice and to love kindness and to walk humbly with your God? – Micah 6:8 \nEmmaus Walk Men’s Fellowship meets on Saturdays to encourage men\, whether singles\, husbands or fathers\, to be men after God’s heart. \nMen’s Prayer Sessions\nSaturdays\, 6am – 7am\, Wesley Hall \nMen’s Fellowship Sessions\nSaturdays\, 7am – 8.30am\, Wesley Hall \nFIND OUT MORE
URL:https://www.brmc.org.sg/event/connect-emmaus-walk-mens-fellowship-120/
ATTACH;FMTTYPE=image/jpeg:https://www.brmc.org.sg/wp-content/uploads/2025/10/Web_Wesley-Hall.jpg
END:VEVENT
BEGIN:VEVENT
DTSTART;TZID=Asia/Singapore:20260503T140000
DTEND;TZID=Asia/Singapore:20260503T170000
DTSTAMP:20260423T203336
CREATED:20251022T033154Z
LAST-MODIFIED:20260302T092735Z
UID:12235-1777816800-1777827600@www.brmc.org.sg
SUMMARY:CONNECT - Pickleball
DESCRIPTION:Join us for weekly pickleball sessions for a time of inter-generational bonding with our church family! \nWhether you’re a seasoned player or a complete beginner\, everyone is welcome—children\, youth\, adults\, and seniors alike. We’ll teach newcomers the game\, and equipment (paddles\, balls\, and nets) will be provided. \n🧒 Free for children 12 and under\, & seniors 55 and over💵 $4 per session for all others (payable via QR code at the entrance)👟 Sports attire with non-marking court shoes required🚫 No food in the Auditorium. Bring your own water/drinks \nParticipation is only open to BRMC members. \nVolunteer with us! \n\n\nWe need committed volunteers to help set up and return all equipment at the end of each session.  If we can get 12 volunteers\, we will roster 2 volunteers per session.  Commitment will then be once every 6 weeks. \nWhatsApp Chat Group\nAll participants will be placed in a BRMC Pickleball WhatsApp group for ease of communication.\n\n\nRegister your interest
URL:https://www.brmc.org.sg/event/connect-pickleball-55/
LOCATION:ACS Auditorium
ATTACH;FMTTYPE=image/png:https://www.brmc.org.sg/wp-content/uploads/2025/10/Web_Pickleball.png
END:VEVENT
BEGIN:VEVENT
DTSTART;TZID=Asia/Singapore:20260507T100000
DTEND;TZID=Asia/Singapore:20260507T120000
DTSTAMP:20260423T203336
CREATED:20251006T082133Z
LAST-MODIFIED:20251017T071704Z
UID:11878-1778148000-1778155200@www.brmc.org.sg
SUMMARY:CONNECT - Seniors Singing Fellowship
DESCRIPTION:Date: Thu\, 7 May 2026\nTime: 10am – 12pm\nVenue: Methodist Girls’ School (IGLC room) @ Blackmore Drive \nOn the second week of the month\, we call out to all seniors and their caregivers who love singing. \nAt the Singing Fellowship\, we share our reﬂections on our Christian life through the songs we nominate to sing together\, facilitated by a pastoral staff. \nSinging helps us explore and grow in faith both cognitively and affectively. The lyrics guide our thinking and the music inspires our souls. After singing\, we deepen our bonds of bonds of kinship\, friendship and discipleship over a shared meal together. \nPlease confirm your attendance with Chang Chong Tian at the church office at 6256 4298. \n\nThe CONNECT Seniors Ministry meets regularly to G.R.O.W. – Graciously Ripen\, Overflowing with Wisdom from Above. \nJoin us and embrace the joy of growth\, wisdom\, and community.
URL:https://www.brmc.org.sg/event/connect-seniors-singing-fellowship-20/
ATTACH;FMTTYPE=image/png:https://www.brmc.org.sg/wp-content/uploads/2024/10/WEB_Senior-Singing.png
END:VEVENT
BEGIN:VEVENT
DTSTART;TZID=Asia/Singapore:20260508T200000
DTEND;TZID=Asia/Singapore:20260508T220000
DTSTAMP:20260423T203336
CREATED:20251006T093154Z
LAST-MODIFIED:20251006T093154Z
UID:11936-1778270400-1778277600@www.brmc.org.sg
SUMMARY:Friday Youth Connect
DESCRIPTION:Let no one despise your youth\, but set the believers an example in speech and conduct\, in love\, in faith\, in purity. – 1 Tim 4:12 \nThe Youth Connect Group meets weekly on Friday evenings (except on the Fridays before Holy Communion Sundays). \nTime: 8pm- 10pm\nVenue: Wesley Hall \nFollow our Youth Ministry on Instagram! 
URL:https://www.brmc.org.sg/event/friday-youth-connect-15/
LOCATION:Wesley Hall
ATTACH;FMTTYPE=image/jpeg:https://www.brmc.org.sg/wp-content/uploads/2022/07/church-school-youths-e1667986685550.jpg
END:VEVENT
BEGIN:VEVENT
DTSTART;TZID=Asia/Singapore:20260509T060000
DTEND;TZID=Asia/Singapore:20260509T083000
DTSTAMP:20260423T203336
CREATED:20251006T064407Z
LAST-MODIFIED:20260423T054603Z
UID:11769-1778306400-1778315400@www.brmc.org.sg
SUMMARY:CONNECT - Emmaus Walk Men’s Fellowship
DESCRIPTION:He has told you\, O mortal\, what is good\, and what does the Lord require of you but to do justice and to love kindness and to walk humbly with your God? – Micah 6:8 \nEmmaus Walk Men’s Fellowship meets on Saturdays to encourage men\, whether singles\, husbands or fathers\, to be men after God’s heart. \nMen’s Prayer Sessions\nSaturdays\, 6am – 7am\, Wesley Hall \nMen’s Fellowship Sessions\nSaturdays\, 7am – 8.30am\, Wesley Hall \nFIND OUT MORE
URL:https://www.brmc.org.sg/event/connect-emmaus-walk-mens-fellowship-121/
ATTACH;FMTTYPE=image/jpeg:https://www.brmc.org.sg/wp-content/uploads/2025/10/Web_Wesley-Hall.jpg
END:VEVENT
BEGIN:VEVENT
DTSTART;TZID=Asia/Singapore:20260510T140000
DTEND;TZID=Asia/Singapore:20260510T170000
DTSTAMP:20260423T203336
CREATED:20251022T060718Z
LAST-MODIFIED:20260302T092744Z
UID:12237-1778421600-1778432400@www.brmc.org.sg
SUMMARY:CONNECT - Pickleball
DESCRIPTION:Join us for weekly pickleball sessions for a time of inter-generational bonding with our church family! \nWhether you’re a seasoned player or a complete beginner\, everyone is welcome—children\, youth\, adults\, and seniors alike. We’ll teach newcomers the game\, and equipment (paddles\, balls\, and nets) will be provided. \n🧒 Free for children 12 and under\, & seniors 55 and over💵 $4 per session for all others (payable via QR code at the entrance)👟 Sports attire with non-marking court shoes required🚫 No food in the Auditorium. Bring your own water/drinks \nParticipation is only open to BRMC members. \nVolunteer with us! \n\n\nWe need committed volunteers to help set up and return all equipment at the end of each session.  If we can get 12 volunteers\, we will roster 2 volunteers per session.  Commitment will then be once every 6 weeks. \nWhatsApp Chat Group\nAll participants will be placed in a BRMC Pickleball WhatsApp group for ease of communication.\n\n\nRegister your interest
URL:https://www.brmc.org.sg/event/connect-pickleball-56/
LOCATION:ACS Auditorium
ATTACH;FMTTYPE=image/png:https://www.brmc.org.sg/wp-content/uploads/2025/10/Web_Pickleball.png
END:VEVENT
BEGIN:VEVENT
DTSTART;TZID=Asia/Singapore:20260513T153000
DTEND;TZID=Asia/Singapore:20260513T163000
DTSTAMP:20260423T203336
CREATED:20251006T071544Z
LAST-MODIFIED:20260330T014845Z
UID:11794-1778686200-1778689800@www.brmc.org.sg
SUMMARY:CONNECT - Seniors Chapel
DESCRIPTION:This is a time and place for us to personally draw near to God in His Sanctuary through songs\, prayers\, and guided meditation. \nDate: Wed\, 13 May 2026\nTime: 3.30pm – 4.30pm\nVenue: Wesley Hall \nHoly Communion is served every month at Seniors Chapel. \nNo registration is required. \n\nThe CONNECT Seniors Ministry meets regularly to G.R.O.W. – Graciously Ripen\, Overflowing with Wisdom from Above. \nJoin us and embrace the joy of growth\, wisdom\, and community.
URL:https://www.brmc.org.sg/event/connect-seniors-chapel-35/
LOCATION:Wesley Hall
ATTACH;FMTTYPE=image/jpeg:https://www.brmc.org.sg/wp-content/uploads/2025/10/Web_Wesley-Hall.jpg
END:VEVENT
BEGIN:VEVENT
DTSTART;TZID=Asia/Singapore:20260515T200000
DTEND;TZID=Asia/Singapore:20260515T220000
DTSTAMP:20260423T203336
CREATED:20251006T093234Z
LAST-MODIFIED:20251006T093234Z
UID:11938-1778875200-1778882400@www.brmc.org.sg
SUMMARY:Friday Youth Connect
DESCRIPTION:Let no one despise your youth\, but set the believers an example in speech and conduct\, in love\, in faith\, in purity. – 1 Tim 4:12 \nThe Youth Connect Group meets weekly on Friday evenings (except on the Fridays before Holy Communion Sundays). \nTime: 8pm- 10pm\nVenue: Wesley Hall \nFollow our Youth Ministry on Instagram! 
URL:https://www.brmc.org.sg/event/friday-youth-connect-16/
LOCATION:Wesley Hall
ATTACH;FMTTYPE=image/jpeg:https://www.brmc.org.sg/wp-content/uploads/2022/07/church-school-youths-e1667986685550.jpg
END:VEVENT
BEGIN:VEVENT
DTSTART;TZID=Asia/Singapore:20260516T060000
DTEND;TZID=Asia/Singapore:20260516T083000
DTSTAMP:20260423T203336
CREATED:20251006T064457Z
LAST-MODIFIED:20260423T054620Z
UID:11771-1778911200-1778920200@www.brmc.org.sg
SUMMARY:CONNECT - Emmaus Walk Men’s Fellowship
DESCRIPTION:He has told you\, O mortal\, what is good\, and what does the Lord require of you but to do justice and to love kindness and to walk humbly with your God? – Micah 6:8 \nEmmaus Walk Men’s Fellowship meets on Saturdays to encourage men\, whether singles\, husbands or fathers\, to be men after God’s heart. \nMen’s Prayer Sessions\nSaturdays\, 6am – 7am\, Wesley Hall \nMen’s Fellowship Sessions\nSaturdays\, 7am – 8.30am\, Wesley Hall \nFIND OUT MORE
URL:https://www.brmc.org.sg/event/connect-emmaus-walk-mens-fellowship-122/
ATTACH;FMTTYPE=image/jpeg:https://www.brmc.org.sg/wp-content/uploads/2025/10/Web_Wesley-Hall.jpg
END:VEVENT
BEGIN:VEVENT
DTSTART;TZID=Asia/Singapore:20260516T090000
DTEND;TZID=Asia/Singapore:20260516T120000
DTSTAMP:20260423T203336
CREATED:20260319T101440Z
LAST-MODIFIED:20260421T022608Z
UID:13897-1778922000-1778932800@www.brmc.org.sg
SUMMARY:CONNECT - A Grand Calling: Biblical Wisdom for Grandparents
DESCRIPTION:Grandparenting is a special calling. Join Dr Robert Solomon as he shares biblical wisdom and practical guidance on passing on the faith\, storytelling\, and building meaningful relationships with your grandchildren. \nDate: Sat\, 16 May 2026\nTime: 9am – 12pm\nVenue: Wesley Hall\nRegistration closes: 9 May 2026 \nWhether you are a grandparent or preparing to become one\, be encouraged and equipped for this calling. \nSign up on the Church Center App
URL:https://www.brmc.org.sg/event/connect-bishop-emeritus-solomons-talk-grandparenting/
ATTACH;FMTTYPE=image/png:https://www.brmc.org.sg/wp-content/uploads/2026/03/Web_Grandparenting.png
END:VEVENT
BEGIN:VEVENT
DTSTART;TZID=Asia/Singapore:20260517T140000
DTEND;TZID=Asia/Singapore:20260517T170000
DTSTAMP:20260423T203336
CREATED:20251022T060755Z
LAST-MODIFIED:20260302T092754Z
UID:12239-1779026400-1779037200@www.brmc.org.sg
SUMMARY:CONNECT - Pickleball
DESCRIPTION:Join us for weekly pickleball sessions for a time of inter-generational bonding with our church family! \nWhether you’re a seasoned player or a complete beginner\, everyone is welcome—children\, youth\, adults\, and seniors alike. We’ll teach newcomers the game\, and equipment (paddles\, balls\, and nets) will be provided. \n🧒 Free for children 12 and under\, & seniors 55 and over💵 $4 per session for all others (payable via QR code at the entrance)👟 Sports attire with non-marking court shoes required🚫 No food in the Auditorium. Bring your own water/drinks \nParticipation is only open to BRMC members. \nVolunteer with us! \n\n\nWe need committed volunteers to help set up and return all equipment at the end of each session.  If we can get 12 volunteers\, we will roster 2 volunteers per session.  Commitment will then be once every 6 weeks. \nWhatsApp Chat Group\nAll participants will be placed in a BRMC Pickleball WhatsApp group for ease of communication.\n\n\nRegister your interest
URL:https://www.brmc.org.sg/event/connect-pickleball-57/
LOCATION:ACS Auditorium
ATTACH;FMTTYPE=image/png:https://www.brmc.org.sg/wp-content/uploads/2025/10/Web_Pickleball.png
END:VEVENT
BEGIN:VEVENT
DTSTART;TZID=Asia/Singapore:20260522T200000
DTEND;TZID=Asia/Singapore:20260522T220000
DTSTAMP:20260423T203336
CREATED:20251006T093313Z
LAST-MODIFIED:20251006T093313Z
UID:11940-1779480000-1779487200@www.brmc.org.sg
SUMMARY:Friday Youth Connect
DESCRIPTION:Let no one despise your youth\, but set the believers an example in speech and conduct\, in love\, in faith\, in purity. – 1 Tim 4:12 \nThe Youth Connect Group meets weekly on Friday evenings (except on the Fridays before Holy Communion Sundays). \nTime: 8pm- 10pm\nVenue: Wesley Hall \nFollow our Youth Ministry on Instagram! 
URL:https://www.brmc.org.sg/event/friday-youth-connect-17/
LOCATION:Wesley Hall
ATTACH;FMTTYPE=image/jpeg:https://www.brmc.org.sg/wp-content/uploads/2022/07/church-school-youths-e1667986685550.jpg
END:VEVENT
BEGIN:VEVENT
DTSTART;TZID=Asia/Singapore:20260523T060000
DTEND;TZID=Asia/Singapore:20260523T083000
DTSTAMP:20260423T203336
CREATED:20251006T064542Z
LAST-MODIFIED:20260423T054633Z
UID:11773-1779516000-1779525000@www.brmc.org.sg
SUMMARY:CONNECT - Emmaus Walk Men’s Fellowship
DESCRIPTION:He has told you\, O mortal\, what is good\, and what does the Lord require of you but to do justice and to love kindness and to walk humbly with your God? – Micah 6:8 \nEmmaus Walk Men’s Fellowship meets on Saturdays to encourage men\, whether singles\, husbands or fathers\, to be men after God’s heart. \nMen’s Prayer Sessions\nSaturdays\, 6am – 7am\, Wesley Hall \nMen’s Fellowship Sessions\nSaturdays\, 7am – 8.30am\, Wesley Hall \nFIND OUT MORE
URL:https://www.brmc.org.sg/event/connect-emmaus-walk-mens-fellowship-123/
ATTACH;FMTTYPE=image/jpeg:https://www.brmc.org.sg/wp-content/uploads/2025/10/Web_Wesley-Hall.jpg
END:VEVENT
BEGIN:VEVENT
DTSTART;TZID=Asia/Singapore:20260523T133000
DTEND;TZID=Asia/Singapore:20260523T160000
DTSTAMP:20260423T203336
CREATED:20251006T082630Z
LAST-MODIFIED:20260316T022028Z
UID:11890-1779543000-1779552000@www.brmc.org.sg
SUMMARY:CONNECT - Shalom Dementia Care Fellowship
DESCRIPTION:Caring for someone with dementia or living with it can be overwhelming\, but you’re not alone. \nThe monthly Shalom Dementia Care Fellowship provides a supportive space where those with dementia and their caregivers can come together in faith and fellowship. It runs on 3rd Saturdays of the month. \nDate: 23 May 2026\nTime: 1.30pm – 4pm\nVenue: Wesley Hall \nThe programme is as follows: \n\nWelcome\nWorship\nScripture/Message\nExercise\nClosing\n\nRegistration is required. Please contact Chong Tian at the church office at 6256 4298. \nGet in touch \n\nThe CONNECT Seniors Ministry meets regularly to G.R.O.W. – Graciously Ripen\, Overflowing with Wisdom from Above. \nJoin us and embrace the joy of growth\, wisdom\, and community.
URL:https://www.brmc.org.sg/event/connect-shalom-dementia-care-fellowship-36/
ATTACH;FMTTYPE=image/jpeg:https://www.brmc.org.sg/wp-content/uploads/2023/07/dementia-care.jpeg
END:VEVENT
BEGIN:VEVENT
DTSTART;TZID=Asia/Singapore:20260524T140000
DTEND;TZID=Asia/Singapore:20260524T170000
DTSTAMP:20260423T203336
CREATED:20251022T060834Z
LAST-MODIFIED:20260302T092802Z
UID:12241-1779631200-1779642000@www.brmc.org.sg
SUMMARY:CONNECT - Pickleball
DESCRIPTION:Join us for weekly pickleball sessions for a time of inter-generational bonding with our church family! \nWhether you’re a seasoned player or a complete beginner\, everyone is welcome—children\, youth\, adults\, and seniors alike. We’ll teach newcomers the game\, and equipment (paddles\, balls\, and nets) will be provided. \n🧒 Free for children 12 and under\, & seniors 55 and over💵 $4 per session for all others (payable via QR code at the entrance)👟 Sports attire with non-marking court shoes required🚫 No food in the Auditorium. Bring your own water/drinks \nParticipation is only open to BRMC members. \nVolunteer with us! \n\n\nWe need committed volunteers to help set up and return all equipment at the end of each session.  If we can get 12 volunteers\, we will roster 2 volunteers per session.  Commitment will then be once every 6 weeks. \nWhatsApp Chat Group\nAll participants will be placed in a BRMC Pickleball WhatsApp group for ease of communication.\n\n\nRegister your interest
URL:https://www.brmc.org.sg/event/connect-pickleball-58/
LOCATION:ACS Auditorium
ATTACH;FMTTYPE=image/png:https://www.brmc.org.sg/wp-content/uploads/2025/10/Web_Pickleball.png
END:VEVENT
BEGIN:VEVENT
DTSTART;TZID=Asia/Singapore:20260529T200000
DTEND;TZID=Asia/Singapore:20260529T220000
DTSTAMP:20260423T203336
CREATED:20251006T093353Z
LAST-MODIFIED:20251006T093831Z
UID:11942-1780084800-1780092000@www.brmc.org.sg
SUMMARY:Friday Youth Connect
DESCRIPTION:Let no one despise your youth\, but set the believers an example in speech and conduct\, in love\, in faith\, in purity. – 1 Tim 4:12 \nThe Youth Connect Group meets weekly on Friday evenings (except on the Fridays before Holy Communion Sundays). \nTime: 8pm- 10pm\nVenue: Wesley Hall \nFollow our Youth Ministry on Instagram! 
URL:https://www.brmc.org.sg/event/friday-youth-connect-18/
LOCATION:Wesley Hall
ATTACH;FMTTYPE=image/jpeg:https://www.brmc.org.sg/wp-content/uploads/2022/07/church-school-youths-e1667986685550.jpg
END:VEVENT
BEGIN:VEVENT
DTSTART;TZID=Asia/Singapore:20260530T060000
DTEND;TZID=Asia/Singapore:20260530T083000
DTSTAMP:20260423T203336
CREATED:20251006T064626Z
LAST-MODIFIED:20260423T054649Z
UID:11775-1780120800-1780129800@www.brmc.org.sg
SUMMARY:CONNECT - Emmaus Walk Men’s Fellowship
DESCRIPTION:He has told you\, O mortal\, what is good\, and what does the Lord require of you but to do justice and to love kindness and to walk humbly with your God? – Micah 6:8 \nEmmaus Walk Men’s Fellowship meets on Saturdays to encourage men\, whether singles\, husbands or fathers\, to be men after God’s heart. \nMen’s Prayer Sessions\nSaturdays\, 6am – 7am\, Wesley Hall \nMen’s Fellowship Sessions\nSaturdays\, 7am – 8.30am\, Wesley Hall \nFIND OUT MORE
URL:https://www.brmc.org.sg/event/connect-emmaus-walk-mens-fellowship-124/
ATTACH;FMTTYPE=image/jpeg:https://www.brmc.org.sg/wp-content/uploads/2025/10/Web_Wesley-Hall.jpg
END:VEVENT
BEGIN:VEVENT
DTSTART;TZID=Asia/Singapore:20260531T140000
DTEND;TZID=Asia/Singapore:20260531T170000
DTSTAMP:20260423T203336
CREATED:20251022T060919Z
LAST-MODIFIED:20260302T092812Z
UID:12243-1780236000-1780246800@www.brmc.org.sg
SUMMARY:CONNECT - Pickleball
DESCRIPTION:Join us for weekly pickleball sessions for a time of inter-generational bonding with our church family! \nWhether you’re a seasoned player or a complete beginner\, everyone is welcome—children\, youth\, adults\, and seniors alike. We’ll teach newcomers the game\, and equipment (paddles\, balls\, and nets) will be provided. \n🧒 Free for children 12 and under\, & seniors 55 and over💵 $4 per session for all others (payable via QR code at the entrance)👟 Sports attire with non-marking court shoes required🚫 No food in the Auditorium. Bring your own water/drinks \nParticipation is only open to BRMC members. \nVolunteer with us! \n\n\nWe need committed volunteers to help set up and return all equipment at the end of each session.  If we can get 12 volunteers\, we will roster 2 volunteers per session.  Commitment will then be once every 6 weeks. \nWhatsApp Chat Group\nAll participants will be placed in a BRMC Pickleball WhatsApp group for ease of communication.\n\n\nRegister your interest
URL:https://www.brmc.org.sg/event/connect-pickleball-59/
LOCATION:ACS Auditorium
ATTACH;FMTTYPE=image/png:https://www.brmc.org.sg/wp-content/uploads/2025/10/Web_Pickleball.png
END:VEVENT
END:VCALENDAR