BEGIN:VCALENDAR
VERSION:2.0
PRODID:-//Barker Road Methodist Church - ECPv6.15.18//NONSGML v1.0//EN
CALSCALE:GREGORIAN
METHOD:PUBLISH
X-WR-CALNAME:Barker Road Methodist Church
X-ORIGINAL-URL:https://www.brmc.org.sg
X-WR-CALDESC:Events for Barker Road Methodist Church
REFRESH-INTERVAL;VALUE=DURATION:PT1H
X-Robots-Tag:noindex
X-PUBLISHED-TTL:PT1H
BEGIN:VTIMEZONE
TZID:Asia/Singapore
BEGIN:STANDARD
TZOFFSETFROM:+0800
TZOFFSETTO:+0800
TZNAME:+08
DTSTART:20250101T000000
END:STANDARD
END:VTIMEZONE
BEGIN:VEVENT
DTSTART;TZID=Asia/Singapore:20260703T103000
DTEND;TZID=Asia/Singapore:20260703T123000
DTSTAMP:20260423T235358
CREATED:20251006T072034Z
LAST-MODIFIED:20251006T072034Z
UID:11798-1783074600-1783081800@www.brmc.org.sg
SUMMARY:CONNECT - Seniors Fellowship Brunch
DESCRIPTION:Join us at the monthly Seniors Fellowship Brunch for seniors and their caregivers. \nThis event offers a chance to G.R.O.W. (Gracefully Ripen\, Overflowing with Wisdom from God) by connecting and engaging in activities with like-minded individuals. \nCome and be a part of our community as we share stories\, offer support\, and encourage one another over brunch. \nWhether you are a regular attendee or a first-timer\, all are welcome. \nDate: Fri\, 3 Jul 2026\nTime: 10.30am – 12.30pm\nVenue: Zaffron Kitchen\nAddress: 30 Orange Grove Rd\, #04-02 RELC International Hotel\, Singapore 258352 \nAny amount is acceptable. Freewill offering is welcome. \nRegistration is required. More details will be provided soon. \n\nThe CONNECT Seniors Ministry meets regularly to G.R.O.W. – Graciously Ripen\, Overflowing with Wisdom from Above. \nJoin us and embrace the joy of growth\, wisdom\, and community.
URL:https://www.brmc.org.sg/event/connect-seniors-fellowship-brunch-7/
ATTACH;FMTTYPE=image/png:https://www.brmc.org.sg/wp-content/uploads/2025/04/WEB_Seniors_Brunch_2025.png
END:VEVENT
BEGIN:VEVENT
DTSTART;TZID=Asia/Singapore:20260704T060000
DTEND;TZID=Asia/Singapore:20260704T083000
DTSTAMP:20260423T235358
CREATED:20251006T072517Z
LAST-MODIFIED:20260423T054803Z
UID:11818-1783144800-1783153800@www.brmc.org.sg
SUMMARY:CONNECT - Emmaus Walk Men’s Fellowship
DESCRIPTION:He has told you\, O mortal\, what is good\, and what does the Lord require of you but to do justice and to love kindness and to walk humbly with your God? – Micah 6:8 \nEmmaus Walk Men’s Fellowship meets on Saturdays to encourage men\, whether singles\, husbands or fathers\, to be men after God’s heart. \nMen’s Prayer Sessions\nSaturdays\, 6am – 7am\, Wesley Hall \nMen’s Fellowship Sessions\nSaturdays\, 7am – 8.30am\, Wesley Hall \nFIND OUT MORE
URL:https://www.brmc.org.sg/event/connect-emmaus-walk-mens-fellowship-129/
ATTACH;FMTTYPE=image/jpeg:https://www.brmc.org.sg/wp-content/uploads/2025/10/Web_Wesley-Hall.jpg
END:VEVENT
BEGIN:VEVENT
DTSTART;TZID=Asia/Singapore:20260705T140000
DTEND;TZID=Asia/Singapore:20260705T170000
DTSTAMP:20260423T235358
CREATED:20260414T055459Z
LAST-MODIFIED:20260414T055459Z
UID:14306-1783260000-1783270800@www.brmc.org.sg
SUMMARY:CONNECT - Pickleball
DESCRIPTION:Join us for weekly pickleball sessions for a time of inter-generational bonding with our church family! \nWhether you’re a seasoned player or a complete beginner\, everyone is welcome—children\, youth\, adults\, and seniors alike. We’ll teach newcomers the game\, and equipment (paddles\, balls\, and nets) will be provided. \n🧒 Free for children 12 and under\, & seniors 55 and over💵 $4 per session for all others (payable via QR code at the entrance)👟 Sports attire with non-marking court shoes required🚫 No food in the Auditorium. Bring your own water/drinks \nParticipation is only open to BRMC members. \nVolunteer with us! \n\n\nWe need committed volunteers to help set up and return all equipment at the end of each session.  If we can get 12 volunteers\, we will roster 2 volunteers per session.  Commitment will then be once every 6 weeks. \nWhatsApp Chat Group\nAll participants will be placed in a BRMC Pickleball WhatsApp group for ease of communication.\n\n\nRegister your interest
URL:https://www.brmc.org.sg/event/connect-pickleball-64/
LOCATION:ACS Auditorium
ATTACH;FMTTYPE=image/png:https://www.brmc.org.sg/wp-content/uploads/2025/10/Web_Pickleball.png
END:VEVENT
BEGIN:VEVENT
DTSTART;TZID=Asia/Singapore:20260709T100000
DTEND;TZID=Asia/Singapore:20260709T120000
DTSTAMP:20260423T235358
CREATED:20260414T053807Z
LAST-MODIFIED:20260414T053807Z
UID:14293-1783591200-1783598400@www.brmc.org.sg
SUMMARY:CONNECT - Seniors Singing Fellowship
DESCRIPTION:Date: Thu\, 9 Jul 2026\nTime: 10am – 12pm\nVenue: Methodist Girls’ School (IGLC room) @ Blackmore Drive \nOn the second week of the month\, we call out to all seniors and their caregivers who love singing. \nAt the Singing Fellowship\, we share our reﬂections on our Christian life through the songs we nominate to sing together\, facilitated by a pastoral staff. \nSinging helps us explore and grow in faith both cognitively and affectively. The lyrics guide our thinking and the music inspires our souls. After singing\, we deepen our bonds of bonds of kinship\, friendship and discipleship over a shared meal together. \nPlease confirm your attendance with Chang Chong Tian at the church office at 6256 4298. \n\nThe CONNECT Seniors Ministry meets regularly to G.R.O.W. – Graciously Ripen\, Overflowing with Wisdom from Above. \nJoin us and embrace the joy of growth\, wisdom\, and community.
URL:https://www.brmc.org.sg/event/connect-seniors-singing-fellowship-22/
ATTACH;FMTTYPE=image/png:https://www.brmc.org.sg/wp-content/uploads/2024/10/WEB_Senior-Singing.png
END:VEVENT
BEGIN:VEVENT
DTSTART;TZID=Asia/Singapore:20260711T060000
DTEND;TZID=Asia/Singapore:20260711T083000
DTSTAMP:20260423T235358
CREATED:20251006T072606Z
LAST-MODIFIED:20260423T054817Z
UID:11820-1783749600-1783758600@www.brmc.org.sg
SUMMARY:CONNECT - Emmaus Walk Men’s Fellowship
DESCRIPTION:He has told you\, O mortal\, what is good\, and what does the Lord require of you but to do justice and to love kindness and to walk humbly with your God? – Micah 6:8 \nEmmaus Walk Men’s Fellowship meets on Saturdays to encourage men\, whether singles\, husbands or fathers\, to be men after God’s heart. \nMen’s Prayer Sessions\nSaturdays\, 6am – 7am\, Wesley Hall \nMen’s Fellowship Sessions\nSaturdays\, 7am – 8.30am\, Wesley Hall \nFIND OUT MORE
URL:https://www.brmc.org.sg/event/connect-emmaus-walk-mens-fellowship-130/
ATTACH;FMTTYPE=image/jpeg:https://www.brmc.org.sg/wp-content/uploads/2025/10/Web_Wesley-Hall.jpg
END:VEVENT
BEGIN:VEVENT
DTSTART;TZID=Asia/Singapore:20260712T140000
DTEND;TZID=Asia/Singapore:20260712T170000
DTSTAMP:20260423T235358
CREATED:20260414T055559Z
LAST-MODIFIED:20260414T055559Z
UID:14308-1783864800-1783875600@www.brmc.org.sg
SUMMARY:CONNECT - Pickleball
DESCRIPTION:Join us for weekly pickleball sessions for a time of inter-generational bonding with our church family! \nWhether you’re a seasoned player or a complete beginner\, everyone is welcome—children\, youth\, adults\, and seniors alike. We’ll teach newcomers the game\, and equipment (paddles\, balls\, and nets) will be provided. \n🧒 Free for children 12 and under\, & seniors 55 and over💵 $4 per session for all others (payable via QR code at the entrance)👟 Sports attire with non-marking court shoes required🚫 No food in the Auditorium. Bring your own water/drinks \nParticipation is only open to BRMC members. \nVolunteer with us! \n\n\nWe need committed volunteers to help set up and return all equipment at the end of each session.  If we can get 12 volunteers\, we will roster 2 volunteers per session.  Commitment will then be once every 6 weeks. \nWhatsApp Chat Group\nAll participants will be placed in a BRMC Pickleball WhatsApp group for ease of communication.\n\n\nRegister your interest
URL:https://www.brmc.org.sg/event/connect-pickleball-65/
LOCATION:ACS Auditorium
ATTACH;FMTTYPE=image/png:https://www.brmc.org.sg/wp-content/uploads/2025/10/Web_Pickleball.png
END:VEVENT
BEGIN:VEVENT
DTSTART;TZID=Asia/Singapore:20260715T153000
DTEND;TZID=Asia/Singapore:20260715T163000
DTSTAMP:20260423T235358
CREATED:20260414T052205Z
LAST-MODIFIED:20260415T024719Z
UID:14238-1784129400-1784133000@www.brmc.org.sg
SUMMARY:CONNECT - Seniors Chapel
DESCRIPTION:This is a time and place for us to personally draw near to God in His Sanctuary through songs\, prayers\, and guided meditation. \nDate: Wed\, 15 Jul 2026\nTime: 3.30pm – 4.30pm\nVenue: Wesley Hall \nHoly Communion is served every month at Seniors Chapel. \nNo registration is required. \n\nThe CONNECT Seniors Ministry meets regularly to G.R.O.W. – Graciously Ripen\, Overflowing with Wisdom from Above. \nJoin us and embrace the joy of growth\, wisdom\, and community.
URL:https://www.brmc.org.sg/event/connect-seniors-chapel-37/
LOCATION:Wesley Hall
ATTACH;FMTTYPE=image/jpeg:https://www.brmc.org.sg/wp-content/uploads/2025/10/Web_Wesley-Hall.jpg
END:VEVENT
BEGIN:VEVENT
DTSTART;TZID=Asia/Singapore:20260718T060000
DTEND;TZID=Asia/Singapore:20260718T083000
DTSTAMP:20260423T235358
CREATED:20251006T072658Z
LAST-MODIFIED:20260423T054831Z
UID:11822-1784354400-1784363400@www.brmc.org.sg
SUMMARY:CONNECT - Emmaus Walk Men’s Fellowship
DESCRIPTION:He has told you\, O mortal\, what is good\, and what does the Lord require of you but to do justice and to love kindness and to walk humbly with your God? – Micah 6:8 \nEmmaus Walk Men’s Fellowship meets on Saturdays to encourage men\, whether singles\, husbands or fathers\, to be men after God’s heart. \nMen’s Prayer Sessions\nSaturdays\, 6am – 7am\, Wesley Hall \nMen’s Fellowship Sessions\nSaturdays\, 7am – 8.30am\, Wesley Hall \nFIND OUT MORE
URL:https://www.brmc.org.sg/event/connect-emmaus-walk-mens-fellowship-131/
ATTACH;FMTTYPE=image/jpeg:https://www.brmc.org.sg/wp-content/uploads/2025/10/Web_Wesley-Hall.jpg
END:VEVENT
BEGIN:VEVENT
DTSTART;TZID=Asia/Singapore:20260718T133000
DTEND;TZID=Asia/Singapore:20260718T160000
DTSTAMP:20260423T235358
CREATED:20260414T053313Z
LAST-MODIFIED:20260414T053313Z
UID:14281-1784381400-1784390400@www.brmc.org.sg
SUMMARY:CONNECT - Shalom Dementia Care Fellowship
DESCRIPTION:Caring for someone with dementia or living with it can be overwhelming\, but you’re not alone. \nThe monthly Shalom Dementia Care Fellowship provides a supportive space where those with dementia and their caregivers can come together in faith and fellowship. It runs on 3rd Saturdays of the month. \nDate: 18 Jul 2026\nTime: 1.30pm – 4pm\nVenue: Wesley Hall \nThe programme is as follows: \n\nWelcome\nWorship\nScripture/Message\nExercise\nClosing\n\nRegistration is required. Please contact Chong Tian at the church office at 6256 4298. \nGet in touch \n\nThe CONNECT Seniors Ministry meets regularly to G.R.O.W. – Graciously Ripen\, Overflowing with Wisdom from Above. \nJoin us and embrace the joy of growth\, wisdom\, and community.
URL:https://www.brmc.org.sg/event/connect-shalom-dementia-care-fellowship-38/
ATTACH;FMTTYPE=image/jpeg:https://www.brmc.org.sg/wp-content/uploads/2023/07/dementia-care.jpeg
END:VEVENT
BEGIN:VEVENT
DTSTART;TZID=Asia/Singapore:20260719T140000
DTEND;TZID=Asia/Singapore:20260719T170000
DTSTAMP:20260423T235358
CREATED:20260414T060222Z
LAST-MODIFIED:20260414T060222Z
UID:14310-1784469600-1784480400@www.brmc.org.sg
SUMMARY:CONNECT - Pickleball
DESCRIPTION:Join us for weekly pickleball sessions for a time of inter-generational bonding with our church family! \nWhether you’re a seasoned player or a complete beginner\, everyone is welcome—children\, youth\, adults\, and seniors alike. We’ll teach newcomers the game\, and equipment (paddles\, balls\, and nets) will be provided. \n🧒 Free for children 12 and under\, & seniors 55 and over💵 $4 per session for all others (payable via QR code at the entrance)👟 Sports attire with non-marking court shoes required🚫 No food in the Auditorium. Bring your own water/drinks \nParticipation is only open to BRMC members. \nVolunteer with us! \n\n\nWe need committed volunteers to help set up and return all equipment at the end of each session.  If we can get 12 volunteers\, we will roster 2 volunteers per session.  Commitment will then be once every 6 weeks. \nWhatsApp Chat Group\nAll participants will be placed in a BRMC Pickleball WhatsApp group for ease of communication.\n\n\nRegister your interest
URL:https://www.brmc.org.sg/event/connect-pickleball-66/
LOCATION:ACS Auditorium
ATTACH;FMTTYPE=image/png:https://www.brmc.org.sg/wp-content/uploads/2025/10/Web_Pickleball.png
END:VEVENT
BEGIN:VEVENT
DTSTART;VALUE=DATE:20260724
DTEND;VALUE=DATE:20260727
DTSTAMP:20260423T235358
CREATED:20260306T065930Z
LAST-MODIFIED:20260420T073604Z
UID:13717-1784851200-1785110399@www.brmc.org.sg
SUMMARY:CONNECT - Young Adults Ministry Retreat 2026
DESCRIPTION:God’s love has been poured out for us—filling our lives and calling us to pour ourselves out in love for Him and for others. Yet in the midst of busyness\, weariness\, and distractions\, it’s easy to lose sight of the source of that love. \nWhat does it mean to truly receive God’s love? How does His love shape the way we live\, serve\, and journey in community? And how can our lives become an offering\, poured out for God\, our neighbours\, and the world? \nJoin us at YAM Retreat 2026 as we explore these questions together. Come and be renewed\, realigned\, and rooted in His love—walking with God and alongside one another as we grow deeper in faith. \nDate: 24 – 26 Jul 2026\nVenue: Holiday Villa Hotel\, Johor Bahru\nSpeaker: Rev Dr Jeremy Joe Tan \nSign up on the Church Center App
URL:https://www.brmc.org.sg/event/connect-young-adults-ministry-retreat-3/
ATTACH;FMTTYPE=image/png:https://www.brmc.org.sg/wp-content/uploads/2026/03/Web_Holiday-Villa-JB-Placeholder.png
END:VEVENT
BEGIN:VEVENT
DTSTART;TZID=Asia/Singapore:20260725T060000
DTEND;TZID=Asia/Singapore:20260725T083000
DTSTAMP:20260423T235358
CREATED:20251006T072744Z
LAST-MODIFIED:20260423T055040Z
UID:11824-1784959200-1784968200@www.brmc.org.sg
SUMMARY:CONNECT - Emmaus Walk Men’s Fellowship
DESCRIPTION:He has told you\, O mortal\, what is good\, and what does the Lord require of you but to do justice and to love kindness and to walk humbly with your God? – Micah 6:8 \nEmmaus Walk Men’s Fellowship meets on Saturdays to encourage men\, whether singles\, husbands or fathers\, to be men after God’s heart. \nMen’s Prayer Sessions\nSaturdays\, 6am – 7am\, Wesley Hall \nMen’s Fellowship Sessions\nSaturdays\, 7am – 8.30am\, Wesley Hall \nFIND OUT MORE
URL:https://www.brmc.org.sg/event/connect-emmaus-walk-mens-fellowship-132/
ATTACH;FMTTYPE=image/jpeg:https://www.brmc.org.sg/wp-content/uploads/2025/10/Web_Wesley-Hall.jpg
END:VEVENT
BEGIN:VEVENT
DTSTART;TZID=Asia/Singapore:20260726T140000
DTEND;TZID=Asia/Singapore:20260726T170000
DTSTAMP:20260423T235358
CREATED:20260414T060305Z
LAST-MODIFIED:20260414T060305Z
UID:14312-1785074400-1785085200@www.brmc.org.sg
SUMMARY:CONNECT - Pickleball
DESCRIPTION:Join us for weekly pickleball sessions for a time of inter-generational bonding with our church family! \nWhether you’re a seasoned player or a complete beginner\, everyone is welcome—children\, youth\, adults\, and seniors alike. We’ll teach newcomers the game\, and equipment (paddles\, balls\, and nets) will be provided. \n🧒 Free for children 12 and under\, & seniors 55 and over💵 $4 per session for all others (payable via QR code at the entrance)👟 Sports attire with non-marking court shoes required🚫 No food in the Auditorium. Bring your own water/drinks \nParticipation is only open to BRMC members. \nVolunteer with us! \n\n\nWe need committed volunteers to help set up and return all equipment at the end of each session.  If we can get 12 volunteers\, we will roster 2 volunteers per session.  Commitment will then be once every 6 weeks. \nWhatsApp Chat Group\nAll participants will be placed in a BRMC Pickleball WhatsApp group for ease of communication.\n\n\nRegister your interest
URL:https://www.brmc.org.sg/event/connect-pickleball-67/
LOCATION:ACS Auditorium
ATTACH;FMTTYPE=image/png:https://www.brmc.org.sg/wp-content/uploads/2025/10/Web_Pickleball.png
END:VEVENT
END:VCALENDAR