BEGIN:VCALENDAR
VERSION:2.0
PRODID:-//Barker Road Methodist Church - ECPv6.15.18//NONSGML v1.0//EN
CALSCALE:GREGORIAN
METHOD:PUBLISH
X-WR-CALNAME:Barker Road Methodist Church
X-ORIGINAL-URL:https://www.brmc.org.sg
X-WR-CALDESC:Events for Barker Road Methodist Church
REFRESH-INTERVAL;VALUE=DURATION:PT1H
X-Robots-Tag:noindex
X-PUBLISHED-TTL:PT1H
BEGIN:VTIMEZONE
TZID:Asia/Singapore
BEGIN:STANDARD
TZOFFSETFROM:+0800
TZOFFSETTO:+0800
TZNAME:+08
DTSTART:20250101T000000
END:STANDARD
END:VTIMEZONE
BEGIN:VEVENT
DTSTART;TZID=Asia/Singapore:20260904T103000
DTEND;TZID=Asia/Singapore:20260904T123000
DTSTAMP:20260424T024920
CREATED:20251006T072153Z
LAST-MODIFIED:20251006T072153Z
UID:11810-1788517800-1788525000@www.brmc.org.sg
SUMMARY:CONNECT - Seniors Fellowship Brunch
DESCRIPTION:Join us at the monthly Seniors Fellowship Brunch for seniors and their caregivers. \nThis event offers a chance to G.R.O.W. (Gracefully Ripen\, Overflowing with Wisdom from God) by connecting and engaging in activities with like-minded individuals. \nCome and be a part of our community as we share stories\, offer support\, and encourage one another over brunch. \nWhether you are a regular attendee or a first-timer\, all are welcome. \nDate: Fri\, 4 Sep 2026\nTime: 10.30am – 12.30pm\nVenue: Zaffron Kitchen\nAddress: 30 Orange Grove Rd\, #04-02 RELC International Hotel\, Singapore 258352 \nAny amount is acceptable. Freewill offering is welcome. \nRegistration is required. More details will be provided soon. \n\nThe CONNECT Seniors Ministry meets regularly to G.R.O.W. – Graciously Ripen\, Overflowing with Wisdom from Above. \nJoin us and embrace the joy of growth\, wisdom\, and community.
URL:https://www.brmc.org.sg/event/connect-seniors-fellowship-brunch-9/
ATTACH;FMTTYPE=image/png:https://www.brmc.org.sg/wp-content/uploads/2025/04/WEB_Seniors_Brunch_2025.png
END:VEVENT
BEGIN:VEVENT
DTSTART;TZID=Asia/Singapore:20260905T060000
DTEND;TZID=Asia/Singapore:20260905T083000
DTSTAMP:20260424T024920
CREATED:20251006T073229Z
LAST-MODIFIED:20260423T055201Z
UID:11836-1788588000-1788597000@www.brmc.org.sg
SUMMARY:CONNECT - Emmaus Walk Men’s Fellowship
DESCRIPTION:He has told you\, O mortal\, what is good\, and what does the Lord require of you but to do justice and to love kindness and to walk humbly with your God? – Micah 6:8 \nEmmaus Walk Men’s Fellowship meets on Saturdays to encourage men\, whether singles\, husbands or fathers\, to be men after God’s heart. \nMen’s Prayer Sessions\nSaturdays\, 6am – 7am\, Wesley Hall \nMen’s Fellowship Sessions\nSaturdays\, 7am – 8.30am\, Wesley Hall \nFIND OUT MORE
URL:https://www.brmc.org.sg/event/connect-emmaus-walk-mens-fellowship-138/
ATTACH;FMTTYPE=image/jpeg:https://www.brmc.org.sg/wp-content/uploads/2025/10/Web_Wesley-Hall.jpg
END:VEVENT
BEGIN:VEVENT
DTSTART;TZID=Asia/Singapore:20260906T140000
DTEND;TZID=Asia/Singapore:20260906T170000
DTSTAMP:20260424T024920
CREATED:20260414T060731Z
LAST-MODIFIED:20260414T060731Z
UID:14324-1788703200-1788714000@www.brmc.org.sg
SUMMARY:CONNECT - Pickleball
DESCRIPTION:Join us for weekly pickleball sessions for a time of inter-generational bonding with our church family! \nWhether you’re a seasoned player or a complete beginner\, everyone is welcome—children\, youth\, adults\, and seniors alike. We’ll teach newcomers the game\, and equipment (paddles\, balls\, and nets) will be provided. \n🧒 Free for children 12 and under\, & seniors 55 and over💵 $4 per session for all others (payable via QR code at the entrance)👟 Sports attire with non-marking court shoes required🚫 No food in the Auditorium. Bring your own water/drinks \nParticipation is only open to BRMC members. \nVolunteer with us! \n\n\nWe need committed volunteers to help set up and return all equipment at the end of each session.  If we can get 12 volunteers\, we will roster 2 volunteers per session.  Commitment will then be once every 6 weeks. \nWhatsApp Chat Group\nAll participants will be placed in a BRMC Pickleball WhatsApp group for ease of communication.\n\n\nRegister your interest
URL:https://www.brmc.org.sg/event/connect-pickleball-73/
LOCATION:ACS Auditorium
ATTACH;FMTTYPE=image/png:https://www.brmc.org.sg/wp-content/uploads/2025/10/Web_Pickleball.png
END:VEVENT
BEGIN:VEVENT
DTSTART;TZID=Asia/Singapore:20260910T100000
DTEND;TZID=Asia/Singapore:20260910T120000
DTSTAMP:20260424T024920
CREATED:20260414T053928Z
LAST-MODIFIED:20260414T053928Z
UID:14297-1789034400-1789041600@www.brmc.org.sg
SUMMARY:CONNECT - Seniors Singing Fellowship
DESCRIPTION:Date: Thu\, 10 Sep 2026\nTime: 10am – 12pm\nVenue: Methodist Girls’ School (IGLC room) @ Blackmore Drive \nOn the second week of the month\, we call out to all seniors and their caregivers who love singing. \nAt the Singing Fellowship\, we share our reﬂections on our Christian life through the songs we nominate to sing together\, facilitated by a pastoral staff. \nSinging helps us explore and grow in faith both cognitively and affectively. The lyrics guide our thinking and the music inspires our souls. After singing\, we deepen our bonds of bonds of kinship\, friendship and discipleship over a shared meal together. \nPlease confirm your attendance with Chang Chong Tian at the church office at 6256 4298. \n\nThe CONNECT Seniors Ministry meets regularly to G.R.O.W. – Graciously Ripen\, Overflowing with Wisdom from Above. \nJoin us and embrace the joy of growth\, wisdom\, and community.
URL:https://www.brmc.org.sg/event/connect-seniors-singing-fellowship-24/
ATTACH;FMTTYPE=image/png:https://www.brmc.org.sg/wp-content/uploads/2024/10/WEB_Senior-Singing.png
END:VEVENT
BEGIN:VEVENT
DTSTART;TZID=Asia/Singapore:20260912T060000
DTEND;TZID=Asia/Singapore:20260912T083000
DTSTAMP:20260424T024920
CREATED:20251006T073318Z
LAST-MODIFIED:20260423T055213Z
UID:11838-1789192800-1789201800@www.brmc.org.sg
SUMMARY:CONNECT - Emmaus Walk Men’s Fellowship
DESCRIPTION:He has told you\, O mortal\, what is good\, and what does the Lord require of you but to do justice and to love kindness and to walk humbly with your God? – Micah 6:8 \nEmmaus Walk Men’s Fellowship meets on Saturdays to encourage men\, whether singles\, husbands or fathers\, to be men after God’s heart. \nMen’s Prayer Sessions\nSaturdays\, 6am – 7am\, Wesley Hall \nMen’s Fellowship Sessions\nSaturdays\, 7am – 8.30am\, Wesley Hall \nFIND OUT MORE
URL:https://www.brmc.org.sg/event/connect-emmaus-walk-mens-fellowship-139/
ATTACH;FMTTYPE=image/jpeg:https://www.brmc.org.sg/wp-content/uploads/2025/10/Web_Wesley-Hall.jpg
END:VEVENT
BEGIN:VEVENT
DTSTART;TZID=Asia/Singapore:20260913T140000
DTEND;TZID=Asia/Singapore:20260913T170000
DTSTAMP:20260424T024920
CREATED:20260414T060817Z
LAST-MODIFIED:20260414T060817Z
UID:14326-1789308000-1789318800@www.brmc.org.sg
SUMMARY:CONNECT - Pickleball
DESCRIPTION:Join us for weekly pickleball sessions for a time of inter-generational bonding with our church family! \nWhether you’re a seasoned player or a complete beginner\, everyone is welcome—children\, youth\, adults\, and seniors alike. We’ll teach newcomers the game\, and equipment (paddles\, balls\, and nets) will be provided. \n🧒 Free for children 12 and under\, & seniors 55 and over💵 $4 per session for all others (payable via QR code at the entrance)👟 Sports attire with non-marking court shoes required🚫 No food in the Auditorium. Bring your own water/drinks \nParticipation is only open to BRMC members. \nVolunteer with us! \n\n\nWe need committed volunteers to help set up and return all equipment at the end of each session.  If we can get 12 volunteers\, we will roster 2 volunteers per session.  Commitment will then be once every 6 weeks. \nWhatsApp Chat Group\nAll participants will be placed in a BRMC Pickleball WhatsApp group for ease of communication.\n\n\nRegister your interest
URL:https://www.brmc.org.sg/event/connect-pickleball-74/
LOCATION:ACS Auditorium
ATTACH;FMTTYPE=image/png:https://www.brmc.org.sg/wp-content/uploads/2025/10/Web_Pickleball.png
END:VEVENT
BEGIN:VEVENT
DTSTART;TZID=Asia/Singapore:20260916T153000
DTEND;TZID=Asia/Singapore:20260916T163000
DTSTAMP:20260424T024920
CREATED:20260414T052448Z
LAST-MODIFIED:20260415T025813Z
UID:14270-1789572600-1789576200@www.brmc.org.sg
SUMMARY:CONNECT - Seniors Chapel
DESCRIPTION:This is a time and place for us to personally draw near to God in His Sanctuary through songs\, prayers\, and guided meditation. \nDate: Wed\, 16 Sep 2026\nTime: 3.30pm – 4.30pm\nVenue: Wesley Hall \nHoly Communion is served every month at Seniors Chapel. \nNo registration is required. \n\nThe CONNECT Seniors Ministry meets regularly to G.R.O.W. – Graciously Ripen\, Overflowing with Wisdom from Above. \nJoin us and embrace the joy of growth\, wisdom\, and community.
URL:https://www.brmc.org.sg/event/connect-seniors-chapel-39/
LOCATION:Wesley Hall
ATTACH;FMTTYPE=image/jpeg:https://www.brmc.org.sg/wp-content/uploads/2025/10/Web_Wesley-Hall.jpg
END:VEVENT
BEGIN:VEVENT
DTSTART;TZID=Asia/Singapore:20260919T060000
DTEND;TZID=Asia/Singapore:20260919T083000
DTSTAMP:20260424T024920
CREATED:20251006T073410Z
LAST-MODIFIED:20260423T055226Z
UID:11840-1789797600-1789806600@www.brmc.org.sg
SUMMARY:CONNECT - Emmaus Walk Men’s Fellowship
DESCRIPTION:He has told you\, O mortal\, what is good\, and what does the Lord require of you but to do justice and to love kindness and to walk humbly with your God? – Micah 6:8 \nEmmaus Walk Men’s Fellowship meets on Saturdays to encourage men\, whether singles\, husbands or fathers\, to be men after God’s heart. \nMen’s Prayer Sessions\nSaturdays\, 6am – 7am\, Wesley Hall \nMen’s Fellowship Sessions\nSaturdays\, 7am – 8.30am\, Wesley Hall \nFIND OUT MORE
URL:https://www.brmc.org.sg/event/connect-emmaus-walk-mens-fellowship-140/
ATTACH;FMTTYPE=image/jpeg:https://www.brmc.org.sg/wp-content/uploads/2025/10/Web_Wesley-Hall.jpg
END:VEVENT
BEGIN:VEVENT
DTSTART;TZID=Asia/Singapore:20260920T140000
DTEND;TZID=Asia/Singapore:20260920T170000
DTSTAMP:20260424T024920
CREATED:20260414T060905Z
LAST-MODIFIED:20260414T060905Z
UID:14328-1789912800-1789923600@www.brmc.org.sg
SUMMARY:CONNECT - Pickleball
DESCRIPTION:Join us for weekly pickleball sessions for a time of inter-generational bonding with our church family! \nWhether you’re a seasoned player or a complete beginner\, everyone is welcome—children\, youth\, adults\, and seniors alike. We’ll teach newcomers the game\, and equipment (paddles\, balls\, and nets) will be provided. \n🧒 Free for children 12 and under\, & seniors 55 and over💵 $4 per session for all others (payable via QR code at the entrance)👟 Sports attire with non-marking court shoes required🚫 No food in the Auditorium. Bring your own water/drinks \nParticipation is only open to BRMC members. \nVolunteer with us! \n\n\nWe need committed volunteers to help set up and return all equipment at the end of each session.  If we can get 12 volunteers\, we will roster 2 volunteers per session.  Commitment will then be once every 6 weeks. \nWhatsApp Chat Group\nAll participants will be placed in a BRMC Pickleball WhatsApp group for ease of communication.\n\n\nRegister your interest
URL:https://www.brmc.org.sg/event/connect-pickleball-75/
LOCATION:ACS Auditorium
ATTACH;FMTTYPE=image/png:https://www.brmc.org.sg/wp-content/uploads/2025/10/Web_Pickleball.png
END:VEVENT
BEGIN:VEVENT
DTSTART;TZID=Asia/Singapore:20260926T060000
DTEND;TZID=Asia/Singapore:20260926T083000
DTSTAMP:20260424T024920
CREATED:20251006T073450Z
LAST-MODIFIED:20260423T055240Z
UID:11842-1790402400-1790411400@www.brmc.org.sg
SUMMARY:CONNECT - Emmaus Walk Men’s Fellowship
DESCRIPTION:He has told you\, O mortal\, what is good\, and what does the Lord require of you but to do justice and to love kindness and to walk humbly with your God? – Micah 6:8 \nEmmaus Walk Men’s Fellowship meets on Saturdays to encourage men\, whether singles\, husbands or fathers\, to be men after God’s heart. \nMen’s Prayer Sessions\nSaturdays\, 6am – 7am\, Wesley Hall \nMen’s Fellowship Sessions\nSaturdays\, 7am – 8.30am\, Wesley Hall \nFIND OUT MORE
URL:https://www.brmc.org.sg/event/connect-emmaus-walk-mens-fellowship-141/
ATTACH;FMTTYPE=image/jpeg:https://www.brmc.org.sg/wp-content/uploads/2025/10/Web_Wesley-Hall.jpg
END:VEVENT
BEGIN:VEVENT
DTSTART;TZID=Asia/Singapore:20260926T133000
DTEND;TZID=Asia/Singapore:20260926T160000
DTSTAMP:20260424T024920
CREATED:20260414T053438Z
LAST-MODIFIED:20260415T030012Z
UID:14285-1790429400-1790438400@www.brmc.org.sg
SUMMARY:CONNECT - Shalom Dementia Care Fellowship
DESCRIPTION:Caring for someone with dementia or living with it can be overwhelming\, but you’re not alone. \nThe monthly Shalom Dementia Care Fellowship provides a supportive space where those with dementia and their caregivers can come together in faith and fellowship. It runs on 3rd Saturdays of the month. \nDate: 26 Sep 2026\nTime: 1.30pm – 4pm\nVenue: Wesley Hall \nThe programme is as follows: \n\nWelcome\nWorship\nScripture/Message\nExercise\nClosing\n\nRegistration is required. Please contact Chong Tian at the church office at 6256 4298. \nGet in touch \n\nThe CONNECT Seniors Ministry meets regularly to G.R.O.W. – Graciously Ripen\, Overflowing with Wisdom from Above. \nJoin us and embrace the joy of growth\, wisdom\, and community.
URL:https://www.brmc.org.sg/event/connect-shalom-dementia-care-fellowship-40/
ATTACH;FMTTYPE=image/jpeg:https://www.brmc.org.sg/wp-content/uploads/2023/07/dementia-care.jpeg
END:VEVENT
BEGIN:VEVENT
DTSTART;TZID=Asia/Singapore:20260927T140000
DTEND;TZID=Asia/Singapore:20260927T170000
DTSTAMP:20260424T024920
CREATED:20260414T060956Z
LAST-MODIFIED:20260414T060956Z
UID:14330-1790517600-1790528400@www.brmc.org.sg
SUMMARY:CONNECT - Pickleball
DESCRIPTION:Join us for weekly pickleball sessions for a time of inter-generational bonding with our church family! \nWhether you’re a seasoned player or a complete beginner\, everyone is welcome—children\, youth\, adults\, and seniors alike. We’ll teach newcomers the game\, and equipment (paddles\, balls\, and nets) will be provided. \n🧒 Free for children 12 and under\, & seniors 55 and over💵 $4 per session for all others (payable via QR code at the entrance)👟 Sports attire with non-marking court shoes required🚫 No food in the Auditorium. Bring your own water/drinks \nParticipation is only open to BRMC members. \nVolunteer with us! \n\n\nWe need committed volunteers to help set up and return all equipment at the end of each session.  If we can get 12 volunteers\, we will roster 2 volunteers per session.  Commitment will then be once every 6 weeks. \nWhatsApp Chat Group\nAll participants will be placed in a BRMC Pickleball WhatsApp group for ease of communication.\n\n\nRegister your interest
URL:https://www.brmc.org.sg/event/connect-pickleball-76/
LOCATION:ACS Auditorium
ATTACH;FMTTYPE=image/png:https://www.brmc.org.sg/wp-content/uploads/2025/10/Web_Pickleball.png
END:VEVENT
END:VCALENDAR