BEGIN:VCALENDAR
VERSION:2.0
PRODID:-//Barker Road Methodist Church - ECPv6.15.18//NONSGML v1.0//EN
CALSCALE:GREGORIAN
METHOD:PUBLISH
X-WR-CALNAME:Barker Road Methodist Church
X-ORIGINAL-URL:https://www.brmc.org.sg
X-WR-CALDESC:Events for Barker Road Methodist Church
REFRESH-INTERVAL;VALUE=DURATION:PT1H
X-Robots-Tag:noindex
X-PUBLISHED-TTL:PT1H
BEGIN:VTIMEZONE
TZID:Asia/Singapore
BEGIN:STANDARD
TZOFFSETFROM:+0800
TZOFFSETTO:+0800
TZNAME:+08
DTSTART:20240101T000000
END:STANDARD
END:VTIMEZONE
BEGIN:VEVENT
DTSTART;TZID=Asia/Singapore:20250118T093000
DTEND;TZID=Asia/Singapore:20250118T120000
DTSTAMP:20260424T221416
CREATED:20241126T082316Z
LAST-MODIFIED:20241129T022859Z
UID:8501-1737192600-1737201600@www.brmc.org.sg
SUMMARY:CONNECT (SENIORS) - Living With Slowing Cognition
DESCRIPTION:Date: 18 Jan 2025 (Sat)\nTime: 9.30am – 12pm\nVenue: L2 Meeting & Training Room \nRecent studies suggest that the risk of dementia may be lowered through prevention\, intervention and care (2024 Lancet Commission on dementia). \nHow to look after ourselves? How to modify our lifestyle? \nIn this talk\, Dr Rukshini Puvanendran will speak on how to keep our brains sharp and healthy based on scientific evidence and how modifying our lifestyle minimises this risk. \nRev Dr Daniel Koh will then delve into what this means for our spiritual lives and touch on what it means to be spiritually resilient. \nSPEAKERS  \n(a) Dr Rukshini Puvanendran is a Senior Consultant and Clinical Associate Professor in KKH Women’s and Children’s Hospital \n(b) Rev Dr Daniel Koh Kah Soon currently serves as a pastor at Barker Road Methodist Church. A former lecturer at Trinity Theological College\, he has served in Board of Governance of the Methodist Welfare Services. \nAll are welcome. \nSIGN UP HERE \nRegistration closes on 12 Jan 2025. \nGet in touch \n\nThe CONNECT Seniors Ministry meets regularly to G.R.O.W. – Graciously Ripen\, Overflowing with Wisdom from Above. \nJoin us and embrace the joy of growth\, wisdom\, and community.
URL:https://www.brmc.org.sg/event/connect-living-with-slowing-cognition/
ATTACH;FMTTYPE=image/png:https://www.brmc.org.sg/wp-content/uploads/2024/10/WEB_Living-with-Slowing-Cognition-Talk.png
END:VEVENT
BEGIN:VEVENT
DTSTART;TZID=Asia/Singapore:20250118T133000
DTEND;TZID=Asia/Singapore:20250118T160000
DTSTAMP:20260424T221416
CREATED:20241023T094445Z
LAST-MODIFIED:20241126T081231Z
UID:8212-1737207000-1737216000@www.brmc.org.sg
SUMMARY:CONNECT - Shalom Dementia Care Fellowship
DESCRIPTION:Time: 1.30pm – 4pm\nVenue: Wesley Hall \nThe Shalom Dementia Care Fellowship is for those with dementia\, and their carers. \nIt usually runs on 3rd Saturdays of the month\, 1.30pm-4pm. \nAll are welcome. \nThe programme usually runs as follows: \n\nWelcome\nWorship\nScripture/Message\nExercise\nClosing\n\nRegistration is required. Please contact Chong Tian at the church office at 6256 4298. \nGet in touch \n\nThe CONNECT Seniors Ministry meets regularly to G.R.O.W. – Graciously Ripen\, Overflowing with Wisdom from Above. \nJoin us and embrace the joy of growth\, wisdom\, and community.
URL:https://www.brmc.org.sg/event/connect-shalom-dementia-care-fellowship-20/
ATTACH;FMTTYPE=image/jpeg:https://www.brmc.org.sg/wp-content/uploads/2023/07/dementia-care.jpeg
END:VEVENT
END:VCALENDAR