BEGIN:VCALENDAR
VERSION:2.0
PRODID:-//Barker Road Methodist Church - ECPv6.15.18//NONSGML v1.0//EN
CALSCALE:GREGORIAN
METHOD:PUBLISH
X-ORIGINAL-URL:https://www.brmc.org.sg
X-WR-CALDESC:Events for Barker Road Methodist Church
REFRESH-INTERVAL;VALUE=DURATION:PT1H
X-Robots-Tag:noindex
X-PUBLISHED-TTL:PT1H
BEGIN:VTIMEZONE
TZID:Asia/Singapore
BEGIN:STANDARD
TZOFFSETFROM:+0800
TZOFFSETTO:+0800
TZNAME:+08
DTSTART:20250101T000000
END:STANDARD
END:VTIMEZONE
BEGIN:VEVENT
DTSTART;TZID=Asia/Singapore:20260124T133000
DTEND;TZID=Asia/Singapore:20260124T160000
DTSTAMP:20260424T040556
CREATED:20251006T082406Z
LAST-MODIFIED:20260316T022006Z
UID:11882-1769261400-1769270400@www.brmc.org.sg
SUMMARY:CONNECT - Shalom Dementia Care Fellowship
DESCRIPTION:Caring for someone with dementia or living with it can be overwhelming\, but you’re not alone. \nThe monthly Shalom Dementia Care Fellowship provides a supportive space where those with dementia and their caregivers can come together in faith and fellowship. It runs on 3rd Saturdays of the month. For the month of Jan\, it will be held on 24 Jan. \nDate: 24 Jan 2026\nTime: 1.30pm – 4pm\nVenue: Wesley Hall \nThe programme is as follows: \n\nWelcome\nWorship\nScripture/Message\nExercise\nClosing\n\nRegistration is required. Please contact Chong Tian at the church office at 6256 4298. \nGet in touch \n\nThe CONNECT Seniors Ministry meets regularly to G.R.O.W. – Graciously Ripen\, Overflowing with Wisdom from Above. \nJoin us and embrace the joy of growth\, wisdom\, and community.
URL:https://www.brmc.org.sg/event/connect-shalom-dementia-care-fellowship-32/
ATTACH;FMTTYPE=image/jpeg:https://www.brmc.org.sg/wp-content/uploads/2023/07/dementia-care.jpeg
END:VEVENT
END:VCALENDAR