BEGIN:VCALENDAR
VERSION:2.0
PRODID:-//Barker Road Methodist Church - ECPv6.15.18//NONSGML v1.0//EN
CALSCALE:GREGORIAN
METHOD:PUBLISH
X-ORIGINAL-URL:https://www.brmc.org.sg
X-WR-CALDESC:Events for Barker Road Methodist Church
REFRESH-INTERVAL;VALUE=DURATION:PT1H
X-Robots-Tag:noindex
X-PUBLISHED-TTL:PT1H
BEGIN:VTIMEZONE
TZID:Asia/Singapore
BEGIN:STANDARD
TZOFFSETFROM:+0800
TZOFFSETTO:+0800
TZNAME:+08
DTSTART:20250101T000000
END:STANDARD
END:VTIMEZONE
BEGIN:VEVENT
DTSTART;TZID=Asia/Singapore:20260311T200000
DTEND;TZID=Asia/Singapore:20260311T213000
DTSTAMP:20260424T024937
CREATED:20260123T024635Z
LAST-MODIFIED:20260302T073159Z
UID:13170-1773259200-1773264600@www.brmc.org.sg
SUMMARY:EQUIP - Living Single\, Loving God Dialogue
DESCRIPTION:What does it look like to live fully as a single — deeply loved by God\, grounded in His promises\, and confident in His purposes? \nThis EQUIP Living Single\, Loving God Dialogue invites singles to come together for an honest\, faith-filled conversation on letting God write His-story in their lives. Together\, we will reflect on how God’s promises — including His plans for hope and a future (Jer 29:11) — apply meaningfully to the single season. \nParticipants can expect to glean biblical wisdom and practical insights on thriving as a single\, maximising this life stage with courage and intentionality\, and growing in both spiritual maturity and personal development. \nDate: Wed\, 11 March 2026\nTime: 8pm – 9.30pm\nVenue: L1 Conference Room \nSpeaker: Ps Charissa Cho\nPs Charissa is the Youth & Young Adults Pastor at Community of Praise Baptist Church. She also oversees her church’s mission work in Cambodia\, partnering with local churches to disciple and support communities. Ps Charissa regularly speaks and writes on faith\, discipleship\, and living out God’s calling with authenticity. \nSign up on the Church Center App
URL:https://www.brmc.org.sg/event/equip-living-single-loving-god-dialogue/
LOCATION:L1 Conference Room
ATTACH;FMTTYPE=image/png:https://www.brmc.org.sg/wp-content/uploads/2025/06/WEB_Talk-it-Out.png
END:VEVENT
END:VCALENDAR