BEGIN:VCALENDAR
VERSION:2.0
PRODID:-//Barker Road Methodist Church - ECPv6.15.18//NONSGML v1.0//EN
CALSCALE:GREGORIAN
METHOD:PUBLISH
X-ORIGINAL-URL:https://www.brmc.org.sg
X-WR-CALDESC:Events for Barker Road Methodist Church
REFRESH-INTERVAL;VALUE=DURATION:PT1H
X-Robots-Tag:noindex
X-PUBLISHED-TTL:PT1H
BEGIN:VTIMEZONE
TZID:Asia/Singapore
BEGIN:STANDARD
TZOFFSETFROM:+0800
TZOFFSETTO:+0800
TZNAME:+08
DTSTART:20230101T000000
END:STANDARD
END:VTIMEZONE
BEGIN:VEVENT
DTSTART;TZID=Asia/Singapore:20240402T200000
DTEND;TZID=Asia/Singapore:20240402T220000
DTSTAMP:20260425T081503
CREATED:20231206T033717Z
LAST-MODIFIED:20231206T073827Z
UID:6360-1712088000-1712095200@www.brmc.org.sg
SUMMARY:EQUIP - Growing Deep in Christ (Book 1) (#11/12 - Tue)
DESCRIPTION:The Discipleship and Nurture Ministry is offering a 12-week Growing Deep in Christ programme which will help you grow authentic friendships with God and your companions in Christ. \nAfter 12 weeks\, participants can then choose to continue on to Growing Your Roots in Christ (11 weeks) and Bearing Fruits in Christ (11 weeks). \nSign up for the first step and start this exciting journey if you wish to Grow Deeper In Christ! \nHear what Cecilia had to say about GDIC:  \n \nAll sessions will be held online via Zoom (except for the first session) from 8pm to 10pm. \nThe book “Growing Strong in God’s Family” ($15) will be used as a guide for the weekly discussions.
URL:https://www.brmc.org.sg/event/growing-deep-in-christ-book-1-tue-session-11-12/
LOCATION:ZOOM
ATTACH;FMTTYPE=image/jpeg:https://www.brmc.org.sg/wp-content/uploads/2022/11/GDIC-2023__Web-Listing.jpg
END:VEVENT
BEGIN:VEVENT
DTSTART;VALUE=DATE:20240405
DTEND;VALUE=DATE:20240408
DTSTAMP:20260425T081503
CREATED:20231206T084054Z
LAST-MODIFIED:20240117T023832Z
UID:6405-1712275200-1712534399@www.brmc.org.sg
SUMMARY:EQUIP - Connecting Through Celebrating Life Together (Marriage Retreat)
DESCRIPTION:Dates\n5-7 Apr 2024\nVenue\nThis is a residential programme (3D2N) at The Westin Desaru Coast Resort. \nPart of our Connecting the Family series\, “Celebrating Life Together” is a weekend retreat that explores the art of strengthening and cherishing the bonds of marriage. \nDr Fred Toke will share wisdom\, tips\, and practical strategies in his engaging delivery to help couples enrich their relationships. From reigniting passion to improving communication and deepening intimacy\, his presentation guides couples looking to celebrate the beauty of life through a stronger and more joyous marriage. It’s a journey towards creating lasting\, loving\, and meaningful partnerships. \nSession 1: “The Glue”\nThis session is the foundational session of the seminar. This session emphasizes the spiritual foundation of a strong marriage. It highlights that Christ is the glue that holds a marriage together. \nSession 2: “The Habits”\nThis session focuses on practical steps for identifying and transforming unproductive habits into qualities that enrich a marital relationship\, such as the virtues of compassion\, kindness\, humility\, gentleness\, and forgiveness. \nSession 3: “The Interactions”\nThis session offers guidance on the roles and interactions of husbands and wives in a Christian marriage. It promotes understanding\, respect\, and harmony within the marital relationship. \nSession 4: “The Future”\nThis session helps couples look forward and build a lasting foundation for their future together\, such as setting goals and aspirations. \nThroughout these four sessions\, we endeavor to provide a comprehensive framework for couples to spiritually\, emotionally\, and practically strengthen their marriages\, fostering long-lasting and Christ-centered relationships. \nSpeaker: Dr Fred Toke\nDr Fred Toke currently serves as the Chief Operating Officer of People for Care and Learning\, an international humanitarian organization dedicated to breaking the cycle of poverty. He is based in Mobile\, Alabama\, USA. \nWith a background as a Clinical Psychologist\, Dr. Toke has had the privilege of serving the communities in the US and Asia in mental health. He also conducted training for executives from renowned multinational corporations such as Apple. \nAs a regular keynote speaker for various Mental Health Forums\, Dr. Toke’s humorous delivery style captivates his audiences and students with his insightful presentations. Additionally\, Dr. Toke delivered an inspiring TEDx talk on “Winning Over Worries in 2016. \nDr. Toke has been awarded the prestigious Asia-Pacific Brands Award for his work and was nominated for the 2012 Singapore Spirit of Enterprise Award. \nDr. Toke is married to his wife\, Agnes\, for 36 years\, and together they have two adult children\, Matthew (31) and Tiffany (30). \n  \nRegister here \nClosing date for registration: 4 Mar 2024
URL:https://www.brmc.org.sg/event/equip-marriage-enrichment-weekend/
LOCATION:The Westin Desaru Coast Resort\, Malaysia
ATTACH;FMTTYPE=image/jpeg:https://www.brmc.org.sg/wp-content/uploads/2023/12/Marriage-Enrichment_Weblisting.jpg
END:VEVENT
BEGIN:VEVENT
DTSTART;TZID=Asia/Singapore:20240405T093000
DTEND;TZID=Asia/Singapore:20240405T113000
DTSTAMP:20260425T081503
CREATED:20240327T052749Z
LAST-MODIFIED:20240327T054238Z
UID:7128-1712309400-1712316600@www.brmc.org.sg
SUMMARY:EQUIP - Armour of God (Session 2/7)
DESCRIPTION:All day\, every day\, an invisible war rages around you. A devoted\, devilish enemy seeks to wreak havoc on everything that matters to you. The enemy always fails miserably when he meets a woman dressed for the occasion. \nThe Armour of God is an action plan for putting it on and developing a personalised strategy to secure victory. \nAll mothers are welcome to join us in this 7-session study based on Priscilla Shirer’s Armor of God. \nSign up \nThe Heart2Heart Mothers’ Fellowship meets every Friday during school term time.
URL:https://www.brmc.org.sg/event/equip-armour-of-god-session-2-7/
ATTACH;FMTTYPE=image/jpeg:https://www.brmc.org.sg/wp-content/uploads/2023/12/H2H-Talk_Web-Listing.jpg
END:VEVENT
BEGIN:VEVENT
DTSTART;TZID=Asia/Singapore:20240406T083000
DTEND;TZID=Asia/Singapore:20240406T150000
DTSTAMP:20260425T081503
CREATED:20240206T064606Z
LAST-MODIFIED:20240315T111428Z
UID:6928-1712392200-1712415600@www.brmc.org.sg
SUMMARY:EQUIP SEMINAR - Engaging Soul Care with Henri Nouwen
DESCRIPTION:Registration is closed for this event.  \nHeld in collaboration with Montfort Centre and CentreQuest\, this is especially relevant to those whave a shepherding role in our community. \nDate: Sat\, 6 Apr\nTime: 8.30am – 3pm (Lunch will be provided.)\nVenue: Oldham Hall Chapel\nCost: $20 (for BRMC members) \nSpeaker: \nWil Hernandez\, PhD\, Obl. OSB\, is the founder and president of CernterQuest\, an ecumenical hub for the study and practice of Christian spirituality. A trained counselor\, spiritual director and retreat leader\, he regularly conducts retreats\, workshops and courses all across the U.S. and abroad focusing on the spirituality of Henri Nouwen whose spiritual legacy he is committed to propagate. Wil is the author of a trilogy on Nouwen. \n 
URL:https://www.brmc.org.sg/event/equip-engaging-soul-care-with-henri-nouwen/
ATTACH;FMTTYPE=image/jpeg:https://www.brmc.org.sg/wp-content/uploads/2024/02/daisies.jpg
END:VEVENT
BEGIN:VEVENT
DTSTART;TZID=Asia/Singapore:20240406T090000
DTEND;TZID=Asia/Singapore:20240406T140000
DTSTAMP:20260425T081503
CREATED:20231213T020726Z
LAST-MODIFIED:20240327T064744Z
UID:6448-1712394000-1712412000@www.brmc.org.sg
SUMMARY:EQUIP Conference - Organic vs Online Dating
DESCRIPTION:Organic Dating versus Online Dating: Navigating the pitfalls and plus-points \nDating singles\, users of dating apps\, people who want to be informed about the use of dating apps for e.g. parents and connect group leaders are welcome to attend. \nSingles will learn to exercise godly wisdom on the dating scene. The speaker will share real stories of her experience in dating and as a dating practitioner. There will be time for personal sharing\, role play and group interaction. \nCost: $5 \nSign up now
URL:https://www.brmc.org.sg/event/equip-singles-organic-vs-online-dating-the-pitfalls-plus-points/
LOCATION:L1 Conference Room
ATTACH;FMTTYPE=image/jpeg:https://www.brmc.org.sg/wp-content/uploads/2023/12/footprints.jpg
END:VEVENT
BEGIN:VEVENT
DTSTART;TZID=Asia/Singapore:20240406T100000
DTEND;TZID=Asia/Singapore:20240406T120000
DTSTAMP:20260425T081503
CREATED:20231108T011507Z
LAST-MODIFIED:20231206T072118Z
UID:6143-1712397600-1712404800@www.brmc.org.sg
SUMMARY:EQUIP - Growing Deep in Christ (Book 1) (#10/12 - Sat)
DESCRIPTION:The Discipleship and Nurture Ministry is offering a 12-week Growing Deep in Christ programme which will help you grow authentic friendships with God and your companions in Christ. \nAfter 12 weeks\, participants can then choose to continue on to Growing Your Roots in Christ (11 weeks) and Bearing Fruits in Christ (11 weeks). \nSign up for the first step and start this exciting journey if you wish to Grow Deeper In Christ! \nHear what Cecilia had to say about GDIC:  \n \nAll sessions will be held online via Zoom\, from 10am to 12pm. \nThe book “Growing Strong in God’s Family” ($15) will be used as a guide for the weekly discussions.
URL:https://www.brmc.org.sg/event/growing-deep-in-christ-book-1-session-10-12/
LOCATION:ZOOM
ATTACH;FMTTYPE=image/jpeg:https://www.brmc.org.sg/wp-content/uploads/2022/11/GDIC-2023__Web-Listing.jpg
END:VEVENT
BEGIN:VEVENT
DTSTART;TZID=Asia/Singapore:20240407T143000
DTEND;TZID=Asia/Singapore:20240407T160000
DTSTAMP:20260425T081503
CREATED:20240112T050005Z
LAST-MODIFIED:20240130T040104Z
UID:6612-1712500200-1712505600@www.brmc.org.sg
SUMMARY:EQUIP - Monthly Tea Talk & Table Games for Singles
DESCRIPTION:This is an opportunity to be equipped with inter- and intra-personal skills\, be encouraged and empowered as a Christian single through interactive activities and discussions. \nThis monthly event takes place every first Sunday of the month. \n2024 dates: 7 Jan\, 4 Feb\, 3 Mar\, 7 Apr\, 5 May\, 2 Jun\, 7 Jul\, 4 Aug\, 1 Sep\, 6 Oct\, 3 Nov\, 1 Dec \nJoin us
URL:https://www.brmc.org.sg/event/equip-monthly-tea-talk-table-games-for-singles-3/
ATTACH;FMTTYPE=image/jpeg:https://www.brmc.org.sg/wp-content/uploads/2023/12/Equip-Singles-Games_Weblisting.jpg
END:VEVENT
BEGIN:VEVENT
DTSTART;TZID=Asia/Singapore:20240409T200000
DTEND;TZID=Asia/Singapore:20240409T220000
DTSTAMP:20260425T081503
CREATED:20231206T033752Z
LAST-MODIFIED:20231206T073907Z
UID:6362-1712692800-1712700000@www.brmc.org.sg
SUMMARY:EQUIP - Growing Deep in Christ (Book 1) (#12/12 - Tue)
DESCRIPTION:The Discipleship and Nurture Ministry is offering a 12-week Growing Deep in Christ programme which will help you grow authentic friendships with God and your companions in Christ. \nAfter 12 weeks\, participants can then choose to continue on to Growing Your Roots in Christ (11 weeks) and Bearing Fruits in Christ (11 weeks). \nSign up for the first step and start this exciting journey if you wish to Grow Deeper In Christ! \nHear what Cecilia had to say about GDIC:  \n \nAll sessions will be held online via Zoom (except for the first session) from 8pm to 10pm. \nThe book “Growing Strong in God’s Family” ($15) will be used as a guide for the weekly discussions.
URL:https://www.brmc.org.sg/event/growing-deep-in-christ-book-1-tue-session-12-12/
LOCATION:ZOOM
ATTACH;FMTTYPE=image/jpeg:https://www.brmc.org.sg/wp-content/uploads/2022/11/GDIC-2023__Web-Listing.jpg
END:VEVENT
BEGIN:VEVENT
DTSTART;TZID=Asia/Singapore:20240412T093000
DTEND;TZID=Asia/Singapore:20240412T113000
DTSTAMP:20260425T081503
CREATED:20240327T054544Z
LAST-MODIFIED:20240327T054600Z
UID:7129-1712914200-1712921400@www.brmc.org.sg
SUMMARY:EQUIP - Armour of God (Session 3/7)
DESCRIPTION:All day\, every day\, an invisible war rages around you. A devoted\, devilish enemy seeks to wreak havoc on everything that matters to you. The enemy always fails miserably when he meets a woman dressed for the occasion. \nThe Armour of God is an action plan for putting it on and developing a personalised strategy to secure victory. \nAll mothers are welcome to join us in this 7-session study based on Priscilla Shirer’s Armor of God. \nSign up \nThe Heart2Heart Mothers’ Fellowship meets every Friday during school term time.
URL:https://www.brmc.org.sg/event/equip-armour-of-god-session-3-7/
ATTACH;FMTTYPE=image/jpeg:https://www.brmc.org.sg/wp-content/uploads/2023/12/H2H-Talk_Web-Listing.jpg
END:VEVENT
BEGIN:VEVENT
DTSTART;TZID=Asia/Singapore:20240413T100000
DTEND;TZID=Asia/Singapore:20240413T120000
DTSTAMP:20260425T081503
CREATED:20231108T011540Z
LAST-MODIFIED:20231206T072531Z
UID:6145-1713002400-1713009600@www.brmc.org.sg
SUMMARY:EQUIP - Growing Deep in Christ (Book 1) (#11/12 - Sat)
DESCRIPTION:The Discipleship and Nurture Ministry is offering a 12-week Growing Deep in Christ programme which will help you grow authentic friendships with God and your companions in Christ. \nAfter 12 weeks\, participants can then choose to continue on to Growing Your Roots in Christ (11 weeks) and Bearing Fruits in Christ (11 weeks). \nSign up for the first step and start this exciting journey if you wish to Grow Deeper In Christ! \nHear what Cecilia had to say about GDIC:  \n \nAll sessions will be held online via Zoom\, from 10am to 12pm. \nThe book “Growing Strong in God’s Family” ($15) will be used as a guide for the weekly discussions.
URL:https://www.brmc.org.sg/event/growing-deep-in-christ-book-1-session-11-12/
LOCATION:ZOOM
ATTACH;FMTTYPE=image/jpeg:https://www.brmc.org.sg/wp-content/uploads/2022/11/GDIC-2023__Web-Listing.jpg
END:VEVENT
BEGIN:VEVENT
DTSTART;TZID=Asia/Singapore:20240419T093000
DTEND;TZID=Asia/Singapore:20240419T113000
DTSTAMP:20260425T081503
CREATED:20240327T055136Z
LAST-MODIFIED:20240327T055136Z
UID:7133-1713519000-1713526200@www.brmc.org.sg
SUMMARY:EQUIP - Armour of God (Session 4/7)
DESCRIPTION:All day\, every day\, an invisible war rages around you. A devoted\, devilish enemy seeks to wreak havoc on everything that matters to you. The enemy always fails miserably when he meets a woman dressed for the occasion. \nThe Armour of God is an action plan for putting it on and developing a personalised strategy to secure victory. \nAll mothers are welcome to join us in this 7-session study based on Priscilla Shirer’s Armor of God. \nSign up \nThe Heart2Heart Mothers’ Fellowship meets every Friday during school term time.
URL:https://www.brmc.org.sg/event/equip-armour-of-god-session-4-7/
ATTACH;FMTTYPE=image/jpeg:https://www.brmc.org.sg/wp-content/uploads/2023/12/H2H-Talk_Web-Listing.jpg
END:VEVENT
BEGIN:VEVENT
DTSTART;TZID=Asia/Singapore:20240420T100000
DTEND;TZID=Asia/Singapore:20240420T120000
DTSTAMP:20260425T081503
CREATED:20231108T011613Z
LAST-MODIFIED:20231206T072452Z
UID:6147-1713607200-1713614400@www.brmc.org.sg
SUMMARY:EQUIP - Growing Deep in Christ (Book 1) (#12/12 - Sat)
DESCRIPTION:The Discipleship and Nurture Ministry is offering a 12-week Growing Deep in Christ programme which will help you grow authentic friendships with God and your companions in Christ. \nAfter 12 weeks\, participants can then choose to continue on to Growing Your Roots in Christ (11 weeks) and Bearing Fruits in Christ (11 weeks). \nSign up for the first step and start this exciting journey if you wish to Grow Deeper In Christ! \nHear what Cecilia had to say about GDIC:  \n \nAll sessions will be held online via Zoom\, from 10am to 12pm. \nThe book “Growing Strong in God’s Family” ($15) will be used as a guide for the weekly discussions.
URL:https://www.brmc.org.sg/event/growing-deep-in-christ-book-1-session-12-12/
LOCATION:ZOOM
ATTACH;FMTTYPE=image/jpeg:https://www.brmc.org.sg/wp-content/uploads/2022/11/GDIC-2023__Web-Listing.jpg
END:VEVENT
BEGIN:VEVENT
DTSTART;TZID=Asia/Singapore:20240426T093000
DTEND;TZID=Asia/Singapore:20240426T113000
DTSTAMP:20260425T081503
CREATED:20240327T055214Z
LAST-MODIFIED:20240327T055302Z
UID:7134-1714123800-1714131000@www.brmc.org.sg
SUMMARY:EQUIP - Armour of God (Session 5/7)
DESCRIPTION:All day\, every day\, an invisible war rages around you. A devoted\, devilish enemy seeks to wreak havoc on everything that matters to you. The enemy always fails miserably when he meets a woman dressed for the occasion. \nThe Armour of God is an action plan for putting it on and developing a personalised strategy to secure victory. \nAll mothers are welcome to join us in this 7-session study based on Priscilla Shirer’s Armor of God. \nSign up \nThe Heart2Heart Mothers’ Fellowship meets every Friday during school term time.
URL:https://www.brmc.org.sg/event/equip-armour-of-god-session-3-7-2/
ATTACH;FMTTYPE=image/jpeg:https://www.brmc.org.sg/wp-content/uploads/2023/12/H2H-Talk_Web-Listing.jpg
END:VEVENT
END:VCALENDAR