BEGIN:VCALENDAR
VERSION:2.0
PRODID:-//Barker Road Methodist Church - ECPv6.15.18//NONSGML v1.0//EN
CALSCALE:GREGORIAN
METHOD:PUBLISH
X-WR-CALNAME:Barker Road Methodist Church
X-ORIGINAL-URL:https://www.brmc.org.sg
X-WR-CALDESC:Events for Barker Road Methodist Church
REFRESH-INTERVAL;VALUE=DURATION:PT1H
X-Robots-Tag:noindex
X-PUBLISHED-TTL:PT1H
BEGIN:VTIMEZONE
TZID:Asia/Singapore
BEGIN:STANDARD
TZOFFSETFROM:+0800
TZOFFSETTO:+0800
TZNAME:+08
DTSTART:20230101T000000
END:STANDARD
END:VTIMEZONE
BEGIN:VEVENT
DTSTART;VALUE=DATE:20240901
DTEND;VALUE=DATE:20240930
DTSTAMP:20260425T003129
CREATED:20240703T095629Z
LAST-MODIFIED:20240901T062204Z
UID:7645-1725148800-1727654399@www.brmc.org.sg
SUMMARY:Registration for Baptism and Membership Course (2H2024)
DESCRIPTION:Registration opens on 1 Sep 2024 and closes on 29 Sep 2024.  \nRegistration for Adult Baptism/Confirmation/Transfer of Membership  \nRegistration for Infant/Child Baptism  \nPlease visit our FAQs for the criteria and other details. \nSchedule  \n\n\n\nItem\nDates\n\n\nRegistration opens\n1 Sep 2024 (Sun)\n\n\nRegistration closes\n29 Sep 2024 (Sun)\n\n\nBMC session 1\n19 Oct 2024 (Sat)\, 1.30pm-3.30pm\n\n\nBMC session 2\n26 Oct 2024 (Sat)\, 1.30pm-3.30pm\n\n\nBMC session 3\n2 Nov 2024 (Sat)\, 1.30pm-3.30pm\n\n\nBMC session 4\n9 Nov 2024 (Sat)\, 1.30pm-3.30pm\n\n\nBMC session 5 (for parents)\n16 Nov 2024 (Sat)\, 1.30pm-3.30pm\n\n\nPastoral Conversations\n1 Nov to 1 Dec 2024 (4 weeks)\n\n\nAdmin Briefing\n30 Nov 2024 (Sat)\, 1.30pm-3.30pm\n\n\nBaptism Service\n14 Dec 2024 (Sat)\, 10am-12pm\n\n\nCARIM Service\n14 Dec 2024 (Sat) and 15 Dec 2024 (Sun)
URL:https://www.brmc.org.sg/event/registration-for-baptism-and-membership-course-2h2024/
ATTACH;FMTTYPE=image/jpeg:https://www.brmc.org.sg/wp-content/uploads/2024/07/bmc-web.jpg
END:VEVENT
BEGIN:VEVENT
DTSTART;TZID=Asia/Singapore:20240901T143000
DTEND;TZID=Asia/Singapore:20240901T160000
DTSTAMP:20260425T003129
CREATED:20240112T050506Z
LAST-MODIFIED:20240130T040606Z
UID:6623-1725201000-1725206400@www.brmc.org.sg
SUMMARY:EQUIP - Monthly Tea Talk & Table Games for Singles
DESCRIPTION:This is an opportunity to be equipped with inter- and intra-personal skills\, be encouraged and empowered as a Christian single through interactive activities and discussions. \nThis monthly event takes place every first Sunday of the month. \n2024 dates: 7 Jan\, 4 Feb\, 3 Mar\, 7 Apr\, 5 May\, 2 Jun\, 7 Jul\, 4 Aug\, 1 Sep\, 6 Oct\, 3 Nov\, 1 Dec \nJoin us
URL:https://www.brmc.org.sg/event/equip-monthly-tea-talk-table-games-for-singles-8/
ATTACH;FMTTYPE=image/jpeg:https://www.brmc.org.sg/wp-content/uploads/2023/12/Equip-Singles-Games_Weblisting.jpg
END:VEVENT
BEGIN:VEVENT
DTSTART;TZID=Asia/Singapore:20240908T140000
DTEND;TZID=Asia/Singapore:20240908T160000
DTSTAMP:20260425T003129
CREATED:20240816T011312Z
LAST-MODIFIED:20240819T011403Z
UID:7854-1725804000-1725811200@www.brmc.org.sg
SUMMARY:EQUIP SEMINAR SERIES: Courage & Calling (Session 1/6)
DESCRIPTION:We will spend 6 sessions together to explore in greater depth what it means to discern God’s (C2) calling\, and to step forward in obedience and courage. \nLed by: Ps Gilbert Lok \nSign up here
URL:https://www.brmc.org.sg/event/equip-courage-and-calling/
ATTACH;FMTTYPE=image/jpeg:https://www.brmc.org.sg/wp-content/uploads/2024/08/PCO.jpg
END:VEVENT
BEGIN:VEVENT
DTSTART;TZID=Asia/Singapore:20240911T200000
DTEND;TZID=Asia/Singapore:20240911T213000
DTSTAMP:20260425T003129
CREATED:20240605T025300Z
LAST-MODIFIED:20240605T025300Z
UID:7491-1726084800-1726090200@www.brmc.org.sg
SUMMARY:EQUIP -  Beyond Loneliness: The Gift of God's Friendship (#8/11)
DESCRIPTION:Based on “Beyond Loneliness – The Gift of God’s Friendship” by Trevor Hudson\, we see the character of God through the life of Jesus. Jesus makes friends. Jesus calls His followers friends. Would you like to become God’s friend? \nThis is a Singles Book Club series to help you find the path from loneliness to deep friendship with God. \nWhen: (Wednesdays) 5 Jun – 23 Oct\, 2024\nTime: 8pm-9.30pm\nVenue: L1 Conference Room \nSign up now \nSessions:  \n\n5 Jun – Invitation to Transforming Loneliness\n19 Jun – Living Beyond Loneliness\n3 Jul – God’s Passionate Longing for Friendship\n17 Jul – Getting to Know God Our Friend\n31 Jul – Understanding Prayer as Deepening Friendship\n14 Aug – Looking Outward Together\n28 Aug – Exploring Our Friend’s Address Book\n11 Sep – Discerning what our Friend wants us to do\n25 Sep – Facing Our Fears with Our Friend\n9 Oct – Asking Our Friend the Hardest Questions\n23 Oct – Blessing Others as Our Friend Has Blessed Us\n\nWhile you are encouraged to buy the book\, a summary will be provided at the beginning of each session\, followed by a time of personal reflection\, discussions and journaling. \nAll singles are welcome to join in anytime as each session is standalone. \n 
URL:https://www.brmc.org.sg/event/equip-beyond-loneliness-the-gift-of-gods-friendship-8-11/
ATTACH;FMTTYPE=image/jpeg:https://www.brmc.org.sg/wp-content/uploads/2023/12/footprints.jpg
END:VEVENT
BEGIN:VEVENT
DTSTART;TZID=Asia/Singapore:20240920T093000
DTEND;TZID=Asia/Singapore:20240920T113000
DTSTAMP:20260425T003129
CREATED:20240830T060921Z
LAST-MODIFIED:20240917T051446Z
UID:7929-1726824600-1726831800@www.brmc.org.sg
SUMMARY:EQUIP - Sacred Marriage (#1/6)
DESCRIPTION:Sacred Marriage shifts the focus from marital enrichment to spiritual enrichment in ways that can help we love our spouse more. Whether it is delightful or difficult\, our marriage can become a doorway to a closer walk with God. \n \nThe Heart2Heart Mothers’ Fellowship will be focusing on this 6-session video study by Gary Thomas\, which invites us to see how God can use marriage as a discipline and a motivation to reflect more of the character of Jesus. \nOur marriage is much more than a union between us and our spouse. It is a spiritual discipline ideally suited to help us know God more fully and intimately. \nEverything about our marriage—from the history we and our spouse create\, to the love we share\, to the forgiveness we both offer and seek by turn—is filled with the capacity to help us grow in Christ’s character. \nAll moms are welcome! \nDate: Fridays\, 20 Sep – 1 Nov 2024\nTime: 9:30am – 11:30am\nVenue: BRMC Conference Rooms\, L1 (next to Little Lights Preschool) \nThe Heart2Heart Mothers’ Fellowship meets every Friday during school term time. \nEvent and sign up details  \n  \n  \n 
URL:https://www.brmc.org.sg/event/heart2heart-mothers-fellowship-sacred-marriage-session-1-6/
LOCATION:L1 Conference Room
ATTACH;FMTTYPE=image/jpeg:https://www.brmc.org.sg/wp-content/uploads/2023/12/H2H-Talk_Web-Listing.jpg
END:VEVENT
BEGIN:VEVENT
DTSTART;TZID=Asia/Singapore:20240921T140000
DTEND;TZID=Asia/Singapore:20240921T170000
DTSTAMP:20260425T003129
CREATED:20240724T085140Z
LAST-MODIFIED:20240806T023852Z
UID:7738-1726927200-1726938000@www.brmc.org.sg
SUMMARY:EQUIP - Discipleship 101: The Bible
DESCRIPTION:“All Scripture is God-breathed and is useful for teaching\, rebuking\, correcting and training in righteousness\, so that the servant of God may be thoroughly equipped for every good work.” — 2 Timothy 3:16-17 NIV \nThis three-hour interactive workshop is designed for new believers and those who have never read the Bible on their own. \nThe goal is for participants to gain confidence to start reading the Bible. \nParticipants will learn: \n• Why the Bible is essential to Christian life\n• What are the different books in the Bible and a quick overview\n• How we can interact with the Bible\n• Where to start reading the Bible \nRegister  \nRegistration closes 17 Sep 2024.  \nThis workshop is part of Discipleship 101 – a basic programme comprising three 3-hour workshops on Devotional Life\, Prayer and the Bible – for new believers and long-time believers looking to reset their spiritual growth and build a personal connection with God.
URL:https://www.brmc.org.sg/event/equip-discipleship-101-bible/
LOCATION:L1 Conference Room
ATTACH;FMTTYPE=image/png:https://www.brmc.org.sg/wp-content/uploads/2024/05/Web_D101EW.png
END:VEVENT
BEGIN:VEVENT
DTSTART;TZID=Asia/Singapore:20240922T140000
DTEND;TZID=Asia/Singapore:20240922T160000
DTSTAMP:20260425T003129
CREATED:20240819T010755Z
LAST-MODIFIED:20240910T031734Z
UID:7864-1727013600-1727020800@www.brmc.org.sg
SUMMARY:EQUIP SEMINAR SERIES: Courage & Calling (Session 2/6)
DESCRIPTION:We will spend 6 sessions together to explore in greater depth what it means to discern God’s (C2) calling\, and to step forward in obedience and courage. \nLed by: Ps Gilbert Lok
URL:https://www.brmc.org.sg/event/equip-seminar-series-courage-calling-session-2-6/
LOCATION:L2 Training Room
ATTACH;FMTTYPE=image/jpeg:https://www.brmc.org.sg/wp-content/uploads/2024/08/PCO.jpg
END:VEVENT
BEGIN:VEVENT
DTSTART;TZID=Asia/Singapore:20240925T200000
DTEND;TZID=Asia/Singapore:20240925T213000
DTSTAMP:20260425T003129
CREATED:20240605T025351Z
LAST-MODIFIED:20240605T025351Z
UID:7493-1727294400-1727299800@www.brmc.org.sg
SUMMARY:EQUIP -  Beyond Loneliness: The Gift of God's Friendship (#9/11)
DESCRIPTION:Based on “Beyond Loneliness – The Gift of God’s Friendship” by Trevor Hudson\, we see the character of God through the life of Jesus. Jesus makes friends. Jesus calls His followers friends. Would you like to become God’s friend? \nThis is a Singles Book Club series to help you find the path from loneliness to deep friendship with God. \nWhen: (Wednesdays) 5 Jun – 23 Oct\, 2024\nTime: 8pm-9.30pm\nVenue: L1 Conference Room \nSign up now \nSessions:  \n\n5 Jun – Invitation to Transforming Loneliness\n19 Jun – Living Beyond Loneliness\n3 Jul – God’s Passionate Longing for Friendship\n17 Jul – Getting to Know God Our Friend\n31 Jul – Understanding Prayer as Deepening Friendship\n14 Aug – Looking Outward Together\n28 Aug – Exploring Our Friend’s Address Book\n11 Sep – Discerning what our Friend wants us to do\n25 Sep – Facing Our Fears with Our Friend\n9 Oct – Asking Our Friend the Hardest Questions\n23 Oct – Blessing Others as Our Friend Has Blessed Us\n\nWhile you are encouraged to buy the book\, a summary will be provided at the beginning of each session\, followed by a time of personal reflection\, discussions and journaling. \nAll singles are welcome to join in anytime as each session is standalone. \n 
URL:https://www.brmc.org.sg/event/equip-beyond-loneliness-the-gift-of-gods-friendship-9-11/
ATTACH;FMTTYPE=image/jpeg:https://www.brmc.org.sg/wp-content/uploads/2023/12/footprints.jpg
END:VEVENT
BEGIN:VEVENT
DTSTART;TZID=Asia/Singapore:20240927T093000
DTEND;TZID=Asia/Singapore:20240927T113000
DTSTAMP:20260425T003129
CREATED:20240830T061025Z
LAST-MODIFIED:20240830T061025Z
UID:7932-1727429400-1727436600@www.brmc.org.sg
SUMMARY:Heart2Heart Mothers' Fellowship - Sacred Marriage (Session 2/6)
DESCRIPTION:Sacred Marriage by Gary Thomas \nIn this 6 session video study\, Gary Thomas invites us to see how God can use marriage as a discipline and a motivation to reflect more of the character of Jesus. \nOur marriage is much more than a union between us and our spouse. It is a spiritual discipline ideally suited to help us know God more fully and intimately. \nSacred Marriage shifts the focus from marital enrichment to spiritual enrichment in ways that can help we love our spouse more. Whether it is delightful or difficult\, our marriage can become a doorway to a closer walk with God. \nEverything about our marriage—from the history we and our spouse create\, to the love we share\, to the forgiveness we both offer and seek by turn—is filled with the capacity to help us grow in Christ’s character. \nAll moms are welcome! \nThe Heart2Heart Mothers’ Fellowship meets every Friday during school term time. \nEvent and sign up details \n  \n  \n 
URL:https://www.brmc.org.sg/event/heart2heart-mothers-fellowship-sacred-marriage-session-2-6/
LOCATION:L1 Conference Room
ATTACH;FMTTYPE=image/jpeg:https://www.brmc.org.sg/wp-content/uploads/2023/12/H2H-Talk_Web-Listing.jpg
END:VEVENT
BEGIN:VEVENT
DTSTART;TZID=Asia/Singapore:20240927T120000
DTEND;TZID=Asia/Singapore:20240927T133000
DTSTAMP:20260425T003129
CREATED:20240821T030131Z
LAST-MODIFIED:20240821T101941Z
UID:7895-1727438400-1727443800@www.brmc.org.sg
SUMMARY:CONNECT & EQUIP - Conversation Evangelism
DESCRIPTION:Learn how to bring Jesus into your conversations with pre-believers in wise and winsome ways. Make the most of every opportunity anytime\, anywhere. Your efforts are never wasted. \nSpeaker \nA former school teacher\, Lai Kheng Pousson served as the Special Assistant of LoveSingapore for the past 30 years. She stepped down from that role in January 2024 to make room for a younger team. Lai Kheng is married to Ed Pousson\, a speaker/teacher and writer. They both worship at Barker Road Methodist Church. \nCost per pax: S$15.00  (inclusive of light lunch) \nSign up here \n\nThis event is part of God@Work\, organised by the BRMC Women’s Society of Christian Service (WSCS)\, providing a lunch-time spiritual oasis for women in the marketplace to connect with one another spiritually. \n\nRaffles Place (hybrid – in-person or online)\nEvery 2nd and 4th Thursdays\, except in June and December\nVenue: 20 Collyer Quay\, CityHub L23\nNovena (online)\n1st and 3rd Wednesdays\nSuntec City (hybrid – in-person and online)\n2nd and 4th Wednesdays\nVivoCity (online)\n1st and 3rd Tuesdays\n\nContact WSCS
URL:https://www.brmc.org.sg/event/equip-conversation-evangelism/
ATTACH;FMTTYPE=image/jpeg:https://www.brmc.org.sg/wp-content/uploads/2024/08/Conversation-Evangelism.jpg
END:VEVENT
END:VCALENDAR