BEGIN:VCALENDAR
VERSION:2.0
PRODID:-//Barker Road Methodist Church - ECPv6.15.18//NONSGML v1.0//EN
CALSCALE:GREGORIAN
METHOD:PUBLISH
X-ORIGINAL-URL:https://www.brmc.org.sg
X-WR-CALDESC:Events for Barker Road Methodist Church
REFRESH-INTERVAL;VALUE=DURATION:PT1H
X-Robots-Tag:noindex
X-PUBLISHED-TTL:PT1H
BEGIN:VTIMEZONE
TZID:Asia/Singapore
BEGIN:STANDARD
TZOFFSETFROM:+0800
TZOFFSETTO:+0800
TZNAME:+08
DTSTART:20230101T000000
END:STANDARD
END:VTIMEZONE
BEGIN:VEVENT
DTSTART;TZID=Asia/Singapore:20241101T093000
DTEND;TZID=Asia/Singapore:20241101T113000
DTSTAMP:20260424T212631
CREATED:20240830T061522Z
LAST-MODIFIED:20240830T061522Z
UID:7940-1730453400-1730460600@www.brmc.org.sg
SUMMARY:Heart2Heart Mothers' Fellowship - Sacred Marriage (Session 6/6)
DESCRIPTION:Sacred Marriage by Gary Thomas \nIn this 6 session video study\, Gary Thomas invites us to see how God can use marriage as a discipline and a motivation to reflect more of the character of Jesus. \nOur marriage is much more than a union between us and our spouse. It is a spiritual discipline ideally suited to help us know God more fully and intimately. \nSacred Marriage shifts the focus from marital enrichment to spiritual enrichment in ways that can help we love our spouse more. Whether it is delightful or difficult\, our marriage can become a doorway to a closer walk with God. \nEverything about our marriage—from the history we and our spouse create\, to the love we share\, to the forgiveness we both offer and seek by turn—is filled with the capacity to help us grow in Christ’s character. \nAll moms are welcome! \nThe Heart2Heart Mothers’ Fellowship meets every Friday during school term time. \nEvent and sign up details \n  \n  \n 
URL:https://www.brmc.org.sg/event/heart2heart-mothers-fellowship-sacred-marriage-session-6-6/
LOCATION:L1 Conference Room
ATTACH;FMTTYPE=image/jpeg:https://www.brmc.org.sg/wp-content/uploads/2023/12/H2H-Talk_Web-Listing.jpg
END:VEVENT
BEGIN:VEVENT
DTSTART;TZID=Asia/Singapore:20241103T140000
DTEND;TZID=Asia/Singapore:20241103T160000
DTSTAMP:20260424T212631
CREATED:20240819T011135Z
LAST-MODIFIED:20240819T011135Z
UID:7870-1730642400-1730649600@www.brmc.org.sg
SUMMARY:EQUIP SEMINAR SERIES: Courage & Calling (Session 5/6)
DESCRIPTION:We will spend 6 sessions together to explore in greater depth what it means to discern God’s (C2) calling\, and to step forward in obedience and courage. \nLed by: Ps Gilbert Lok
URL:https://www.brmc.org.sg/event/equip-seminar-series-courage-calling-session-5-6/
ATTACH;FMTTYPE=image/jpeg:https://www.brmc.org.sg/wp-content/uploads/2024/08/PCO.jpg
END:VEVENT
BEGIN:VEVENT
DTSTART;TZID=Asia/Singapore:20241103T143000
DTEND;TZID=Asia/Singapore:20241103T160000
DTSTAMP:20260424T212631
CREATED:20240112T050800Z
LAST-MODIFIED:20240130T040720Z
UID:6628-1730644200-1730649600@www.brmc.org.sg
SUMMARY:EQUIP - Monthly Tea Talk & Table Games for Singles
DESCRIPTION:This is an opportunity to be equipped with inter- and intra-personal skills\, be encouraged and empowered as a Christian single through interactive activities and discussions. \nThis monthly event takes place every first Sunday of the month. \n2024 dates: 7 Jan\, 4 Feb\, 3 Mar\, 7 Apr\, 5 May\, 2 Jun\, 7 Jul\, 4 Aug\, 1 Sep\, 6 Oct\, 3 Nov\, 1 Dec \nJoin us
URL:https://www.brmc.org.sg/event/equip-monthly-tea-talk-table-games-for-singles-10/
ATTACH;FMTTYPE=image/jpeg:https://www.brmc.org.sg/wp-content/uploads/2023/12/Equip-Singles-Games_Weblisting.jpg
END:VEVENT
BEGIN:VEVENT
DTSTART;TZID=Asia/Singapore:20241108T093000
DTEND;TZID=Asia/Singapore:20241108T113000
DTSTAMP:20260424T212631
CREATED:20241029T092729Z
LAST-MODIFIED:20241029T092729Z
UID:8257-1731058200-1731065400@www.brmc.org.sg
SUMMARY:Heart2Heart Mothers' Fellowship - Thanksgiving
DESCRIPTION:Another year has come and is almost gone…\nWe have so much to be thankful for…\nWhen Jesus said\, “Man shall live by bread alone\,” how true it is that we cannot get through life in this world without our one true Bread of Life… \nWe thank God for walking with us in our journeys of motherhood; \nThank God for answered prayers for our children\,\nourselves\, our spouses and families…\nThank God for the very life we have!! \nJoin us for our last meeting for 2024 for a time of worship\, sharing and fellowship\nas we recall the blessings received this year… \nAll moms\, young and old are welcome… \nThe Heart2Heart Mothers’ Fellowship meets every Friday during school term time. \nEvent and sign up details \n  \n  \n 
URL:https://www.brmc.org.sg/event/heart2heart-mothers-fellowship-thanksgiving/
LOCATION:L1 Conference Room
ATTACH;FMTTYPE=image/jpeg:https://www.brmc.org.sg/wp-content/uploads/2023/12/H2H-Talk_Web-Listing.jpg
END:VEVENT
BEGIN:VEVENT
DTSTART;VALUE=DATE:20241116
DTEND;VALUE=DATE:20241118
DTSTAMP:20260424T212631
CREATED:20240904T030633Z
LAST-MODIFIED:20240904T034742Z
UID:7965-1731715200-1731887999@www.brmc.org.sg
SUMMARY:EQUIP - Fathers' Retreat
DESCRIPTION:16-17 November 2024\, 2D/1N (Twin Sharing)\nVenue: Village Hotel Changi\nFull Board\nProgramme Fee: $220 \nSynopsis: \nIn this 2D/1N retreat\, you will be having time alone and the fatherhood community to understand:\nYourself as son to the Father: This is the core of our lives and embracing this will help us to move forward in Him courageously.\nYour role in a family: Being our primary ministry\, our first expression of our faith and love should take place in our homes.\nYour part in the community: As a community\, we are to support and encourage one another through challenges\, obstacles and oppositions. \nSpeaker: Dr David Ang \nDavid is married to Amy for past 29 years and have 3 children between them. David and Amy journey with couples through the Back to the Garden Ministry as they facilitate the Fatherheart Ministries in Singapore. \nDavid leads with a team\, the Methodist Fathers’ Movement and serves in the General Council & Judicial Council of MCS.\nHe chairs the Board of Family Life of CAC. \nHe is also part of the Council of Elijah7000 and Council of Elders of the Gatekeepers Singapore & Advisory Council of the N5 movement. \nSign up now
URL:https://www.brmc.org.sg/event/equip-fathers-retreat/
LOCATION:Village Hotel Changi
ATTACH;FMTTYPE=image/png:https://www.brmc.org.sg/wp-content/uploads/2024/09/WEB_Fathers-Retreat-1.png
END:VEVENT
BEGIN:VEVENT
DTSTART;TZID=Asia/Singapore:20241117T140000
DTEND;TZID=Asia/Singapore:20241117T160000
DTSTAMP:20260424T212631
CREATED:20240819T011230Z
LAST-MODIFIED:20240819T011230Z
UID:7872-1731852000-1731859200@www.brmc.org.sg
SUMMARY:EQUIP SEMINAR SERIES: Courage & Calling (Session 6/6)
DESCRIPTION:We will spend 6 sessions together to explore in greater depth what it means to discern God’s (C2) calling\, and to step forward in obedience and courage. \nLed by: Ps Gilbert Lok
URL:https://www.brmc.org.sg/event/equip-seminar-series-courage-calling-session-6-6/
ATTACH;FMTTYPE=image/jpeg:https://www.brmc.org.sg/wp-content/uploads/2024/08/PCO.jpg
END:VEVENT
BEGIN:VEVENT
DTSTART;TZID=Asia/Singapore:20241123T090000
DTEND;TZID=Asia/Singapore:20241123T160000
DTSTAMP:20260424T212631
CREATED:20240705T080619Z
LAST-MODIFIED:20240705T080619Z
UID:7660-1732352400-1732377600@www.brmc.org.sg
SUMMARY:EQUIP - Art & Discipleship Retreat
DESCRIPTION:This is a Visual Arts & Christian Discipleship retreat. No prior experience in art is required. \nDate: Sat 23 Nov 2024\nTime: 9am to 4pm\nVenue: L1 Conference Room\nRegistration Fee: $5 \nSign up now \n  \nJoin us
URL:https://www.brmc.org.sg/event/equip-art-discipleship-retreat/
LOCATION:L1 Conference Room
ATTACH;FMTTYPE=image/jpeg:https://www.brmc.org.sg/wp-content/uploads/2023/12/footprints.jpg
END:VEVENT
END:VCALENDAR