BEGIN:VCALENDAR
VERSION:2.0
PRODID:-//Barker Road Methodist Church - ECPv6.15.18//NONSGML v1.0//EN
CALSCALE:GREGORIAN
METHOD:PUBLISH
X-ORIGINAL-URL:https://www.brmc.org.sg
X-WR-CALDESC:Events for Barker Road Methodist Church
REFRESH-INTERVAL;VALUE=DURATION:PT1H
X-Robots-Tag:noindex
X-PUBLISHED-TTL:PT1H
BEGIN:VTIMEZONE
TZID:Asia/Singapore
BEGIN:STANDARD
TZOFFSETFROM:+0800
TZOFFSETTO:+0800
TZNAME:+08
DTSTART:20230101T000000
END:STANDARD
END:VTIMEZONE
BEGIN:VEVENT
DTSTART;TZID=Asia/Singapore:20241201T143000
DTEND;TZID=Asia/Singapore:20241201T160000
DTSTAMP:20260424T200120
CREATED:20240112T050852Z
LAST-MODIFIED:20240130T040755Z
UID:6630-1733063400-1733068800@www.brmc.org.sg
SUMMARY:EQUIP - Monthly Tea Talk & Table Games for Singles
DESCRIPTION:This is an opportunity to be equipped with inter- and intra-personal skills\, be encouraged and empowered as a Christian single through interactive activities and discussions. \nThis monthly event takes place every first Sunday of the month. \n2024 dates: 7 Jan\, 4 Feb\, 3 Mar\, 7 Apr\, 5 May\, 2 Jun\, 7 Jul\, 4 Aug\, 1 Sep\, 6 Oct\, 3 Nov\, 1 Dec \nJoin us
URL:https://www.brmc.org.sg/event/equip-monthly-tea-talk-table-games-for-singles-11/
ATTACH;FMTTYPE=image/jpeg:https://www.brmc.org.sg/wp-content/uploads/2023/12/Equip-Singles-Games_Weblisting.jpg
END:VEVENT
BEGIN:VEVENT
DTSTART;VALUE=DATE:20241215
DTEND;VALUE=DATE:20250120
DTSTAMP:20260424T200120
CREATED:20241016T015401Z
LAST-MODIFIED:20241204T085430Z
UID:8119-1734220800-1737331199@www.brmc.org.sg
SUMMARY:Registration for Baptism and Membership Course (1H2025)
DESCRIPTION:Registration for BMC 1H2025 opens on 15 Dec 2024 and closes on 19 Jan 2025. \nRegistration for Adult Baptism/Confirmation/Transfer of Membership  \nRegistration for Infant/Child Baptism \nPlease visit our FAQs for the criteria and other details. \nSchedule (Candidates must be present on all dates from the start of BMC) \n\n\n\nItem\nDates\n\n\nRegistration opens\n15 Dec 2024 (Sun)\n\n\nRegistration closes\n19 Jan 2025 (Sun)\n\n\nBMC session 1\n8 Feb 2025 (Sat)\, 10am-12pm\n\n\nBMC session 2\n15 Feb 2025 (Sat)\, 10am-12pm\n\n\nBMC session 3\n22 Feb 2025 (Sat)\, 10am-12pm\n\n\nBMC session 4\n1 Mar 2025 (Sat)\, 10am-12pm\n\n\nBMC session 5 (for parents)\n8 Mar 2025 (Sat)\, 10am-12pm\n\n\nPastoral Conversations\n16 Feb to 16 Mar 2025 (4 weeks)\n\n\nAdmin Briefing\n15 Mar 2025 (Sat)\, 10am-12pm\n\n\nBaptism Service\n29 Mar 2025 (Sat)\, 10am-12pm\n\n\nCARIM Service\n29 Mar 2025 (Sat) and 30 Mar 2025 (Sun)
URL:https://www.brmc.org.sg/event/registration-for-baptism-and-membership-course-1h2025/
ATTACH;FMTTYPE=image/jpeg:https://www.brmc.org.sg/wp-content/uploads/2024/07/bmc-web.jpg
END:VEVENT
END:VCALENDAR