BEGIN:VCALENDAR
VERSION:2.0
PRODID:-//Barker Road Methodist Church - ECPv6.15.18//NONSGML v1.0//EN
CALSCALE:GREGORIAN
METHOD:PUBLISH
X-WR-CALNAME:Barker Road Methodist Church
X-ORIGINAL-URL:https://www.brmc.org.sg
X-WR-CALDESC:Events for Barker Road Methodist Church
REFRESH-INTERVAL;VALUE=DURATION:PT1H
X-Robots-Tag:noindex
X-PUBLISHED-TTL:PT1H
BEGIN:VTIMEZONE
TZID:Asia/Singapore
BEGIN:STANDARD
TZOFFSETFROM:+0800
TZOFFSETTO:+0800
TZNAME:+08
DTSTART:20240101T000000
END:STANDARD
END:VTIMEZONE
BEGIN:VEVENT
DTSTART;TZID=Asia/Singapore:20250201T133000
DTEND;TZID=Asia/Singapore:20250201T163000
DTSTAMP:20260424T172549
CREATED:20241106T083302Z
LAST-MODIFIED:20241106T083302Z
UID:8330-1738416600-1738427400@www.brmc.org.sg
SUMMARY:Marriage Preparation Course (Session 5/5)
DESCRIPTION:How different would married life be from your life now as a committed dating couple? If God brought both of you together\, surely He must have a manual for living as one family unit? Come learn what the Bible has to say about God’s design for your marriage and build a marriage that honours God and one which will bring you lasting joy. \nPlaces are limited to 15 couples on a first-come\, first-served basis. (It is highly recommended to attend the course at least one year before your wedding date.) \nThis programme includes private couple sessions with marriage mentors and is compulsory for all couples wanting to marry at BRMC. \nThe course has two parts. \nPart 1: 5 sessions of teaching facilitated by experienced speakers; and\nPart 2: 6 sessions of private mentoring with your Marriage Mentors. \nCompletion of both parts is mandatory. \nThe topics covered are: \n\n Marriage – The Biblical Perspective\n Communication and Managing Finances\n Resolving Conflicts\n Intimacy & Family Planning\n Children\, Work-life & family life\n\nDates:\n4\, 11\, 18\, 25 Jan and 1 Feb (Sat\, 5 sessions) \nTime: 1.30pm-4.30pm\nVenue: BRMC L2 Training Room (Near Swimming Complex)
URL:https://www.brmc.org.sg/event/marriage-preparation-course-session-5-5-2/
LOCATION:L2 Training Room
ATTACH;FMTTYPE=image/jpeg:https://www.brmc.org.sg/wp-content/uploads/2023/02/Marriage-Prep-2023-_Web-Listing-1.jpg
END:VEVENT
BEGIN:VEVENT
DTSTART;TZID=Asia/Singapore:20250202T143000
DTEND;TZID=Asia/Singapore:20250202T160000
DTSTAMP:20260424T172549
CREATED:20241217T022316Z
LAST-MODIFIED:20241224T074430Z
UID:8580-1738506600-1738512000@www.brmc.org.sg
SUMMARY:EQUIP - Singles Coffee\, Conversations & Activi-Tea
DESCRIPTION:A monthly event held every 1st Sunday of the month for singles to grow in interpersonal and intrapersonal skills. There will be Interactive games\, thought provoking videos\, focused conversations using questionnaires as well as finger food and fellowship to grow relationships and healthy interaction between genders. \n2025 dates: 5 Jan\, 2 Feb\, 2 Mar\, 6 Apr\, 4 May\, 1 Jun\, 6 Jul\, 3 Aug\, 7 Sep\, 5 Oct\, 2 Nov\, 7 Dec \nSign up here \nJoin us
URL:https://www.brmc.org.sg/event/equip-singles-coffee-conversations-activi-tea-2/
ATTACH;FMTTYPE=image/png:https://www.brmc.org.sg/wp-content/uploads/2024/12/WEB_Singles-Coffee-Conversation.png
END:VEVENT
BEGIN:VEVENT
DTSTART;TZID=Asia/Singapore:20250207T093000
DTEND;TZID=Asia/Singapore:20250207T113000
DTSTAMP:20260424T172549
CREATED:20241217T023810Z
LAST-MODIFIED:20241224T062120Z
UID:8597-1738920600-1738927800@www.brmc.org.sg
SUMMARY:Heart2Heart Mothers' Fellowship - When You Pray (Session 4/7)
DESCRIPTION:Do you have trouble thinking of words to say to God when you pray? Are you afraid some emotions are too intense to express to God? Do you reach the end of a day only to realise you haven’t prayed at all? You’re not alone. Prayer is the way we relate to God\, but sometimes it’s a struggle. Throughout God’s Word\, we encounter many voices who teach us how to pray. \nIn this 7-session study\, join with six beloved Bible teachers who will help you study prayers in the Bible that can inspire your own. You’ll learn that God welcomes your praise and lament\, your thanksgiving and intercession. You’ll see examples of how to pray when you’re alone and when you’re gathered with others. Above all\, you’ll notice there’s no one right way to pray. As you draw near to God through prayer\, you’ll find your faith strengthened and your heart united to Christ. \nDates: Fridays\, 10 Jan – 28 Feb 2025\nTime: 9:30am – 11:30am\nVenue: BRMC Conference Room\, L1 \nAll moms\, young and old are welcome! \nThe Heart2Heart Mothers’ Fellowship meets every Friday during school term time. \nEvent and sign up details \n  \n  \n 
URL:https://www.brmc.org.sg/event/heart2heart-mothers-fellowship-when-you-pray-session-4-7/
LOCATION:L1 Conference Room
ATTACH;FMTTYPE=image/png:https://www.brmc.org.sg/wp-content/uploads/2024/12/WEB_H2H2025.png
END:VEVENT
BEGIN:VEVENT
DTSTART;TZID=Asia/Singapore:20250214T093000
DTEND;TZID=Asia/Singapore:20250214T113000
DTSTAMP:20260424T172549
CREATED:20241217T023905Z
LAST-MODIFIED:20241224T062216Z
UID:8599-1739525400-1739532600@www.brmc.org.sg
SUMMARY:Heart2Heart Mothers' Fellowship - When You Pray (Session 5/7)
DESCRIPTION:Do you have trouble thinking of words to say to God when you pray? Are you afraid some emotions are too intense to express to God? Do you reach the end of a day only to realise you haven’t prayed at all? You’re not alone. Prayer is the way we relate to God\, but sometimes it’s a struggle. Throughout God’s Word\, we encounter many voices who teach us how to pray. \nIn this 7-session study\, join with six beloved Bible teachers who will help you study prayers in the Bible that can inspire your own. You’ll learn that God welcomes your praise and lament\, your thanksgiving and intercession. You’ll see examples of how to pray when you’re alone and when you’re gathered with others. Above all\, you’ll notice there’s no one right way to pray. As you draw near to God through prayer\, you’ll find your faith strengthened and your heart united to Christ. \nDates: Fridays\, 10 Jan – 28 Feb 2025\nTime: 9:30am – 11:30am\nVenue: BRMC Conference Room\, L1 \nAll moms\, young and old are welcome! \nThe Heart2Heart Mothers’ Fellowship meets every Friday during school term time. \nEvent and sign up details \n  \n  \n 
URL:https://www.brmc.org.sg/event/heart2heart-mothers-fellowship-when-you-pray-session-5-7/
LOCATION:L1 Conference Room
ATTACH;FMTTYPE=image/png:https://www.brmc.org.sg/wp-content/uploads/2024/12/WEB_H2H2025.png
END:VEVENT
BEGIN:VEVENT
DTSTART;TZID=Asia/Singapore:20250215T093000
DTEND;TZID=Asia/Singapore:20250215T120000
DTSTAMP:20260424T172549
CREATED:20241120T025208Z
LAST-MODIFIED:20250115T051800Z
UID:8424-1739611800-1739620800@www.brmc.org.sg
SUMMARY:INVITE - Alpha Course #1: Is there more to life than this?
DESCRIPTION:Alpha is a series of group conversations that explores life\, spirituality and faith through a Christian lens. \nWe create a non-judgmental and open environment where it’s easy for anyone who is curious about faith to explore questions of life\, with new friends. \nIf you want to know more\, we’d love to invite you to try Session 1 of Alpha. It will be a fun time where you can find out if Alpha is for you. \nAll sessions will be conducted onsite on Saturdays. So\, come join us! \nRegistration closes on 1 February 2025.  \nRegister \nProgramme \n\n\n\nSession\nTopics\nSat (Onsite)\n\n\nSession 1\nIntroduction – Is there more to life than this?\n15 Feb (9.30am-12pm)\n\n\nSession 2\nWho is Jesus?\n22 Feb (9.30am-12pm)\n\n\nSession 3\nWhy Did Jesus Die?\n01 Mar (9.30am-12pm)\n\n\nSession 4\nHow Can I Have Faith?\n08 Mar (9.30am-12pm)\n\n\nSession 5\nWhy & How Do I Pray?\n15 Mar (9.30am-12pm)\n\n\nSession 6\nWhy & How Should I Read the Bible?\n22 mar (9.30am-12pm)\n\n\nSession 7\nHow Does God Guide Us?\n05 Apr (9.30am-12pm)\n\n\nSession 8\nAlpha Highlight: Holy Spirit – Who/What/How?\n12 Apr (9am-6pm)\n\n\nSession 9\nHow can I Make the Most of the Rest of My Life?\n26 Apr (9.30am-12pm)\n\n\nSession 10\nHow Can I Resist Evil?\n03 May (9.30am-12pm)\n\n\nSession 11\nWhy and How Should I Tell Others?\n10 May (9.30am-12pm)\n\n\nSession 12\nAlpha Celebration Lunch\n17 May (9.30am-12pm)\n\n\n\n*Please note Session 8 and Session 12 have a different time schedule \nWhat is the Alpha course? 
URL:https://www.brmc.org.sg/event/invite-alpha-course-1-is-there-more-to-life-than-this/
LOCATION:Wesley Hall
ATTACH;FMTTYPE=image/png:https://www.brmc.org.sg/wp-content/uploads/2024/11/WEB_Alpha_1H2025.png
END:VEVENT
BEGIN:VEVENT
DTSTART;TZID=Asia/Singapore:20250221T093000
DTEND;TZID=Asia/Singapore:20250221T113000
DTSTAMP:20260424T172549
CREATED:20241217T024010Z
LAST-MODIFIED:20250115T053157Z
UID:8601-1740130200-1740137400@www.brmc.org.sg
SUMMARY:Heart2Heart Mothers' Fellowship - When You Pray (Session 6/7)
DESCRIPTION:Do you have trouble thinking of words to say to God when you pray? Are you afraid some emotions are too intense to express to God? Do you reach the end of a day only to realise you haven’t prayed at all? You’re not alone. Prayer is the way we relate to God\, but sometimes it’s a struggle. Throughout God’s Word\, we encounter many voices who teach us how to pray. \nIn this 7-session study\, join with six beloved Bible teachers who will help you study prayers in the Bible that can inspire your own. You’ll learn that God welcomes your praise and lament\, your thanksgiving and intercession. You’ll see examples of how to pray when you’re alone and when you’re gathered with others. Above all\, you’ll notice there’s no one right way to pray. As you draw near to God through prayer\, you’ll find your faith strengthened and your heart united to Christ. \nDates: Fridays\, 10 Jan – 28 Feb 2025\nTime: 9:30am – 11:30am\nVenue: BRMC Conference Room\, L1 \nAll moms\, young and old are welcome! \nThe Heart2Heart Mothers’ Fellowship meets every Friday during school term time. \nEvent and sign up details \n  \n  \n 
URL:https://www.brmc.org.sg/event/heart2heart-mothers-fellowship-when-you-pray-session-6-7/
LOCATION:L1 Conference Room
ATTACH;FMTTYPE=image/png:https://www.brmc.org.sg/wp-content/uploads/2024/12/WEB_H2H2025.png
END:VEVENT
BEGIN:VEVENT
DTSTART;TZID=Asia/Singapore:20250222T090000
DTEND;TZID=Asia/Singapore:20250222T120000
DTSTAMP:20260424T172549
CREATED:20241217T024822Z
LAST-MODIFIED:20241224T061623Z
UID:8605-1740214800-1740225600@www.brmc.org.sg
SUMMARY:EQUIP - Singles Fellowship Walk & Brunch
DESCRIPTION:Join other singles on a casual walk at Bidadari Park & Woodleigh Village Food Centre on\nSaturday 22 Feb 9am to 12noon. \nMeeting Point: 9am Exit E Woodleigh MRT DL \nRegistration required.\nSign up now \n  \nJoin us
URL:https://www.brmc.org.sg/event/equip-singles-fellowship-walk-brunch-2/
ATTACH;FMTTYPE=image/png:https://www.brmc.org.sg/wp-content/uploads/2024/12/WEB_WalkBrunch_22Feb.png
END:VEVENT
BEGIN:VEVENT
DTSTART;TZID=Asia/Singapore:20250222T093000
DTEND;TZID=Asia/Singapore:20250222T120000
DTSTAMP:20260424T172549
CREATED:20241120T025748Z
LAST-MODIFIED:20250115T051848Z
UID:8430-1740216600-1740225600@www.brmc.org.sg
SUMMARY:EQUIP - Alpha Course #2: Is there more to life than this?
DESCRIPTION:Alpha is a series of group conversations that explores life\, spirituality and faith through a Christian lens. \nWe create a non-judgmental and open environment where it’s easy for anyone who is curious about faith to explore questions of life\, with new friends. \nIf you want to know more\, we’d love to invite you to try Session 1 of Alpha. It will be a fun time where you can find out if Alpha is for you. \nAll sessions will be conducted onsite on Saturdays. \nProgramme \n\n\n\nSession\nTopics\nSat (Onsite)\n\n\nSession 1\nIntroduction – Is there more to life than this?\n15 Feb (9.30am-12pm)\n\n\nSession 2\nWho is Jesus?\n22 Feb (9.30am-12pm)\n\n\nSession 3\nWhy Did Jesus Die?\n01 Mar (9.30am-12pm)\n\n\nSession 4\nHow Can I Have Faith?\n08 Mar (9.30am-12pm)\n\n\nSession 5\nWhy & How Do I Pray?\n15 Mar (9.30am-12pm)\n\n\nSession 6\nWhy & How Should I Read the Bible?\n22 mar (9.30am-12pm)\n\n\nSession 7\nHow Does God Guide Us?\n05 Apr (9.30am-12pm)\n\n\nSession 8\nAlpha Highlight: Holy Spirit – Who/What/How?\n12 Apr (9am-6pm)\n\n\nSession 9\nHow can I Make the Most of the Rest of My Life?\n26 Apr (9.30am-12pm)\n\n\nSession 10\nHow Can I Resist Evil?\n03 May (9.30am-12pm)\n\n\nSession 11\nWhy and How Should I Tell Others?\n10 May (9.30am-12pm)\n\n\nSession 12\nAlpha Celebration Lunch\n17 May (9.30am-12pm)\n\n\n\n*Please note Session 8 and Session 12 have a different time schedule
URL:https://www.brmc.org.sg/event/equip-alpha-course-2-is-there-more-to-life-than-this/
LOCATION:Wesley Hall
ATTACH;FMTTYPE=image/png:https://www.brmc.org.sg/wp-content/uploads/2024/11/WEB_Alpha_1H2025.png
END:VEVENT
BEGIN:VEVENT
DTSTART;TZID=Asia/Singapore:20250228T093000
DTEND;TZID=Asia/Singapore:20250228T113000
DTSTAMP:20260424T172549
CREATED:20241217T024100Z
LAST-MODIFIED:20241224T062317Z
UID:8603-1740735000-1740742200@www.brmc.org.sg
SUMMARY:Heart2Heart Mothers' Fellowship - When You Pray (Session 7/7)
DESCRIPTION:Do you have trouble thinking of words to say to God when you pray? Are you afraid some emotions are too intense to express to God? Do you reach the end of a day only to realise you haven’t prayed at all? You’re not alone. Prayer is the way we relate to God\, but sometimes it’s a struggle. Throughout God’s Word\, we encounter many voices who teach us how to pray. \nIn this 7-session study\, join with six beloved Bible teachers who will help you study prayers in the Bible that can inspire your own. You’ll learn that God welcomes your praise and lament\, your thanksgiving and intercession. You’ll see examples of how to pray when you’re alone and when you’re gathered with others. Above all\, you’ll notice there’s no one right way to pray. As you draw near to God through prayer\, you’ll find your faith strengthened and your heart united to Christ. \nDates: Fridays\, 10 Jan – 28 Feb 2025\nTime: 9:30am – 11:30am\nVenue: BRMC Conference Room\, L1 \nAll moms\, young and old are welcome! \nThe Heart2Heart Mothers’ Fellowship meets every Friday during school term time. \nEvent and sign up details \n  \n  \n 
URL:https://www.brmc.org.sg/event/heart2heart-mothers-fellowship-when-you-pray-session-7-7/
LOCATION:L1 Conference Room
ATTACH;FMTTYPE=image/png:https://www.brmc.org.sg/wp-content/uploads/2024/12/WEB_H2H2025.png
END:VEVENT
END:VCALENDAR