BEGIN:VCALENDAR
VERSION:2.0
PRODID:-//Barker Road Methodist Church - ECPv6.15.18//NONSGML v1.0//EN
CALSCALE:GREGORIAN
METHOD:PUBLISH
X-ORIGINAL-URL:https://www.brmc.org.sg
X-WR-CALDESC:Events for Barker Road Methodist Church
REFRESH-INTERVAL;VALUE=DURATION:PT1H
X-Robots-Tag:noindex
X-PUBLISHED-TTL:PT1H
BEGIN:VTIMEZONE
TZID:Asia/Singapore
BEGIN:STANDARD
TZOFFSETFROM:+0800
TZOFFSETTO:+0800
TZNAME:+08
DTSTART:20240101T000000
END:STANDARD
END:VTIMEZONE
BEGIN:VEVENT
DTSTART;TZID=Asia/Singapore:20250404T093000
DTEND;TZID=Asia/Singapore:20250404T113000
DTSTAMP:20260424T143525
CREATED:20250226T091246Z
LAST-MODIFIED:20250327T133321Z
UID:9010-1743759000-1743766200@www.brmc.org.sg
SUMMARY:EQUIP - Raising Counter-Cultural Children
DESCRIPTION:Talk: Raising Counter-Cultural Children Who Dare To Be Counter-Cultural \nSpeaker: Carol Loi  \nIn an AI-driven world where the values of the culture often clash with the timeless truths of God’s Word\, raising children who are confident in their faith and courageous in their convictions can feel daunting. \nAs the influence of technology\, media\, and society continues to grow\, how can we build clarity\, confidence and courage in our kids so that they can stand firm in God’s truth in their lives and be part of God’s restorative story? \nWe will discover practical tips and resources to help us to guide and train our children in this complex world. Join us as we explore how to raise children who dare to stand apart from the crowd and live boldly for Christ \nAll moms\, young and old are welcome! \nThe Heart2Heart Mothers’ Fellowship meets every Friday during school term time. \nEvent and sign up details \n  \n  \n 
URL:https://www.brmc.org.sg/event/heart2heart-mothers-fellowship-raising-children-who-dare-to-be-counter-cultural-in-a-complex-world/
LOCATION:L1 Conference Room
ATTACH;FMTTYPE=image/png:https://www.brmc.org.sg/wp-content/uploads/2024/12/WEB_H2H2025.png
END:VEVENT
BEGIN:VEVENT
DTSTART;TZID=Asia/Singapore:20250405T093000
DTEND;TZID=Asia/Singapore:20250405T120000
DTSTAMP:20260424T143525
CREATED:20241120T030445Z
LAST-MODIFIED:20250115T052239Z
UID:8441-1743845400-1743854400@www.brmc.org.sg
SUMMARY:EQUIP - Alpha Course #7: Is there more to life than this?
DESCRIPTION:Alpha is a series of group conversations that explores life\, spirituality and faith through a Christian lens. \nWe create a non-judgmental and open environment where it’s easy for anyone who is curious about faith to explore questions of life\, with new friends. \nIf you want to know more\, we’d love to invite you to try Session 1 of Alpha. It will be a fun time where you can find out if Alpha is for you. \nAll sessions will be conducted onsite on Saturdays. \nProgramme \n\n\n\nSession\nTopics\nSat (Onsite)\n\n\nSession 1\nIntroduction – Is there more to life than this?\n15 Feb (9.30am-12pm)\n\n\nSession 2\nWho is Jesus?\n22 Feb (9.30am-12pm)\n\n\nSession 3\nWhy Did Jesus Die?\n01 Mar (9.30am-12pm)\n\n\nSession 4\nHow Can I Have Faith?\n08 Mar (9.30am-12pm)\n\n\nSession 5\nWhy & How Do I Pray?\n15 Mar (9.30am-12pm)\n\n\nSession 6\nWhy & How Should I Read the Bible?\n22 mar (9.30am-12pm)\n\n\nSession 7\nHow Does God Guide Us?\n05 Apr (9.30am-12pm)\n\n\nSession 8\nAlpha Highlight: Holy Spirit – Who/What/How?\n12 Apr (9am-6pm)\n\n\nSession 9\nHow can I Make the Most of the Rest of My Life?\n26 Apr (9.30am-12pm)\n\n\nSession 10\nHow Can I Resist Evil?\n03 May (9.30am-12pm)\n\n\nSession 11\nWhy and How Should I Tell Others?\n10 May (9.30am-12pm)\n\n\nSession 12\nAlpha Celebration Lunch\n17 May (9.30am-12pm)\n\n\n\n*Please note Session 8 and Session 12 have a different time schedule
URL:https://www.brmc.org.sg/event/equip-alpha-course-7-is-there-more-to-life-than-this/
LOCATION:Wesley Hall
ATTACH;FMTTYPE=image/png:https://www.brmc.org.sg/wp-content/uploads/2024/11/WEB_Alpha_1H2025.png
END:VEVENT
BEGIN:VEVENT
DTSTART;TZID=Asia/Singapore:20250406T143000
DTEND;TZID=Asia/Singapore:20250406T160000
DTSTAMP:20260424T143525
CREATED:20241217T022456Z
LAST-MODIFIED:20250328T023911Z
UID:8585-1743949800-1743955200@www.brmc.org.sg
SUMMARY:EQUIP - Singles Coffee\, Conversations & Activi-Tea
DESCRIPTION:A monthly event held every 1st Sunday of the month for singles to grow in interpersonal and intrapersonal skills. There will be Interactive games\, thought provoking videos\, focused conversations using questionnaires as well as finger food and fellowship to grow relationships and healthy interaction between genders. \n2025 dates: 5 Jan\, 2 Feb\, 2 Mar\, 6 Apr\, 4 May\, 1 Jun\, 6 Jul\, 3 Aug\, 7 Sep\, 5 Oct\, 2 Nov\, 7 Dec \nSign up here \nJoin us
URL:https://www.brmc.org.sg/event/equip-singles-coffee-conversations-activi-tea-4/
ATTACH;FMTTYPE=image/png:https://www.brmc.org.sg/wp-content/uploads/2024/12/WEB_Singles-Coffee-Conversation.png
END:VEVENT
BEGIN:VEVENT
DTSTART;TZID=Asia/Singapore:20250412T090000
DTEND;TZID=Asia/Singapore:20250412T180000
DTSTAMP:20260424T143525
CREATED:20241120T030551Z
LAST-MODIFIED:20250115T052322Z
UID:8443-1744448400-1744480800@www.brmc.org.sg
SUMMARY:EQUIP - Alpha Course #8: Is there more to life than this?
DESCRIPTION:Alpha is a series of group conversations that explores life\, spirituality and faith through a Christian lens. \nWe create a non-judgmental and open environment where it’s easy for anyone who is curious about faith to explore questions of life\, with new friends. \nIf you want to know more\, we’d love to invite you to try Session 1 of Alpha. It will be a fun time where you can find out if Alpha is for you. \nAll sessions will be conducted onsite on Saturdays. \nProgramme \n\n\n\nSession\nTopics\nSat (Onsite)\n\n\nSession 1\nIntroduction – Is there more to life than this?\n15 Feb (9.30am-12pm)\n\n\nSession 2\nWho is Jesus?\n22 Feb (9.30am-12pm)\n\n\nSession 3\nWhy Did Jesus Die?\n01 Mar (9.30am-12pm)\n\n\nSession 4\nHow Can I Have Faith?\n08 Mar (9.30am-12pm)\n\n\nSession 5\nWhy & How Do I Pray?\n15 Mar (9.30am-12pm)\n\n\nSession 6\nWhy & How Should I Read the Bible?\n22 mar (9.30am-12pm)\n\n\nSession 7\nHow Does God Guide Us?\n05 Apr (9.30am-12pm)\n\n\nSession 8\nAlpha Highlight: Holy Spirit – Who/What/How?\n12 Apr (9am-6pm)\n\n\nSession 9\nHow can I Make the Most of the Rest of My Life?\n26 Apr (9.30am-12pm)\n\n\nSession 10\nHow Can I Resist Evil?\n03 May (9.30am-12pm)\n\n\nSession 11\nWhy and How Should I Tell Others?\n10 May (9.30am-12pm)\n\n\nSession 12\nAlpha Celebration Lunch\n17 May (9.30am-12pm)\n\n\n\n*Please note Session 8 and Session 12 have a different time schedule
URL:https://www.brmc.org.sg/event/equip-alpha-course-8-is-there-more-to-life-than-this/
LOCATION:Wesley Hall
ATTACH;FMTTYPE=image/png:https://www.brmc.org.sg/wp-content/uploads/2024/11/WEB_Alpha_1H2025.png
END:VEVENT
BEGIN:VEVENT
DTSTART;TZID=Asia/Singapore:20250425T093000
DTEND;TZID=Asia/Singapore:20250425T113000
DTSTAMP:20260424T143525
CREATED:20250218T091741Z
LAST-MODIFIED:20250225T125050Z
UID:8990-1745573400-1745580600@www.brmc.org.sg
SUMMARY:EQUIP - Talking With Your Kids about Jesus (#3/3)
DESCRIPTION:You already know the world will challenge your child’s faith in Jesus. But do you know specifically what those faith challenges are\, how to effectively talk with your child about them\, and what that means for you as a Christian parent on a day-to-day basis? \nIf your answer is no\, you’re not alone. Many Christian parents feel the same. \nThis 3-part series\, Talking with Your Kids about Jesus\, will give you the confidence you need to have the conversations that matter most in today’s skeptical world. \nJoin us as we learn from Natasha Crain the essential topics on Jesus’s identity\, teachings\, death\, and resurrection. \nDates:  7 Mar\, 28 Mar\, 25 Apr 2025 (Fridays)\nTime: 9.30am – 11.30am\nVenue: L1 Conference Room \nAll moms\, young and old are welcome! \nThe Heart2Heart Mothers’ Fellowship meets every Friday during school term time. \nEvent and sign up details \n  \n  \n 
URL:https://www.brmc.org.sg/event/heart2heart-mothers-fellowship-talking-with-your-kids-about-jesus-session-3-3/
LOCATION:L1 Conference Room
ATTACH;FMTTYPE=image/png:https://www.brmc.org.sg/wp-content/uploads/2024/12/WEB_H2H2025.png
END:VEVENT
BEGIN:VEVENT
DTSTART;TZID=Asia/Singapore:20250426T093000
DTEND;TZID=Asia/Singapore:20250426T120000
DTSTAMP:20260424T143525
CREATED:20241120T030717Z
LAST-MODIFIED:20250115T052400Z
UID:8445-1745659800-1745668800@www.brmc.org.sg
SUMMARY:EQUIP - Alpha Course #9: Is there more to life than this?
DESCRIPTION:Alpha is a series of group conversations that explores life\, spirituality and faith through a Christian lens. \nWe create a non-judgmental and open environment where it’s easy for anyone who is curious about faith to explore questions of life\, with new friends. \nIf you want to know more\, we’d love to invite you to try Session 1 of Alpha. It will be a fun time where you can find out if Alpha is for you. \nAll sessions will be conducted onsite on Saturdays. \nProgramme \n\n\n\nSession\nTopics\nSat (Onsite)\n\n\nSession 1\nIntroduction – Is there more to life than this?\n15 Feb (9.30am-12pm)\n\n\nSession 2\nWho is Jesus?\n22 Feb (9.30am-12pm)\n\n\nSession 3\nWhy Did Jesus Die?\n01 Mar (9.30am-12pm)\n\n\nSession 4\nHow Can I Have Faith?\n08 Mar (9.30am-12pm)\n\n\nSession 5\nWhy & How Do I Pray?\n15 Mar (9.30am-12pm)\n\n\nSession 6\nWhy & How Should I Read the Bible?\n22 mar (9.30am-12pm)\n\n\nSession 7\nHow Does God Guide Us?\n05 Apr (9.30am-12pm)\n\n\nSession 8\nAlpha Highlight: Holy Spirit – Who/What/How?\n12 Apr (9am-6pm)\n\n\nSession 9\nHow can I Make the Most of the Rest of My Life?\n26 Apr (9.30am-12pm)\n\n\nSession 10\nHow Can I Resist Evil?\n03 May (9.30am-12pm)\n\n\nSession 11\nWhy and How Should I Tell Others?\n10 May (9.30am-12pm)\n\n\nSession 12\nAlpha Celebration Lunch\n17 May (9.30am-12pm)\n\n\n\n*Please note Session 8 and Session 12 have a different time schedule
URL:https://www.brmc.org.sg/event/equip-alpha-course-9-is-there-more-to-life-than-this/
LOCATION:Wesley Hall
ATTACH;FMTTYPE=image/png:https://www.brmc.org.sg/wp-content/uploads/2024/11/WEB_Alpha_1H2025.png
END:VEVENT
END:VCALENDAR