BEGIN:VCALENDAR
VERSION:2.0
PRODID:-//Barker Road Methodist Church - ECPv6.15.18//NONSGML v1.0//EN
CALSCALE:GREGORIAN
METHOD:PUBLISH
X-WR-CALNAME:Barker Road Methodist Church
X-ORIGINAL-URL:https://www.brmc.org.sg
X-WR-CALDESC:Events for Barker Road Methodist Church
REFRESH-INTERVAL;VALUE=DURATION:PT1H
X-Robots-Tag:noindex
X-PUBLISHED-TTL:PT1H
BEGIN:VTIMEZONE
TZID:Asia/Singapore
BEGIN:STANDARD
TZOFFSETFROM:+0800
TZOFFSETTO:+0800
TZNAME:+08
DTSTART:20240101T000000
END:STANDARD
END:VTIMEZONE
BEGIN:VEVENT
DTSTART;TZID=Asia/Singapore:20250503T093000
DTEND;TZID=Asia/Singapore:20250503T120000
DTSTAMP:20260424T130539
CREATED:20241120T030847Z
LAST-MODIFIED:20250115T052437Z
UID:8447-1746264600-1746273600@www.brmc.org.sg
SUMMARY:EQUIP - Alpha Course #10: Is there more to life than this?
DESCRIPTION:Alpha is a series of group conversations that explores life\, spirituality and faith through a Christian lens. \nWe create a non-judgmental and open environment where it’s easy for anyone who is curious about faith to explore questions of life\, with new friends. \nIf you want to know more\, we’d love to invite you to try Session 1 of Alpha. It will be a fun time where you can find out if Alpha is for you. \nAll sessions will be conducted onsite on Saturdays. \nProgramme \n\n\n\nSession\nTopics\nSat (Onsite)\n\n\nSession 1\nIntroduction – Is there more to life than this?\n15 Feb (9.30am-12pm)\n\n\nSession 2\nWho is Jesus?\n22 Feb (9.30am-12pm)\n\n\nSession 3\nWhy Did Jesus Die?\n01 Mar (9.30am-12pm)\n\n\nSession 4\nHow Can I Have Faith?\n08 Mar (9.30am-12pm)\n\n\nSession 5\nWhy & How Do I Pray?\n15 Mar (9.30am-12pm)\n\n\nSession 6\nWhy & How Should I Read the Bible?\n22 mar (9.30am-12pm)\n\n\nSession 7\nHow Does God Guide Us?\n05 Apr (9.30am-12pm)\n\n\nSession 8\nAlpha Highlight: Holy Spirit – Who/What/How?\n12 Apr (9am-6pm)\n\n\nSession 9\nHow can I Make the Most of the Rest of My Life?\n26 Apr (9.30am-12pm)\n\n\nSession 10\nHow Can I Resist Evil?\n03 May (9.30am-12pm)\n\n\nSession 11\nWhy and How Should I Tell Others?\n10 May (9.30am-12pm)\n\n\nSession 12\nAlpha Celebration Lunch\n17 May (9.30am-12pm)\n\n\n\n*Please note Session 8 and Session 12 have a different time schedule
URL:https://www.brmc.org.sg/event/equip-alpha-course-10-is-there-more-to-life-than-this/
LOCATION:Wesley Hall
ATTACH;FMTTYPE=image/png:https://www.brmc.org.sg/wp-content/uploads/2024/11/WEB_Alpha_1H2025.png
END:VEVENT
BEGIN:VEVENT
DTSTART;TZID=Asia/Singapore:20250504T143000
DTEND;TZID=Asia/Singapore:20250504T160000
DTSTAMP:20260424T130539
CREATED:20241217T022546Z
LAST-MODIFIED:20250328T024004Z
UID:8587-1746369000-1746374400@www.brmc.org.sg
SUMMARY:EQUIP - Singles Coffee\, Conversations & Activi-Tea
DESCRIPTION:A monthly event held every 1st Sunday of the month for singles to grow in interpersonal and intrapersonal skills. There will be Interactive games\, thought provoking videos\, focused conversations using questionnaires as well as finger food and fellowship to grow relationships and healthy interaction between genders. \n2025 dates: 5 Jan\, 2 Feb\, 2 Mar\, 6 Apr\, 4 May\, 1 Jun\, 6 Jul\, 3 Aug\, 7 Sep\, 5 Oct\, 2 Nov\, 7 Dec \nSign up here \nJoin us
URL:https://www.brmc.org.sg/event/equip-singles-coffee-conversations-activi-tea-5/
ATTACH;FMTTYPE=image/png:https://www.brmc.org.sg/wp-content/uploads/2024/12/WEB_Singles-Coffee-Conversation.png
END:VEVENT
BEGIN:VEVENT
DTSTART;TZID=Asia/Singapore:20250509T090000
DTEND;TZID=Asia/Singapore:20250509T120000
DTSTAMP:20260424T130539
CREATED:20250429T072748Z
LAST-MODIFIED:20250505T051405Z
UID:9768-1746781200-1746792000@www.brmc.org.sg
SUMMARY:H2H Mothers' Fellowship - 25th Anniversary and Mother's Day celebrations
DESCRIPTION:This Mother’s Day\, we have double the joy—and we want YOU to be part of it! We’re celebrating 25 years of Heart2Heart Mothers Fellowship and the beautiful gift of motherhood. Through every season\, God has been faithful\, and now we gather to honour His goodness and give Him all the glory. \nWe’re thrilled to welcome Alice Hsieh as our guest speaker\, sharing a heartfelt message titled:\n“The Wise Mother”\, a special word on godly wisdom\, purpose\, and the legacy we leave as moms. \nWhether you’re new or a longtime friend\, your presence means so much. Come celebrate with us as mothers\, sisters\, and daughters of the King! \nAll moms are welcome! \nDate: Friday\, 9 May\nTime: 9am – 12pm\nVenue: BRMC Conference Rooms\, L1 (next to Little Lights Preschool) \nSign up on the Church Center App
URL:https://www.brmc.org.sg/event/equip-h2h-mothers-fellowship-25th-anniversary-and-mothers-day-celebrations/
LOCATION:L1 Conference Room
ATTACH;FMTTYPE=image/png:https://www.brmc.org.sg/wp-content/uploads/2025/04/H2H-WEB_2025.png
END:VEVENT
BEGIN:VEVENT
DTSTART;TZID=Asia/Singapore:20250510T093000
DTEND;TZID=Asia/Singapore:20250510T120000
DTSTAMP:20260424T130539
CREATED:20241120T030952Z
LAST-MODIFIED:20250115T052513Z
UID:8449-1746869400-1746878400@www.brmc.org.sg
SUMMARY:EQUIP - Alpha Course #11: Is there more to life than this?
DESCRIPTION:Alpha is a series of group conversations that explores life\, spirituality and faith through a Christian lens. \nWe create a non-judgmental and open environment where it’s easy for anyone who is curious about faith to explore questions of life\, with new friends. \nIf you want to know more\, we’d love to invite you to try Session 1 of Alpha. It will be a fun time where you can find out if Alpha is for you. \nAll sessions will be conducted onsite on Saturdays. \nProgramme \n\n\n\nSession\nTopics\nSat (Onsite)\n\n\nSession 1\nIntroduction – Is there more to life than this?\n15 Feb (9.30am-12pm)\n\n\nSession 2\nWho is Jesus?\n22 Feb (9.30am-12pm)\n\n\nSession 3\nWhy Did Jesus Die?\n01 Mar (9.30am-12pm)\n\n\nSession 4\nHow Can I Have Faith?\n08 Mar (9.30am-12pm)\n\n\nSession 5\nWhy & How Do I Pray?\n15 Mar (9.30am-12pm)\n\n\nSession 6\nWhy & How Should I Read the Bible?\n22 mar (9.30am-12pm)\n\n\nSession 7\nHow Does God Guide Us?\n05 Apr (9.30am-12pm)\n\n\nSession 8\nAlpha Highlight: Holy Spirit – Who/What/How?\n12 Apr (9am-6pm)\n\n\nSession 9\nHow can I Make the Most of the Rest of My Life?\n26 Apr (9.30am-12pm)\n\n\nSession 10\nHow Can I Resist Evil?\n03 May (9.30am-12pm)\n\n\nSession 11\nWhy and How Should I Tell Others?\n10 May (9.30am-12pm)\n\n\nSession 12\nAlpha Celebration Lunch\n17 May (9.30am-12pm)\n\n\n\n*Please note Session 8 and Session 12 have a different time schedule
URL:https://www.brmc.org.sg/event/equip-alpha-course-11-is-there-more-to-life-than-this/
LOCATION:Wesley Hall
ATTACH;FMTTYPE=image/png:https://www.brmc.org.sg/wp-content/uploads/2024/11/WEB_Alpha_1H2025.png
END:VEVENT
BEGIN:VEVENT
DTSTART;TZID=Asia/Singapore:20250516T093000
DTEND;TZID=Asia/Singapore:20250516T113000
DTSTAMP:20260424T130539
CREATED:20250429T073101Z
LAST-MODIFIED:20250509T021613Z
UID:9771-1747387800-1747395000@www.brmc.org.sg
SUMMARY:H2H Mothers' Fellowship - Praying Through Art
DESCRIPTION:Struggling to connect with God through your usual practices? \nWith our culture becoming more and more visually oriented\, an intentional way of praying with images is needed now more than ever. Art can deepen your relationship with God. \nDiscover visio divina—praying with art and Scripture at a more contemplative pace. Discover God through acrylic on canvas. \nNo prior art experience needed. \nAll moms are welcome! \nFacilitator: Ms Corinne Teo\nDate: Friday\, 16 May\nTime: 9.30am – 11.30am\nVenue: BRMC Conference Rooms\, L1 (next to Little Lights Preschool) \nSign up on the Church Center App
URL:https://www.brmc.org.sg/event/equip-h2h-mothers-fellowship-praying-through-art/
LOCATION:L1 Conference Room
ATTACH;FMTTYPE=image/png:https://www.brmc.org.sg/wp-content/uploads/2025/04/H2H-WEB_2025.png
END:VEVENT
BEGIN:VEVENT
DTSTART;TZID=Asia/Singapore:20250517T090000
DTEND;TZID=Asia/Singapore:20250517T120000
DTSTAMP:20260424T130539
CREATED:20250429T092439Z
LAST-MODIFIED:20250429T092439Z
UID:9852-1747472400-1747483200@www.brmc.org.sg
SUMMARY:EQUIP - Singles Fellowship Walk & Brunch
DESCRIPTION:Join other singles on a casual walk at Tampines Eco Green and Century Square Burger King on Saturday 17 May 9am to 12noon. \nMeeting Point: 9am Tampines MRT DL Exit D \nRegister to indicate your interest.
URL:https://www.brmc.org.sg/event/equip-singles-fellowship-walk-brunch-3/
ATTACH;FMTTYPE=image/png:https://www.brmc.org.sg/wp-content/uploads/2024/12/WEB_WalkBrunch_22Feb.png
END:VEVENT
BEGIN:VEVENT
DTSTART;TZID=Asia/Singapore:20250517T093000
DTEND;TZID=Asia/Singapore:20250517T120000
DTSTAMP:20260424T130539
CREATED:20241120T031056Z
LAST-MODIFIED:20250115T052546Z
UID:8451-1747474200-1747483200@www.brmc.org.sg
SUMMARY:EQUIP - Alpha Course #12: Is there more to life than this?
DESCRIPTION:Alpha is a series of group conversations that explores life\, spirituality and faith through a Christian lens. \nWe create a non-judgmental and open environment where it’s easy for anyone who is curious about faith to explore questions of life\, with new friends. \nIf you want to know more\, we’d love to invite you to try Session 1 of Alpha. It will be a fun time where you can find out if Alpha is for you. \nAll sessions will be conducted onsite on Saturdays. \nProgramme \n\n\n\nSession\nTopics\nSat (Onsite)\n\n\nSession 1\nIntroduction – Is there more to life than this?\n15 Feb (9.30am-12pm)\n\n\nSession 2\nWho is Jesus?\n22 Feb (9.30am-12pm)\n\n\nSession 3\nWhy Did Jesus Die?\n01 Mar (9.30am-12pm)\n\n\nSession 4\nHow Can I Have Faith?\n08 Mar (9.30am-12pm)\n\n\nSession 5\nWhy & How Do I Pray?\n15 Mar (9.30am-12pm)\n\n\nSession 6\nWhy & How Should I Read the Bible?\n22 mar (9.30am-12pm)\n\n\nSession 7\nHow Does God Guide Us?\n05 Apr (9.30am-12pm)\n\n\nSession 8\nAlpha Highlight: Holy Spirit – Who/What/How?\n12 Apr (9am-6pm)\n\n\nSession 9\nHow can I Make the Most of the Rest of My Life?\n26 Apr (9.30am-12pm)\n\n\nSession 10\nHow Can I Resist Evil?\n03 May (9.30am-12pm)\n\n\nSession 11\nWhy and How Should I Tell Others?\n10 May (9.30am-12pm)\n\n\nSession 12\nAlpha Celebration Lunch\n17 May (9.30am-12pm)\n\n\n\n*Please note Session 8 and Session 12 have a different time schedule
URL:https://www.brmc.org.sg/event/equip-alpha-course-12-is-there-more-to-life-than-this/
LOCATION:Wesley Hall
ATTACH;FMTTYPE=image/png:https://www.brmc.org.sg/wp-content/uploads/2024/11/WEB_Alpha_1H2025.png
END:VEVENT
BEGIN:VEVENT
DTSTART;TZID=Asia/Singapore:20250524T140000
DTEND;TZID=Asia/Singapore:20250524T170000
DTSTAMP:20260424T130539
CREATED:20250410T055821Z
LAST-MODIFIED:20250521T062159Z
UID:9201-1748095200-1748106000@www.brmc.org.sg
SUMMARY:EQUIP - Discipleship 101: Prayer
DESCRIPTION:Prayer is two-way communication with God our Father\, which is essential in every Christian’s life. \nPerhaps you are a new believer\, or you have been a Christian for a while – You find it hard to make time to pray\, or you can’t seem to find the words to say when you want to pray. Don’t worry\, you are not alone. \nThis 3-hour workshop is designed to help you learn to pray more regularly and fruitfully. During the session\, we will not just teach you but we will practice together! You will learn: \n• What is prayer and why we need to pray\n• Types of prayers\n• How to pray in response to God’s word \nSign up on the Church Center App \nThis workshop is part of Discipleship 101 – comprising 3 foundational series on Quiet Time\, Prayer and the Bible – for new believers and long-time believers  looking to build a personal relationship with God and to follow Jesus in our attitudes and actions.
URL:https://www.brmc.org.sg/event/equip-discipleship-101-prayer/
LOCATION:L2 Training Room
ATTACH;FMTTYPE=image/png:https://www.brmc.org.sg/wp-content/uploads/2025/04/WEB_2025_D1010.png
END:VEVENT
BEGIN:VEVENT
DTSTART;TZID=Asia/Singapore:20250531T090000
DTEND;TZID=Asia/Singapore:20250531T120000
DTSTAMP:20260424T130539
CREATED:20250429T093222Z
LAST-MODIFIED:20250509T154541Z
UID:9854-1748682000-1748692800@www.brmc.org.sg
SUMMARY:EQUIP SEMINAR - Sexual Integrity
DESCRIPTION:This seminar is open to all who are 18 years old and above\, including parents and married couples. \nIt’s for anyone who wish to gain practical and biblical handles on identity in Christ\, gender identity\, setting boundaries in dating relationships and what it means to honour God with our mind\, body and soul. \nCome explore sexual integrity not as a rulebook\, but as a path to freedom\, wholeness\, and maturity in Christ. \nDate: Sat 31 May 2025\nTime: 9am – 12pm\nVenue: L1 Conference Room 2 \nEvent Speaker:\nJoshua Liong currently serves as Principal Trainer at Focus on the Family Singapore. He is an international speaker and trainer who speaks on issues of youth\, sexuality\, marriage and parenting. He also loves connecting with young people and has spent more than 20 years strategising ways to better equip them for life and relationships. Joshua has been married for more than 15 years and has two teenage daughters. \nSign up on the Church Center App
URL:https://www.brmc.org.sg/event/equip-seminar-on-sexual-integrity/
LOCATION:L1 Conference Room
ATTACH;FMTTYPE=image/png:https://www.brmc.org.sg/wp-content/uploads/2025/01/WEB_Navigating-Dating-_8Mar.png
END:VEVENT
BEGIN:VEVENT
DTSTART;TZID=Asia/Singapore:20250531T090000
DTEND;TZID=Asia/Singapore:20250531T130000
DTSTAMP:20260424T130539
CREATED:20250425T025217Z
LAST-MODIFIED:20250521T104500Z
UID:9568-1748682000-1748696400@www.brmc.org.sg
SUMMARY:INVITE: Arise and Shine in VUCA times (TRAC WSCS Conference)
DESCRIPTION:Arise\, shine for your light has come and the glory of the LORD rises upon you\n \n– Isaiah 60:1 \nCalling all women – Come and hear stories of ladies rising above circumstances in current volatile\, uncertain\, complex and ambiguous times (VUCA). \nLet faith and hope re-ignite. \nDate: Sat\, 31 May 2025\nTime: 9am – 1pm\nVenue: Fairfield Methodist Church\, 1 Tanjong Pagar Road S088437\nCost: S$15 per pax (FOC for pre-believer guests) \nClosing Date: 3 May 2025 \nSign up on the Church Center App
URL:https://www.brmc.org.sg/event/wscs-vuca-conference/
ATTACH;FMTTYPE=image/jpeg:https://www.brmc.org.sg/wp-content/uploads/2025/04/photo_2025-04-25_10-51-36.jpg
END:VEVENT
END:VCALENDAR