BEGIN:VCALENDAR
VERSION:2.0
PRODID:-//Barker Road Methodist Church - ECPv6.15.18//NONSGML v1.0//EN
CALSCALE:GREGORIAN
METHOD:PUBLISH
X-ORIGINAL-URL:https://www.brmc.org.sg
X-WR-CALDESC:Events for Barker Road Methodist Church
REFRESH-INTERVAL;VALUE=DURATION:PT1H
X-Robots-Tag:noindex
X-PUBLISHED-TTL:PT1H
BEGIN:VTIMEZONE
TZID:Asia/Singapore
BEGIN:STANDARD
TZOFFSETFROM:+0800
TZOFFSETTO:+0800
TZNAME:+08
DTSTART:20240101T000000
END:STANDARD
END:VTIMEZONE
BEGIN:VEVENT
DTSTART;VALUE=DATE:20250621
DTEND;VALUE=DATE:20250728
DTSTAMP:20260424T101911
CREATED:20250216T020257Z
LAST-MODIFIED:20250728T071231Z
UID:8962-1750464000-1753660799@www.brmc.org.sg
SUMMARY:Registration for Baptism and Membership Course (2H2025)
DESCRIPTION:Registration for BMC 2H2025 opens on 21 Jun 2025 and closes on 27 Jul 2025. \nRegistration for Adult Baptism/Confirmation/Transfer of Membership \nRegistration for Infant/Child Baptism \nPlease visit our FAQs for the criteria and other details. \nSchedule (Candidates must be present on all dates from the start of BMC) \n\n\n\nItem\nDates\n\n\nRegistration opens\n21 Jun 2025 (Sun)\n\n\nRegistration closes\n27 Jul 2025 (Sun)\n\n\nBMC session 1\n16 Aug 2025 (Sat)\, 1.30pm-3.30pm\n\n\nBMC session 2\n23 Aug 2025 (Sat)\, 1.30pm-3.30pm\n\n\nBMC session 3\n30 Aug 2025 (Sat)\, 1.30pm-3.30pm\n\n\nBMC session 4\n6 Sep 2025 (Sat)\, 1.30pm-3.30pm\n\n\nBMC session 5 (for parents)\n13 Sep 2025 (Sat)\, 1.30pm-3.30pm\n\n\nPastoral Conversations\n23 Aug (Sat) to 14 Sep (Sun) 2025 (3 weeks)\n\n\nAdmin Briefing\n20 Sep 2025 (Sat)\, 1.30pm-3.30pm\n\n\nBaptism Service\n27 Sep 2025 (Sat)\, 10am-12pm\n\n\nCARIM Service\n27 Sep 2025 (Sat) and 28 Sep 2025 (Sun)\n\n\n\n 
URL:https://www.brmc.org.sg/event/registration-for-baptism-and-membership-course-2h2025/
ATTACH;FMTTYPE=image/jpeg:https://www.brmc.org.sg/wp-content/uploads/2024/07/bmc-web.jpg
END:VEVENT
BEGIN:VEVENT
DTSTART;TZID=Asia/Singapore:20250702T200000
DTEND;TZID=Asia/Singapore:20250702T213000
DTSTAMP:20260424T101911
CREATED:20250603T033037Z
LAST-MODIFIED:20250603T034236Z
UID:10471-1751486400-1751491800@www.brmc.org.sg
SUMMARY:EQUIP - Singles Talk It Out (#1/4)
DESCRIPTION:Looking for a space to reflect\, connect\, and have honest conversations about life as a single? Singles Talk It Out is a 4-part conversational journey designed for singles to gather\, explore real questions\, and engage with God’s Word through shared experiences. \nThere are 3 segments: Talk It Out\, Take a Step Back and Craft It to reinforce event objectives. \nTopics for the 4 sessions:\nWed\, 2 Jul – Marriage Good\, Single Bad?\nWed\, 16 Jul – Single and Feeling Left Out?\nWed\, 30 Jul – Organic Vs Online Dating\nWed\, 13 Aug – God in my Singleness \nFacilitator: PTS Corinne Teo \nCome with an open heart\, leave with a fresh perspective! \nSign up on the Church Center App
URL:https://www.brmc.org.sg/event/equip-singles-talk-it-out/
LOCATION:L1-CF1/CF2 Conference Room
ATTACH;FMTTYPE=image/png:https://www.brmc.org.sg/wp-content/uploads/2025/06/WEB_Talk-it-Out.png
END:VEVENT
BEGIN:VEVENT
DTSTART;TZID=Asia/Singapore:20250704T093000
DTEND;TZID=Asia/Singapore:20250704T113000
DTSTAMP:20260424T101911
CREATED:20250429T073956Z
LAST-MODIFIED:20251231T022537Z
UID:9777-1751621400-1751628600@www.brmc.org.sg
SUMMARY:Equip Heart2Heart Mothers' Fellowship - Parenting is Heart Work (#1/8)
DESCRIPTION:Calling all mums with kids from 2 -18 years! \nIf you’re like most parents\, you have developed your own parenting strategy—sometimes it seems to work\, and other times—based on the way your child behaves—you wonder if it’s working at all. There are countless ways to try to get a child’s attention and to effect change—but here’s the truth—unless you deal with a child through his or her heart\, you are not likely to see lasting change. \nBe equip with hands-on biblical strategies to parent your children’s hearts. Learn what a heart-based approach to parenting is all about and why it’s more effective than simple reward and punishment. Family routines that build character in children with every interaction are included for instructions and correction. \nCome and join us in this training to equip parents with heart-based strategies for instruction and correction. Learn what the heart is and then apply that information to develop parenting tools to bring about lasting change. \nAll moms are welcome! \nThe Heart2Heart Mothers’ Fellowship meets every Friday during school term time. \nDate: Fridays\, 4 Jul – 29 Aug 2025\nTime: 9.30am – 11.30am\nVenue: BRMC Conference Rooms\, L1 (next to Little Lights Preschool) \nSign up on the Church Center App
URL:https://www.brmc.org.sg/event/equip-heart2heart-mothers-fellowship-parenting-is-heart-work-session-1-8/
LOCATION:L1 Conference Room
ATTACH;FMTTYPE=image/png:https://www.brmc.org.sg/wp-content/uploads/2025/04/H2H-WEB_2025.png
END:VEVENT
BEGIN:VEVENT
DTSTART;TZID=Asia/Singapore:20250706T133000
DTEND;TZID=Asia/Singapore:20250706T163000
DTSTAMP:20260424T101911
CREATED:20250415T091751Z
LAST-MODIFIED:20250630T023041Z
UID:9226-1751808600-1751819400@www.brmc.org.sg
SUMMARY:Marriage Preparation Course (#1/5)
DESCRIPTION:How different would married life be from your life now as a committed dating couple? If God brought both of you together\, surely He must have a manual for living as one family unit? Come learn what the Bible has to say about God’s design for your marriage and build a marriage that honours God and one which will bring you lasting joy. \nPlaces are limited to 15 couples on a first-come\, first-served basis. (It is highly recommended to attend the course at least one year before your wedding date.) \nThis programme includes private couple sessions with marriage mentors and is compulsory for all couples wanting to marry at BRMC. \nThe course has two parts. \nPart 1: 5 sessions of teaching facilitated by experienced speakers; and\nPart 2: 6 sessions of private mentoring with your Marriage Mentors. \nCompletion of both parts is mandatory. \nThe topics covered are: \n\n Marriage – the biblical perspective\n Communication and managing finances\n Resolving conflicts\n Intimacy & family planning\n Children\, work-life & family life\n\nDates:\n6\, 13\, 20\, 27 Jul and 3 Aug (Sat\, 5 sessions) \nTime: 1.30pm-4.30pm\nVenue: BRMC L2 Training Room (Near Swimming Complex) \nRegister to indicate your interest \nClosing date for registration: 15 June 2025
URL:https://www.brmc.org.sg/event/marriage-preparation-course-session-1-5-3/
LOCATION:L2 Training Room
ATTACH;FMTTYPE=image/jpeg:https://www.brmc.org.sg/wp-content/uploads/2023/02/Marriage-Prep-2023-_Web-Listing-1.jpg
END:VEVENT
BEGIN:VEVENT
DTSTART;TZID=Asia/Singapore:20250706T143000
DTEND;TZID=Asia/Singapore:20250706T160000
DTSTAMP:20260424T101911
CREATED:20250429T084720Z
LAST-MODIFIED:20250701T032121Z
UID:9837-1751812200-1751817600@www.brmc.org.sg
SUMMARY:EQUIP - Singles Coffee\, Conversations & Activi-Tea
DESCRIPTION:A monthly event held every 1st Sunday of the month for singles to grow in interpersonal and intrapersonal skills. There will be interactive games\, thought provoking videos\, focused conversations using questionnaires as well as finger food and fellowship to grow relationships and healthy interaction between genders. \n2025 dates: 5 Jan\, 2 Feb\, 2 Mar\, 6 Apr\, 4 May\, 1 Jun\, 6 Jul\, 3 Aug\, 7 Sep\, 5 Oct\, 2 Nov\, 7 Dec \nSign up on the Church Center App
URL:https://www.brmc.org.sg/event/equip-singles-coffee-conversations-activi-tea-7/
ATTACH;FMTTYPE=image/png:https://www.brmc.org.sg/wp-content/uploads/2024/12/WEB_Singles-Coffee-Conversation.png
END:VEVENT
BEGIN:VEVENT
DTSTART;TZID=Asia/Singapore:20250711T093000
DTEND;TZID=Asia/Singapore:20250711T113000
DTSTAMP:20260424T101911
CREATED:20250429T074119Z
LAST-MODIFIED:20251231T022545Z
UID:9780-1752226200-1752233400@www.brmc.org.sg
SUMMARY:Equip Heart2Heart Mothers' Fellowship - Parenting is Heart Work (#2/8)
DESCRIPTION:Calling all mums with kids from 2 -18 years! \nIf you’re like most parents\, you have developed your own parenting strategy—sometimes it seems to work\, and other times—based on the way your child behaves—you wonder if it’s working at all. There are countless ways to try to get a child’s attention and to effect change—but here’s the truth—unless you deal with a child through his or her heart\, you are not likely to see lasting change. \nBe equip with hands-on biblical strategies to parent your children’s hearts. Learn what a heart-based approach to parenting is all about and why it’s more effective than simple reward and punishment. Family routines that build character in children with every interaction are included for instructions and correction. \nCome and join us in this training to equip parents with heart-based strategies for instruction and correction. Learn what the heart is and then apply that information to develop parenting tools to bring about lasting change. \nAll moms are welcome! \nThe Heart2Heart Mothers’ Fellowship meets every Friday during school term time. \nDate: Fridays\, 4 Jul – 29 Aug 2025\nTime: 9.30am – 11.30am\nVenue: BRMC Conference Rooms\, L1 (next to Little Lights Preschool) \nSign up on the Church Center App
URL:https://www.brmc.org.sg/event/equip-heart2heart-mothers-fellowship-parenting-is-heart-work-session-2-8/
LOCATION:L1 Conference Room
ATTACH;FMTTYPE=image/png:https://www.brmc.org.sg/wp-content/uploads/2025/04/H2H-WEB_2025.png
END:VEVENT
BEGIN:VEVENT
DTSTART;TZID=Asia/Singapore:20250712T090000
DTEND;TZID=Asia/Singapore:20250712T123000
DTSTAMP:20260424T101911
CREATED:20250415T031634Z
LAST-MODIFIED:20250522T034628Z
UID:9213-1752310800-1752323400@www.brmc.org.sg
SUMMARY:EQUIP - Lectio Divina Retreat 2025 (#1/2)
DESCRIPTION:Desiring to encounter Christ more deeply in His Word? \nExperience the gentle movements of a contemplative way of meditating on the Scriptures\, through a guided workshop on the ancient practice of lectio divina. We will slow down to listen more deeply and be present to hear and encounter Christ in the bible. \nDates: 12 and 19 Jul 2025\nTime:  9am to 12.30pm\nVenue: BRMC Level 2 Training Room \nCome feel the loving embrace of God through His Word. \nSign up on the Church Center App
URL:https://www.brmc.org.sg/event/lectio-divina-retreat-2025/
LOCATION:L2 Training Room
ATTACH;FMTTYPE=image/png:https://www.brmc.org.sg/wp-content/uploads/2025/04/Web_Lectio_Divina-2025.png
END:VEVENT
BEGIN:VEVENT
DTSTART;TZID=Asia/Singapore:20250713T133000
DTEND;TZID=Asia/Singapore:20250713T163000
DTSTAMP:20260424T101911
CREATED:20250415T092006Z
LAST-MODIFIED:20250630T023100Z
UID:9228-1752413400-1752424200@www.brmc.org.sg
SUMMARY:Marriage Preparation Course (#2/5)
DESCRIPTION:How different would married life be from your life now as a committed dating couple? If God brought both of you together\, surely He must have a manual for living as one family unit? Come learn what the Bible has to say about God’s design for your marriage and build a marriage that honours God and one which will bring you lasting joy. \nPlaces are limited to 15 couples on a first-come\, first-served basis. (It is highly recommended to attend the course at least one year before your wedding date.) \nThis programme includes private couple sessions with marriage mentors and is compulsory for all couples wanting to marry at BRMC. \nThe course has two parts. \nPart 1: 5 sessions of teaching facilitated by experienced speakers; and\nPart 2: 6 sessions of private mentoring with your marriage mentors. \nCompletion of both parts is mandatory. \nThe topics covered are: \n\n Marriage – the biblical perspective\n Communication and managing finances\n Resolving conflicts\n Intimacy & family planning\n Children\, work-life & family life\n\nDates:\n6\, 13\, 20\, 27 Jul and 3 Aug (Sat\, 5 sessions) \nTime: 1.30pm-4.30pm\nVenue: BRMC L2 Training Room (Near Swimming Complex) \nSign up on the Church Center App \nClosing date for registration: 15 June 2025
URL:https://www.brmc.org.sg/event/marriage-preparation-course-session-2-5-3/
LOCATION:L2 Training Room
ATTACH;FMTTYPE=image/jpeg:https://www.brmc.org.sg/wp-content/uploads/2023/02/Marriage-Prep-2023-_Web-Listing-1.jpg
END:VEVENT
BEGIN:VEVENT
DTSTART;TZID=Asia/Singapore:20250716T200000
DTEND;TZID=Asia/Singapore:20250716T213000
DTSTAMP:20260424T101911
CREATED:20250603T034002Z
LAST-MODIFIED:20250603T034249Z
UID:10477-1752696000-1752701400@www.brmc.org.sg
SUMMARY:EQUIP - Singles Talk It Out (#2/4)
DESCRIPTION:Looking for a space to reflect\, connect\, and have honest conversations about life as a single? Singles Talk It Out is a 4-part conversational journey designed for singles to gather\, explore real questions\, and engage with God’s Word through shared experiences. \nThere are 3 segments: Talk It Out\, Take a Step Back and Craft It to reinforce event objectives. \nTopics for the 4 sessions:\nWed\, 2 Jul – Marriage Good\, Single Bad?\nWed\, 16 Jul – Single and Feeling Left Out?\nWed\, 30 Jul – Organic Vs Online Dating\nWed\, 13 Aug – God in my Singleness \nFacilitator: PTS Corinne Teo \nCome with an open heart\, leave with a fresh perspective! \nSign up on the Church Center App
URL:https://www.brmc.org.sg/event/equip-singles-talk-it-out-2-4/
LOCATION:L1-CF1/CF2 Conference Room
ATTACH;FMTTYPE=image/png:https://www.brmc.org.sg/wp-content/uploads/2025/06/WEB_Talk-it-Out.png
END:VEVENT
BEGIN:VEVENT
DTSTART;TZID=Asia/Singapore:20250718T093000
DTEND;TZID=Asia/Singapore:20250718T113000
DTSTAMP:20260424T101911
CREATED:20250429T074218Z
LAST-MODIFIED:20251231T022551Z
UID:9782-1752831000-1752838200@www.brmc.org.sg
SUMMARY:Equip Heart2Heart Mothers' Fellowship - Parenting is Heart Work (#3/8)
DESCRIPTION:Calling all mums with kids from 2 -18 years! \nIf you’re like most parents\, you have developed your own parenting strategy—sometimes it seems to work\, and other times—based on the way your child behaves—you wonder if it’s working at all. There are countless ways to try to get a child’s attention and to effect change—but here’s the truth—unless you deal with a child through his or her heart\, you are not likely to see lasting change. \nBe equip with hands-on biblical strategies to parent your children’s hearts. Learn what a heart-based approach to parenting is all about and why it’s more effective than simple reward and punishment. Family routines that build character in children with every interaction are included for instructions and correction. \nCome and join us in this training to equip parents with heart-based strategies for instruction and correction. Learn what the heart is and then apply that information to develop parenting tools to bring about lasting change. \nAll moms are welcome! \nThe Heart2Heart Mothers’ Fellowship meets every Friday during school term time. \nDate: Fridays\, 4 Jul – 29 Aug 2025\nTime: 9.30am – 11.30am\nVenue: BRMC Conference Rooms\, L1 (next to Little Lights Preschool) \nSign up on the Church Center App
URL:https://www.brmc.org.sg/event/equip-heart2heart-mothers-fellowship-parenting-is-heart-work-session-3-8/
LOCATION:L1 Conference Room
ATTACH;FMTTYPE=image/png:https://www.brmc.org.sg/wp-content/uploads/2025/04/H2H-WEB_2025.png
END:VEVENT
BEGIN:VEVENT
DTSTART;TZID=Asia/Singapore:20250719T090000
DTEND;TZID=Asia/Singapore:20250719T123000
DTSTAMP:20260424T101911
CREATED:20250415T032213Z
LAST-MODIFIED:20250522T034531Z
UID:9216-1752915600-1752928200@www.brmc.org.sg
SUMMARY:EQUIP - Lectio Divina Retreat 2025 (#2/2)
DESCRIPTION:Desiring to encounter Christ more deeply in His Word? \nExperience the gentle movements of a contemplative way of meditating on the Scriptures\, through a guided workshop on the ancient practice of lectio divina. We will slow down to listen more deeply and be present to hear and encounter Christ in the Bible. \nDates: 12 and 19 Jul 2025\nTime:  9am to 12.30pm\nVenue: BRMC Level 2 Training Room \nCome feel the loving embrace of God through His Word. \nSign up on the Church Center App
URL:https://www.brmc.org.sg/event/equip-lectio-divina-retreat-2025-part-2-2/
LOCATION:L2 Training Room
ATTACH;FMTTYPE=image/png:https://www.brmc.org.sg/wp-content/uploads/2025/04/Web_Lectio_Divina-2025.png
END:VEVENT
BEGIN:VEVENT
DTSTART;TZID=Asia/Singapore:20250720T133000
DTEND;TZID=Asia/Singapore:20250720T163000
DTSTAMP:20260424T101911
CREATED:20250415T092131Z
LAST-MODIFIED:20250630T023113Z
UID:9230-1753018200-1753029000@www.brmc.org.sg
SUMMARY:Marriage Preparation Course (#3/5)
DESCRIPTION:How different would married life be from your life now as a committed dating couple? If God brought both of you together\, surely He must have a manual for living as one family unit? Come learn what the Bible has to say about God’s design for your marriage and build a marriage that honours God and one which will bring you lasting joy. \nPlaces are limited to 15 couples on a first-come\, first-served basis. (It is highly recommended to attend the course at least one year before your wedding date.) \nThis programme includes private couple sessions with marriage mentors and is compulsory for all couples wanting to marry at BRMC. \nThe course has two parts. \nPart 1: 5 sessions of teaching facilitated by experienced speakers; and\nPart 2: 6 sessions of private mentoring with your marriage mentors. \nCompletion of both parts is mandatory. \nThe topics covered are: \n\n Marriage – the biblical perspective\n Communication and managing finances\n Resolving conflicts\n Intimacy & family planning\n Children\, work-life & family life\n\nDates:\n6\, 13\, 20\, 27 Jul and 3 Aug (Sat\, 5 sessions) \nTime: 1.30pm-4.30pm\nVenue: BRMC L2 Training Room (Near Swimming Complex) \nSign up on the Church Center App \nClosing date for registration: 15 June 2025
URL:https://www.brmc.org.sg/event/marriage-preparation-course-session-3-5-3/
LOCATION:L2 Training Room
ATTACH;FMTTYPE=image/jpeg:https://www.brmc.org.sg/wp-content/uploads/2023/02/Marriage-Prep-2023-_Web-Listing-1.jpg
END:VEVENT
BEGIN:VEVENT
DTSTART;TZID=Asia/Singapore:20250725T093000
DTEND;TZID=Asia/Singapore:20250725T113000
DTSTAMP:20260424T101911
CREATED:20250429T075254Z
LAST-MODIFIED:20251231T022556Z
UID:9784-1753435800-1753443000@www.brmc.org.sg
SUMMARY:Equip Heart2Heart Mothers' Fellowship - Parenting is Heart Work (#4/8)
DESCRIPTION:Calling all mums with kids from 2 -18 years! \nIf you’re like most parents\, you have developed your own parenting strategy—sometimes it seems to work\, and other times—based on the way your child behaves—you wonder if it’s working at all. There are countless ways to try to get a child’s attention and to effect change—but here’s the truth—unless you deal with a child through his or her heart\, you are not likely to see lasting change. \nBe equip with hands-on biblical strategies to parent your children’s hearts. Learn what a heart-based approach to parenting is all about and why it’s more effective than simple reward and punishment. Family routines that build character in children with every interaction are included for instructions and correction. \nCome and join us in this training to equip parents with heart-based strategies for instruction and correction. Learn what the heart is and then apply that information to develop parenting tools to bring about lasting change. \nAll moms are welcome! \nThe Heart2Heart Mothers’ Fellowship meets every Friday during school term time. \nDate: Fridays\, 4 Jul – 22 Aug 2025\nTime: 9.30am – 11.30am\nVenue: BRMC Conference Rooms\, L1 (next to Little Lights Preschool) \nSign up on the Church Center App
URL:https://www.brmc.org.sg/event/equip-heart2heart-mothers-fellowship-parenting-is-heart-work-session-4-8/
LOCATION:L1 Conference Room
ATTACH;FMTTYPE=image/png:https://www.brmc.org.sg/wp-content/uploads/2025/04/H2H-WEB_2025.png
END:VEVENT
BEGIN:VEVENT
DTSTART;TZID=Asia/Singapore:20250727T133000
DTEND;TZID=Asia/Singapore:20250727T163000
DTSTAMP:20260424T101911
CREATED:20250415T092249Z
LAST-MODIFIED:20250630T023126Z
UID:9232-1753623000-1753633800@www.brmc.org.sg
SUMMARY:Marriage Preparation Course (#4/5)
DESCRIPTION:How different would married life be from your life now as a committed dating couple? If God brought both of you together\, surely He must have a manual for living as one family unit? Come learn what the Bible has to say about God’s design for your marriage and build a marriage that honours God and one which will bring you lasting joy. \nPlaces are limited to 15 couples on a first-come\, first-served basis. (It is highly recommended to attend the course at least one year before your wedding date.) \nThis programme includes private couple sessions with marriage mentors and is compulsory for all couples wanting to marry at BRMC. \nThe course has two parts. \nPart 1: 5 sessions of teaching facilitated by experienced speakers; and\nPart 2: 6 sessions of private mentoring with your marriage mentors. \nCompletion of both parts is mandatory. \nThe topics covered are: \n\n Marriage – the biblical perspective\n Communication and managing finances\n Resolving conflicts\n Intimacy & family planning\n Children\, work-life & family life\n\nDates:\n6\, 13\, 20\, 27 Jul and 3 Aug (Sat\, 5 sessions) \nTime: 1.30pm-4.30pm\nVenue: BRMC L2 Training Room (Near Swimming Complex) \nSign up on the Church Center App \nClosing date for registration: 15 June 2025
URL:https://www.brmc.org.sg/event/marriage-preparation-course-session-4-5-3/
LOCATION:L2 Training Room
ATTACH;FMTTYPE=image/jpeg:https://www.brmc.org.sg/wp-content/uploads/2023/02/Marriage-Prep-2023-_Web-Listing-1.jpg
END:VEVENT
BEGIN:VEVENT
DTSTART;TZID=Asia/Singapore:20250730T200000
DTEND;TZID=Asia/Singapore:20250730T213000
DTSTAMP:20260424T101911
CREATED:20250603T034351Z
LAST-MODIFIED:20250603T034351Z
UID:10486-1753905600-1753911000@www.brmc.org.sg
SUMMARY:EQUIP - Singles Talk It Out (#3/4)
DESCRIPTION:Looking for a space to reflect\, connect\, and have honest conversations about life as a single? Singles Talk It Out is a 4-part conversational journey designed for singles to gather\, explore real questions\, and engage with God’s Word through shared experiences. \nThere are 3 segments: Talk It Out\, Take a Step Back and Craft It to reinforce event objectives. \nTopics for the 4 sessions:\nWed\, 2 Jul – Marriage Good\, Single Bad?\nWed\, 16 Jul – Single and Feeling Left Out?\nWed\, 30 Jul – Organic Vs Online Dating\nWed\, 13 Aug – God in my Singleness \nFacilitator: PTS Corinne Teo \nCome with an open heart\, leave with a fresh perspective! \nSign up on the Church Center App
URL:https://www.brmc.org.sg/event/equip-singles-talk-it-out-3-4/
LOCATION:L1-CF1/CF2 Conference Room
ATTACH;FMTTYPE=image/png:https://www.brmc.org.sg/wp-content/uploads/2025/06/WEB_Talk-it-Out.png
END:VEVENT
END:VCALENDAR