BEGIN:VCALENDAR
VERSION:2.0
PRODID:-//Barker Road Methodist Church - ECPv6.15.18//NONSGML v1.0//EN
CALSCALE:GREGORIAN
METHOD:PUBLISH
X-WR-CALNAME:Barker Road Methodist Church
X-ORIGINAL-URL:https://www.brmc.org.sg
X-WR-CALDESC:Events for Barker Road Methodist Church
REFRESH-INTERVAL;VALUE=DURATION:PT1H
X-Robots-Tag:noindex
X-PUBLISHED-TTL:PT1H
BEGIN:VTIMEZONE
TZID:Asia/Singapore
BEGIN:STANDARD
TZOFFSETFROM:+0800
TZOFFSETTO:+0800
TZNAME:+08
DTSTART:20240101T000000
END:STANDARD
END:VTIMEZONE
BEGIN:VEVENT
DTSTART;TZID=Asia/Singapore:20250906T133000
DTEND;TZID=Asia/Singapore:20250906T153000
DTSTAMP:20260424T073553
CREATED:20250404T094006Z
LAST-MODIFIED:20250509T065816Z
UID:9181-1757165400-1757172600@www.brmc.org.sg
SUMMARY:Baptism and Membership Course (2H2025) #4
DESCRIPTION:This is the fourth session of the Baptism and Membership Course (2H2025)\, conducted at 1.30pm – 3.30pm. \nPlease visit our FAQs for BMC criteria and other details.  \nBRMC 2H2025 Baptism and Membership Course Schedule \n\n\n\nItem\nDates\n\n\nBMC session 1\n16 Aug 2025 (Sat)\, 1.30pm – 3.30pm\n\n\nBMC session 2\n23 Aug 2025 (Sat)\, 1.30pm – 3.30pm\n\n\nBMC session 3\n30 Aug 2025 (Sat)\, 1.30pm – 3.30pm\n\n\nBMC session 4\n6 Sept 2025 (Sat)\, 1.30pm – 3.30pm\n\n\nBMC session 5 (for parents)\n13 Sept 2025 (Sat)\, 1.30pm – 3.30pm\n\n\nPastoral Conversations\n23 Aug (Sat) to 14 Sept (Sun) 2025 (3 weeks)\n\n\nAdmin Briefing\n20 Sept 2025 (Sat)\, 1.30pm – 3.30pm\n\n\nBaptism Service\n27 Sept 2025 (Sat)\, 10am-12pm\n\n\nCARIM Service\n27 Sept 2025 (Sat) and 28 Sept 2025 (Sun)
URL:https://www.brmc.org.sg/event/baptism-and-membership-course-2h2025-session-4/
ATTACH;FMTTYPE=image/jpeg:https://www.brmc.org.sg/wp-content/uploads/2025/04/bmc-web.jpg
END:VEVENT
BEGIN:VEVENT
DTSTART;TZID=Asia/Singapore:20250907T143000
DTEND;TZID=Asia/Singapore:20250907T160000
DTSTAMP:20260424T073553
CREATED:20250429T085055Z
LAST-MODIFIED:20250801T062532Z
UID:9843-1757255400-1757260800@www.brmc.org.sg
SUMMARY:EQUIP - Singles Coffee\, Conversations & Activi-Tea
DESCRIPTION:A monthly event held every 1st Sunday of the month for singles to grow in interpersonal and intrapersonal skills. There will be interactive games\, thought provoking videos\, focused conversations using questionnaires as well as finger food and fellowship to grow relationships and healthy interaction between genders. \n2025 dates: 5 Jan\, 2 Feb\, 2 Mar\, 6 Apr\, 4 May\, 1 Jun\, 6 Jul\, 3 Aug\, 7 Sep\, 5 Oct\, 2 Nov\, 7 Dec \nSign up on the Church Center App \n 
URL:https://www.brmc.org.sg/event/equip-singles-coffee-conversations-activi-tea-9/
ATTACH;FMTTYPE=image/png:https://www.brmc.org.sg/wp-content/uploads/2024/12/WEB_Singles-Coffee-Conversation.png
END:VEVENT
BEGIN:VEVENT
DTSTART;TZID=Asia/Singapore:20250913T090000
DTEND;TZID=Asia/Singapore:20250913T140000
DTSTAMP:20260424T073553
CREATED:20250716T065825Z
LAST-MODIFIED:20250909T031815Z
UID:10782-1757754000-1757772000@www.brmc.org.sg
SUMMARY:EQUIP Symposium - Living well and prepared (Day 1)
DESCRIPTION:Being single isn’t merely a season — it’s a significant part of life to be lived fully and purposefully. \nJoin us in getting equipped to steward life holistically at this two-day symposium covering physical\, mental\, emotional and spiritual health\, as well as financial stewardship. \nGain practical wisdom\, fresh perspectives and new connections as we explore what it means to live well and prepared as singles. \nLet’s journey together towards wholeness and purpose as singles. \n\n\n\nDay 1\nTopic\nSpeaker\n\n\nSession 1\nThe Healthy Single\nDr Shaun Lee Jian Jie\nEndocrinologist\n\n\nSession 2\nThe Psychological and Emotional Well-Being of the Single\nClarie Ong\nCo-founder\, The Positive Movement\n\n\nDay 2\nTopic\nSpeaker\n\n\nSession 1\nLeaving A Meaningful Financial Legacy as a Single\nRoger Heng\nFinancial Planner\n\n\nSession 2\nLeaving A Meaningful Spiritual Legacy as a Single\nRev Ming Feong Ching\nPastor at Toa Payoh Methodist Church\n\n\n\nDates: 13 & 27 Sep 2025\nTime: 9am – 2pm\nVenue: L1 Conference Room (13 Sep) L2 Training Room (27 Sep) \nRegistration Fee: $10 (if you are attending both 13 & 27 Sep) or $5 (if you are attending only one Saturday) \nSign up now 
URL:https://www.brmc.org.sg/event/equip-2-day-symposium-living-well-and-prepared/
LOCATION:L1 Conference Room
ATTACH;FMTTYPE=image/png:https://www.brmc.org.sg/wp-content/uploads/2025/06/WEB_Talk-it-Out.png
END:VEVENT
BEGIN:VEVENT
DTSTART;TZID=Asia/Singapore:20250913T140000
DTEND;TZID=Asia/Singapore:20250913T170000
DTSTAMP:20260424T073553
CREATED:20250716T031432Z
LAST-MODIFIED:20250808T100304Z
UID:10754-1757772000-1757782800@www.brmc.org.sg
SUMMARY:EQUIP - Discipleship 101: The Bible
DESCRIPTION:All Scripture is God-breathed and is useful for teaching\, rebuking\, correcting and training in righteousness\, so that the servant of God may be thoroughly equipped for every good work. – 2 Timothy 3:16-17 (NIV) \nDate: Sat\, 13 Sep\nTime: 2pm – 5pm\nVenue: L2 Training Room \nIn this interactive\, beginner-friendly session\, you’ll discover why the bible is central to the Christian life\, gain a clearer understanding of its structure\, and learn practical ways to start reading it on your own. Whether you’re opening the bible for the first time or looking to build confidence in engaging with Scripture\, this is a great place to start. \nWhat you’ll explore: \n\nWhy the bible matters\nA quick overview of the different books\nHow to interact with God’s Word\nWhere and how to begin reading\n\nSign up on the Church Center App
URL:https://www.brmc.org.sg/event/equip-discipleship-101-the-bible/
LOCATION:L2 Training Room
ATTACH;FMTTYPE=image/png:https://www.brmc.org.sg/wp-content/uploads/2024/05/Web_D101EW.png
END:VEVENT
BEGIN:VEVENT
DTSTART;TZID=Asia/Singapore:20250921T143000
DTEND;TZID=Asia/Singapore:20250921T170000
DTSTAMP:20260424T073553
CREATED:20250728T082558Z
LAST-MODIFIED:20250905T033325Z
UID:10872-1758465000-1758474000@www.brmc.org.sg
SUMMARY:EQUIP SEMINAR - The Present of Presence
DESCRIPTION:Presence is more than a concept—it’s a sacred and valuable practice. In the midst of our busy and fragmented lives\, how do we truly show up? How do we attend to ourselves\, others\, and God? \nJoin us in exploring the sacred practice of presence. \nDiscover how to cultivate stillness in your inner life\, develop spaciousness to receive and offer love\, live and minister out of your being rather than your doing. \nThis seminar offers space to deepen your spiritual journey and relationships by learning to be before you do — to show up fully for yourself\, for others\, and for the God who is always present. \nDate: Sun\, 21 Sep 2025\nTime: 2.30pm – 5pm\nVenue: Wesley Hall \nSpeaker: Dr. Wil Hernandez\, founder and president of CenterQuest\, an ecumenical hub dedicated to the study and practice of Christian spirituality. \nSign up now
URL:https://www.brmc.org.sg/event/the-present-of-presence/
LOCATION:Wesley Hall
ATTACH;FMTTYPE=image/png:https://www.brmc.org.sg/wp-content/uploads/2025/07/WEB_The-Present-of-Presence.png
END:VEVENT
BEGIN:VEVENT
DTSTART;TZID=Asia/Singapore:20250926T093000
DTEND;TZID=Asia/Singapore:20250926T113000
DTSTAMP:20260424T073553
CREATED:20250429T080210Z
LAST-MODIFIED:20250926T013722Z
UID:9796-1758879000-1758886200@www.brmc.org.sg
SUMMARY:EQUIP - Anxious for Nothing (#1/5)
DESCRIPTION:The Heart2Heart Mothers’ Fellowship meets every Friday morning during school term time. All mothers are welcome! \nDoes the uncertainty and chaos of life keep you up at night? Is irrational anxiety your constant companion? Let God help you win the war on worry and receive the lasting peace of Christ. \nWe all encounter anxiety\, but we don’t have to let worry and fear control our lives. \nAll mothers are welcome to join us on in our new five-session Bible study based on Anxious for Nothing by Max Lucado\, which provides a roadmap for battling with and healing from anxiety. \n \nDate: Fridays\, 26 Sep\, 10\, 17\, 24\, 31 Oct\nTime: 9.30am – 11.30am\nVenue: BRMC Conference Rooms\, L1 (next to Little Lights Preschool) \nSign up on the Church Center App
URL:https://www.brmc.org.sg/event/equip-anxious-for-nothing-session-1-6/
LOCATION:L1 Conference Room
ATTACH;FMTTYPE=image/png:https://www.brmc.org.sg/wp-content/uploads/2025/04/H2H-WEB_2025.png
END:VEVENT
BEGIN:VEVENT
DTSTART;TZID=Asia/Singapore:20250927T090000
DTEND;TZID=Asia/Singapore:20250927T140000
DTSTAMP:20260424T073553
CREATED:20250716T072552Z
LAST-MODIFIED:20250909T055933Z
UID:10791-1758963600-1758981600@www.brmc.org.sg
SUMMARY:Equip Symposium - Living Well and Prepared (Day 2)
DESCRIPTION:Being single isn’t merely a season — it’s a significant part of life to be lived fully and purposefully. \nJoin us in getting equipped to steward life holistically at this two-day symposium covering physical\, mental\, emotional and spiritual health\, as well as financial stewardship. \nGain practical wisdom\, fresh perspectives and new connections as we explore what it means to live well and prepared as singles. \nLet’s journey together towards wholeness and purpose as singles. \n\n\n\nDay 1\nTopic\nSpeaker\n\n\nSession 1\nThe Healthy Single\nDr Shaun Lee Jian Jie\nEndocrinologist\n\n\nSession 2\nThe Psychological and Emotional Well-Being of the Single\nClaire Ong\nCo-founder\, The Positive Movement\n\n\nDay 2\nTopic\nSpeaker\n\n\nSession 1\nLeaving A Meaningful Financial Legacy as a Single\nRoger Heng\nFinancial Planner\n\n\nSession 2\nLeaving A Meaningful Spiritual Legacy as a Single\nRev Ming Feong Ching\nPastor at Toa Payoh Methodist Church\n\n\n\nDates: 13 Sep & 27 Sep\nTime: 9am – 2pm\nVenue: L1 Conference Room (13 Sep) L2 Training Room (27 Sep) \nRegistration Fee: $10 (if you are attending both 13 & 27 Sep) or $5 (if you are attending only one Saturday) \nSign up on the Church Center App
URL:https://www.brmc.org.sg/event/equip-2-day-symposium-living-well-and-prepared-2/
LOCATION:L1 Conference Room
ATTACH;FMTTYPE=image/png:https://www.brmc.org.sg/wp-content/uploads/2025/06/WEB_Talk-it-Out.png
END:VEVENT
END:VCALENDAR