BEGIN:VCALENDAR
VERSION:2.0
PRODID:-//Barker Road Methodist Church - ECPv6.15.18//NONSGML v1.0//EN
CALSCALE:GREGORIAN
METHOD:PUBLISH
X-ORIGINAL-URL:https://www.brmc.org.sg
X-WR-CALDESC:Events for Barker Road Methodist Church
REFRESH-INTERVAL;VALUE=DURATION:PT1H
X-Robots-Tag:noindex
X-PUBLISHED-TTL:PT1H
BEGIN:VTIMEZONE
TZID:Asia/Singapore
BEGIN:STANDARD
TZOFFSETFROM:+0800
TZOFFSETTO:+0800
TZNAME:+08
DTSTART:20240101T000000
END:STANDARD
END:VTIMEZONE
BEGIN:VEVENT
DTSTART;TZID=Asia/Singapore:20251102T143000
DTEND;TZID=Asia/Singapore:20251102T160000
DTSTAMP:20260424T042259
CREATED:20250429T091733Z
LAST-MODIFIED:20250901T082459Z
UID:9848-1762093800-1762099200@www.brmc.org.sg
SUMMARY:EQUIP - Singles Coffee\, Conversations & Activi-Tea
DESCRIPTION:A monthly event held every 1st Sunday of the month for singles to grow in interpersonal and intrapersonal skills. There will be interactive games\, thought provoking videos\, focused conversations using questionnaires as well as finger food and fellowship to grow relationships and healthy interaction between genders. \n2025 dates: 5 Jan\, 2 Feb\, 2 Mar\, 6 Apr\, 4 May\, 1 Jun\, 6 Jul\, 3 Aug\, 7 Sep\, 5 Oct\, 2 Nov\, 7 Dec \nSign up on the Church Center App
URL:https://www.brmc.org.sg/event/equip-singles-coffee-conversations-activi-tea-11/
ATTACH;FMTTYPE=image/png:https://www.brmc.org.sg/wp-content/uploads/2024/12/WEB_Singles-Coffee-Conversation.png
END:VEVENT
BEGIN:VEVENT
DTSTART;TZID=Asia/Singapore:20251108T090000
DTEND;TZID=Asia/Singapore:20251108T160000
DTSTAMP:20260424T042259
CREATED:20251002T053324Z
LAST-MODIFIED:20251002T054236Z
UID:11648-1762592400-1762617600@www.brmc.org.sg
SUMMARY:EQUIP Retreat - Experiencing God Through the Senses
DESCRIPTION:Art washes away from the soul the dust of everyday life – Pablo Picasso \nBeyond artistic beauty\, art has the power to open our hearts to God\, helping us discover insights about ourselves and encounter Him in deep and refreshing ways. Through images\, craft\, prayer\, music\, and creative play\, this retreat invites you to experience God’s peace and rest in a fun\, reflective\, and soul-restoring way. \nNo artistic experience is needed – simply come with an open heart and experience how God restores the soul and speaks through beauty\, reflection and play. \nSpeaker: Nicholas Lye \nTrained in the diocesan seminary for 8 years\, Nicholas Lye now serves as a lay missionary and creative evangelist. He uses creativity to draw people closer to God and help them discover their identity and mission in life. Over the years\, he has led Prayer through Art workshops and retreats in both local and overseas communities. \nDate: Sat\, 8 Nov 2025\nTime: 9am – 4pm\nVenue: L1 Conference Room\nRegistration Fee: $5 \nSign up on the Church Center App
URL:https://www.brmc.org.sg/event/equip-singles-retreat-experiencing-god-through-the-senses/
LOCATION:L1 Conference Room
ATTACH;FMTTYPE=image/png:https://www.brmc.org.sg/wp-content/uploads/2025/06/WEB_Talk-it-Out.png
END:VEVENT
END:VCALENDAR