BEGIN:VCALENDAR
VERSION:2.0
PRODID:-//Barker Road Methodist Church - ECPv6.15.18//NONSGML v1.0//EN
CALSCALE:GREGORIAN
METHOD:PUBLISH
X-WR-CALNAME:Barker Road Methodist Church
X-ORIGINAL-URL:https://www.brmc.org.sg
X-WR-CALDESC:Events for Barker Road Methodist Church
REFRESH-INTERVAL;VALUE=DURATION:PT1H
X-Robots-Tag:noindex
X-PUBLISHED-TTL:PT1H
BEGIN:VTIMEZONE
TZID:Asia/Singapore
BEGIN:STANDARD
TZOFFSETFROM:+0800
TZOFFSETTO:+0800
TZNAME:+08
DTSTART:20250101T000000
END:STANDARD
END:VTIMEZONE
BEGIN:VEVENT
DTSTART;TZID=Asia/Singapore:20260701T200000
DTEND;TZID=Asia/Singapore:20260701T213000
DTSTAMP:20260424T011740
CREATED:20260410T015848Z
LAST-MODIFIED:20260410T020000Z
UID:14205-1782936000-1782941400@www.brmc.org.sg
SUMMARY:EQUIP - Freedom in Christ (#1/12)
DESCRIPTION:A new discipleship journey to break free and live fully in Christ. \nThe Discipleship & Nurture (D&N) Ministry is starting a 12-week online course designed to help believers experience true freedom in their walk with God. \nBased on the UK Freedom in Christ (FIC) Ministries curriculum\, this programme helps believers break spiritual bondages\, renew their minds\, and walk confidently in their identity in Christ. \nWhat You’ll Gain \n\nKnow who you are in Christ\nBreak free from negative patterns\nResolve spiritual conflicts through the cross\nLive daily in freedom and fruitfulness\n\nCome embark on this journey of healing\, surrender\, and transformation. \nParticipant Testimony \nI recognise this is the first step in addressing my unresolved traumas and various unholy strongholds. It’s a process of healing and striving to be more God pleasing. FIC reminds me that I’m a child of God – He loves me deeply\, and He is always there for me. I am reminded to surrender to Him. His will\, not my will. His time\, not my time… In Christ\, I found freedom. \n\n\n\nSession\nTopic\nDate & Time (Wednesdays)\n\n\nSession 1\nIntroduction\n1 Jul\, 8pm – 9.45pm\n\n\nSession 2\nWho am I?\n8 Jul\, 8pm – 9.45pm\n\n\nSession 3\nChoosing to believe the truth\n15 Jul\, 8pm – 9.45pm\n\n\nSession 4\nThe world view of truth\n22 Jul\, 8pm – 9.45pm\n\n\nSession 5\nOur daily choice\n29 Jul\, 8pm – 9.45pm\n\n\nSession 6\nThe battle for our minds\n5 Aug\, 8pm – 9.45pm\n\n\nSession 7\nHandling emotions well\n12 Aug\, 8pm – 9.45pm\n\n\nSession 8\nForgiving from the heart\n19 Aug\, 8pm – 9.45pm\n\n\nSession 9\nPrayer response: the steps to FIC\n26 Aug\, 8pm – 9.45pm\n\n\nSession 10\nRenewing the mind\n2 Sep\, 8pm – 9.45pm\n\n\nSession 11\nRelating to others\n9 Sep\, 8pm – 9.45pm\n\n\nSession 12\nWhat’s next\n16 Sep\, 8pm – 9.45pm\n\n\n\n  \nVenue: Online (Zoom) \nRegistration closes on 28 June 2026. \nSign up on the Church Center App
URL:https://www.brmc.org.sg/event/equip-freedom-in-christ-1-12-2/
LOCATION:ZOOM
ATTACH;FMTTYPE=image/png:https://www.brmc.org.sg/wp-content/uploads/2025/11/WEB_FIC2026.png
END:VEVENT
BEGIN:VEVENT
DTSTART;VALUE=DATE:20260704
DTEND;VALUE=DATE:20260810
DTSTAMP:20260424T011740
CREATED:20260330T051920Z
LAST-MODIFIED:20260330T052509Z
UID:14006-1783123200-1786319999@www.brmc.org.sg
SUMMARY:Registration for Baptism and Membership Course (2H2026)
DESCRIPTION:Registration for BMC 2H2026 opens on Sat\, 4 Jul 2026 and closes on Sun\, 9 Aug 2026. \nRegistration for Adult Baptism/Confirmation/Transfer of Membership \nRegistration for Infant/Child Baptism \nPlease visit our FAQs for the criteria and other details. \nSchedule (Candidates must be present on all dates from the start of BMC) \n\n\n\nItem\nDates\n\n\nRegistration opens\n4 July 2026 (Sat)\n\n\nRegistration closes\n9 Aug 2026 (Sun)\n\n\nBMC Session 1\n22 Aug 2026 (Sat)\, 1.30pm-3.30pm\n\n\nBMC Session 2\n29 Aug 2026 (Sat)\, 1.30pm-3.30pm\n\n\nBMC Session 3\n5 Sep 2026 (Sat)\, 1.30pm-3.30pm\n\n\nBMC Session 4 & Admin Briefing*\n12 Sep 2026 (Sat)\, 10am-3pm\n\n\nBMC Session 5 & Admin Briefing*\n26 Sep 2026 (Sat)\, 9.30am-3pm\n\n\nPastoral Conversations\n31 Aug to 21 Sep 2026 (4 weeks)\n\n\nBaptism Service\n10 Oct 2026 (Sat)\, 10am-12pm\n\n\nCARIM Service\n10 Oct 2026 (Sat) and 11 Oct 2026 (Sun)\n\n\n\n  \n*For adult candidates (session 4) and parents (session 5)\, please note that sessions 4 & 5 follow different time schedules\, and lunch will be provided at both sessions.
URL:https://www.brmc.org.sg/event/registration-for-baptism-and-membership-course-2h2026/
ATTACH;FMTTYPE=image/png:https://www.brmc.org.sg/wp-content/uploads/2025/10/WEB_BMC-2026.png
END:VEVENT
BEGIN:VEVENT
DTSTART;TZID=Asia/Singapore:20260704T200000
DTEND;TZID=Asia/Singapore:20260704T220000
DTSTAMP:20260424T011740
CREATED:20260313T053417Z
LAST-MODIFIED:20260313T054217Z
UID:13815-1783195200-1783202400@www.brmc.org.sg
SUMMARY:EQUIP - Growing as Disciples of Christ (GDIC Module 2) (#10/11 - Sat)
DESCRIPTION:The Growing as Disciples In Christ (GDIC) programme is made up of three modules\, based on the established 2:7 series by The Navigators\, which started in January 2026. \nGDIC Module 2 (of 3) will take place over 11 weeks. During this course\, we will: \n\nCultivate the habit of daily devotional time and learn to spend extended time with God\n⁠Learn to evangelize and share our salvation story\n⁠Study the Bible on spiritual warfare\, knowing God’s will\, how to grow in faith as disciples of Christ.\n\n*Participants will need to have completed GDIC Module 1 before signing up for GDIC Module 2. After completing this course\, participants can then choose to continue on to GDIC Module 3 (Bearing Fruits in Christ). \nChoose to attend the Tuesday Group (8pm-10pm) OR Saturday Group (10am-12pm). Do note that sessions are mostly held via Zoom\, with occasional onsite meetings. \nJoin us to Grow Deeper In Christ! \nRegistration closes on 26 Apr 2026\, so do sign up before the date. \n\n\n\nSchedule\nTue (8pm-10pm)\nSat (10am-12pm)\n\n\nSession 1\n28 Apr 2026\n2 May 2026\n\n\nSession 2\n5 May 2026\n9 May 2026\n\n\nSession 3\n12 May 2026\n16 May 2026\n\n\nSession 4\n19 May 2026\n23 May 2026\n\n\nSession 5\n26 May 2026\n30 May 2026\n\n\nSession 6\n2 Jun 2026\n6 Jun 2026\n\n\nSession 7\n9 Jun 2026\n13 Jun 2026\n\n\nSession 8\n16 Jun 2026\n20 Jun 2026\n\n\nSession 9\n23 Jun 2026\n27 Jun 2026\n\n\nSession 10\n30 Jun 2026\n4 Jul 2026\n\n\nSession 11\n7 Jul 2026\n11 Jul 2026\n\n\n\n  \nSign up on the Church Center App
URL:https://www.brmc.org.sg/event/equip-growing-as-disciples-of-christ-gdic-module-2-10-11-sat/
LOCATION:ZOOM
ATTACH;FMTTYPE=image/png:https://www.brmc.org.sg/wp-content/uploads/2025/04/WEB_GDIC-2025.png
END:VEVENT
BEGIN:VEVENT
DTSTART;TZID=Asia/Singapore:20260705T133000
DTEND;TZID=Asia/Singapore:20260705T163000
DTSTAMP:20260424T011740
CREATED:20260227T083914Z
LAST-MODIFIED:20260227T083914Z
UID:13575-1783258200-1783269000@www.brmc.org.sg
SUMMARY:EQUIP - Marriage Preparation Course (#1/5)
DESCRIPTION:Ready as a couple to embark on your next step towards marriage? \nSign up for the Marriage Preparation Course which is designed for couples to prepare for and evaluate their relationship as a couple before embarking into marriage. Through biblical teaching and private mentoring sessions offering practical tips\, couples will learn how to build a Christ-centered marriage that honours God and brings lasting joy. \nConducted over 5 teaching sessions and 6 private mentoring sessions\, this course is a pre-requisite for couples to be married by Barker Road Methodist Church. \nTopics include: \n\nMarriage from a biblical perspective\nCommunication and managing finances\nManaging conflicts\nIntimacy and family planning\nChildren\, work life\, and family life\n\nDates: Sundays\, 5\, 12\, 19\, 26 Jul & 2 Aug 2026\nTime: 1.30pm – 4.30pm\nVenue: BRMC L2 Training Room \nPLEASE NOTE: \nCouples are strongly encouraged to attend the course one year before their wedding date. \nRegistration closes by 15 Jun 2026\, with capacity being limited to 15 couples per run on a first-come\, first-served basis. \nSign up on the Church Center App
URL:https://www.brmc.org.sg/event/equip-marriage-preparation-course-1-5/
LOCATION:L2 Training Room
ATTACH;FMTTYPE=image/png:https://www.brmc.org.sg/wp-content/uploads/2025/09/WEB_Marriage-Prep-2026.png
END:VEVENT
BEGIN:VEVENT
DTSTART;TZID=Asia/Singapore:20260705T143000
DTEND;TZID=Asia/Singapore:20260705T160000
DTSTAMP:20260424T011740
CREATED:20251017T070449Z
LAST-MODIFIED:20251215T095027Z
UID:12142-1783261800-1783267200@www.brmc.org.sg
SUMMARY:EQUIP - Singles Coffee\, Conversations & Activi-Tea
DESCRIPTION:Coffee\, Conversations & Activi-Tea is a monthly event for singles to gather in a safe and welcoming environment to build meaningful relationships and develop greater self and interpersonal awareness. \nEach session includes interactive activities and guided discussions grounded in biblical themes. Participants can look forward to reflective sharing\, light refreshments\, and opportunities for wholesome fellowship that encourage personal and spiritual growth. \n2026 dates: 4 Jan\, 1 Feb\, 1 Mar\, 3 May\, 7 Jun\, 5 Jul\, 2 Aug\, 6 Sep\, 4 Oct\, 1 Nov \nSign up on the Church Center App
URL:https://www.brmc.org.sg/event/equip-singles-coffee-conversations-activi-tea-19/
ATTACH;FMTTYPE=image/png:https://www.brmc.org.sg/wp-content/uploads/2024/12/WEB_Singles-Coffee-Conversation.png
END:VEVENT
BEGIN:VEVENT
DTSTART;TZID=Asia/Singapore:20260707T200000
DTEND;TZID=Asia/Singapore:20260707T220000
DTSTAMP:20260424T011740
CREATED:20260313T052104Z
LAST-MODIFIED:20260313T053938Z
UID:13779-1783454400-1783461600@www.brmc.org.sg
SUMMARY:EQUIP - Growing as Disciples of Christ (GDIC Module 2) (#11/11 - Tues)
DESCRIPTION:The Growing as Disciples In Christ (GDIC) programme is made up of three modules\, based on the established 2:7 series by The Navigators\, which started in January 2026. \nGDIC Module 2 (of 3) will take place over 11 weeks. During this course\, we will: \n\nCultivate the habit of daily devotional time and learn to spend extended time with God\n⁠Learn to evangelize and share our salvation story\n⁠Study the Bible on spiritual warfare\, knowing God’s will\, how to grow in faith as disciples of Christ.\n\n*Participants will need to have completed GDIC Module 1 before signing up for GDIC Module 2. After completing this course\, participants can then choose to continue on to GDIC Module 3 (Bearing Fruits in Christ). \nChoose to attend the Tuesday Group (8pm-10pm) OR Saturday Group (10am-12pm). Do note that sessions are mostly held via Zoom\, with occasional onsite meetings. \nJoin us to Grow Deeper In Christ! \nRegistration closes on 26 Apr 2026\, so do sign up before the date. \n\n\n\nSchedule\nTue (8pm-10pm)\nSat (10am-12pm)\n\n\nSession 1\n28 Apr 2026\n2 May 2026\n\n\nSession 2\n5 May 2026\n9 May 2026\n\n\nSession 3\n12 May 2026\n16 May 2026\n\n\nSession 4\n19 May 2026\n23 May 2026\n\n\nSession 5\n26 May 2026\n30 May 2026\n\n\nSession 6\n2 Jun 2026\n6 Jun 2026\n\n\nSession 7\n9 Jun 2026\n13 Jun 2026\n\n\nSession 8\n16 Jun 2026\n20 Jun 2026\n\n\nSession 9\n23 Jun 2026\n27 Jun 2026\n\n\nSession 10\n30 Jun 2026\n4 Jul 2026\n\n\nSession 11\n7 Jul 2026\n11 Jul 2026\n\n\n\n  \nSign up on the Church Center App
URL:https://www.brmc.org.sg/event/equip-growing-as-disciples-of-christ-gdic-module-2-10-11-tues-2/
LOCATION:ZOOM
ATTACH;FMTTYPE=image/png:https://www.brmc.org.sg/wp-content/uploads/2025/04/WEB_GDIC-2025.png
END:VEVENT
BEGIN:VEVENT
DTSTART;TZID=Asia/Singapore:20260708T200000
DTEND;TZID=Asia/Singapore:20260708T213000
DTSTAMP:20260424T011740
CREATED:20260410T020241Z
LAST-MODIFIED:20260410T020241Z
UID:14208-1783540800-1783546200@www.brmc.org.sg
SUMMARY:EQUIP - Freedom in Christ (#2/12)
DESCRIPTION:A new discipleship journey to break free and live fully in Christ. \nThe Discipleship & Nurture (D&N) Ministry is starting a 12-week online course designed to help believers experience true freedom in their walk with God. \nBased on the UK Freedom in Christ (FIC) Ministries curriculum\, this programme helps believers break spiritual bondages\, renew their minds\, and walk confidently in their identity in Christ. \nWhat You’ll Gain \n\nKnow who you are in Christ\nBreak free from negative patterns\nResolve spiritual conflicts through the cross\nLive daily in freedom and fruitfulness\n\nCome embark on this journey of healing\, surrender\, and transformation. \nParticipant Testimony \nI recognise this is the first step in addressing my unresolved traumas and various unholy strongholds. It’s a process of healing and striving to be more God pleasing. FIC reminds me that I’m a child of God – He loves me deeply\, and He is always there for me. I am reminded to surrender to Him. His will\, not my will. His time\, not my time… In Christ\, I found freedom. \n\n\n\nSession\nTopic\nDate & Time (Wednesdays)\n\n\nSession 1\nIntroduction\n1 Jul\, 8pm – 9.45pm\n\n\nSession 2\nWho am I?\n8 Jul\, 8pm – 9.45pm\n\n\nSession 3\nChoosing to believe the truth\n15 Jul\, 8pm – 9.45pm\n\n\nSession 4\nThe world view of truth\n22 Jul\, 8pm – 9.45pm\n\n\nSession 5\nOur daily choice\n29 Jul\, 8pm – 9.45pm\n\n\nSession 6\nThe battle for our minds\n5 Aug\, 8pm – 9.45pm\n\n\nSession 7\nHandling emotions well\n12 Aug\, 8pm – 9.45pm\n\n\nSession 8\nForgiving from the heart\n19 Aug\, 8pm – 9.45pm\n\n\nSession 9\nPrayer response: the steps to FIC\n26 Aug\, 8pm – 9.45pm\n\n\nSession 10\nRenewing the mind\n2 Sep\, 8pm – 9.45pm\n\n\nSession 11\nRelating to others\n9 Sep\, 8pm – 9.45pm\n\n\nSession 12\nWhat’s next\n16 Sep\, 8pm – 9.45pm\n\n\n\n  \nVenue: Online (Zoom) \nRegistration closes on 28 June 2026. \nSign up on the Church Center App
URL:https://www.brmc.org.sg/event/equip-freedom-in-christ-2-12-2/
LOCATION:ZOOM
ATTACH;FMTTYPE=image/png:https://www.brmc.org.sg/wp-content/uploads/2025/11/WEB_FIC2026.png
END:VEVENT
BEGIN:VEVENT
DTSTART;TZID=Asia/Singapore:20260711T200000
DTEND;TZID=Asia/Singapore:20260711T220000
DTSTAMP:20260424T011740
CREATED:20260313T053456Z
LAST-MODIFIED:20260313T054223Z
UID:13817-1783800000-1783807200@www.brmc.org.sg
SUMMARY:EQUIP - Growing as Disciples of Christ (GDIC Module 2) (#11/11 - Sat)
DESCRIPTION:The Growing as Disciples In Christ (GDIC) programme is made up of three modules\, based on the established 2:7 series by The Navigators\, which started in January 2026. \nGDIC Module 2 (of 3) will take place over 11 weeks. During this course\, we will: \n\nCultivate the habit of daily devotional time and learn to spend extended time with God\n⁠Learn to evangelize and share our salvation story\n⁠Study the Bible on spiritual warfare\, knowing God’s will\, how to grow in faith as disciples of Christ.\n\n*Participants will need to have completed GDIC Module 1 before signing up for GDIC Module 2. After completing this course\, participants can then choose to continue on to GDIC Module 3 (Bearing Fruits in Christ). \nChoose to attend the Tuesday Group (8pm-10pm) OR Saturday Group (10am-12pm). Do note that sessions are mostly held via Zoom\, with occasional onsite meetings. \nJoin us to Grow Deeper In Christ! \nRegistration closes on 26 Apr 2026\, so do sign up before the date. \n\n\n\nSchedule\nTue (8pm-10pm)\nSat (10am-12pm)\n\n\nSession 1\n28 Apr 2026\n2 May 2026\n\n\nSession 2\n5 May 2026\n9 May 2026\n\n\nSession 3\n12 May 2026\n16 May 2026\n\n\nSession 4\n19 May 2026\n23 May 2026\n\n\nSession 5\n26 May 2026\n30 May 2026\n\n\nSession 6\n2 Jun 2026\n6 Jun 2026\n\n\nSession 7\n9 Jun 2026\n13 Jun 2026\n\n\nSession 8\n16 Jun 2026\n20 Jun 2026\n\n\nSession 9\n23 Jun 2026\n27 Jun 2026\n\n\nSession 10\n30 Jun 2026\n4 Jul 2026\n\n\nSession 11\n7 Jul 2026\n11 Jul 2026\n\n\n\n  \nSign up on the Church Center App
URL:https://www.brmc.org.sg/event/equip-growing-as-disciples-of-christ-gdic-module-2-11-11-tues/
LOCATION:ZOOM
ATTACH;FMTTYPE=image/png:https://www.brmc.org.sg/wp-content/uploads/2025/04/WEB_GDIC-2025.png
END:VEVENT
BEGIN:VEVENT
DTSTART;TZID=Asia/Singapore:20260712T133000
DTEND;TZID=Asia/Singapore:20260712T163000
DTSTAMP:20260424T011740
CREATED:20260227T084040Z
LAST-MODIFIED:20260227T084040Z
UID:13577-1783863000-1783873800@www.brmc.org.sg
SUMMARY:EQUIP - Marriage Preparation Course (#2/5)
DESCRIPTION:Ready as a couple to embark on your next step towards marriage? \nSign up for the Marriage Preparation Course which is designed for couples to prepare for and evaluate their relationship as a couple before embarking into marriage. Through biblical teaching and private mentoring sessions offering practical tips\, couples will learn how to build a Christ-centered marriage that honours God and brings lasting joy. \nConducted over 5 teaching sessions and 6 private mentoring sessions\, this course is a pre-requisite for couples to be married by Barker Road Methodist Church. \nTopics include: \n\nMarriage from a biblical perspective\nCommunication and managing finances\nManaging conflicts\nIntimacy and family planning\nChildren\, work life\, and family life\n\nDates: Sundays\, 5\, 12\, 19\, 26 Jul & 2 Aug 2026\nTime: 1.30pm – 4.30pm\nVenue: BRMC L2 Training Room \nPLEASE NOTE: \nCouples are strongly encouraged to attend the course one year before their wedding date. \nRegistration closes by 15 Jun 2026\, with capacity being limited to 15 couples per run on a first-come\, first-served basis. \nSign up on the Church Center App
URL:https://www.brmc.org.sg/event/equip-marriage-preparation-course-2-5/
LOCATION:L2 Training Room
ATTACH;FMTTYPE=image/png:https://www.brmc.org.sg/wp-content/uploads/2025/09/WEB_Marriage-Prep-2026.png
END:VEVENT
BEGIN:VEVENT
DTSTART;TZID=Asia/Singapore:20260715T200000
DTEND;TZID=Asia/Singapore:20260715T213000
DTSTAMP:20260424T011740
CREATED:20260410T020336Z
LAST-MODIFIED:20260410T020336Z
UID:14210-1784145600-1784151000@www.brmc.org.sg
SUMMARY:EQUIP - Freedom in Christ (#3/12)
DESCRIPTION:A new discipleship journey to break free and live fully in Christ. \nThe Discipleship & Nurture (D&N) Ministry is starting a 12-week online course designed to help believers experience true freedom in their walk with God. \nBased on the UK Freedom in Christ (FIC) Ministries curriculum\, this programme helps believers break spiritual bondages\, renew their minds\, and walk confidently in their identity in Christ. \nWhat You’ll Gain \n\nKnow who you are in Christ\nBreak free from negative patterns\nResolve spiritual conflicts through the cross\nLive daily in freedom and fruitfulness\n\nCome embark on this journey of healing\, surrender\, and transformation. \nParticipant Testimony \nI recognise this is the first step in addressing my unresolved traumas and various unholy strongholds. It’s a process of healing and striving to be more God pleasing. FIC reminds me that I’m a child of God – He loves me deeply\, and He is always there for me. I am reminded to surrender to Him. His will\, not my will. His time\, not my time… In Christ\, I found freedom. \n\n\n\nSession\nTopic\nDate & Time (Wednesdays)\n\n\nSession 1\nIntroduction\n1 Jul\, 8pm – 9.45pm\n\n\nSession 2\nWho am I?\n8 Jul\, 8pm – 9.45pm\n\n\nSession 3\nChoosing to believe the truth\n15 Jul\, 8pm – 9.45pm\n\n\nSession 4\nThe world view of truth\n22 Jul\, 8pm – 9.45pm\n\n\nSession 5\nOur daily choice\n29 Jul\, 8pm – 9.45pm\n\n\nSession 6\nThe battle for our minds\n5 Aug\, 8pm – 9.45pm\n\n\nSession 7\nHandling emotions well\n12 Aug\, 8pm – 9.45pm\n\n\nSession 8\nForgiving from the heart\n19 Aug\, 8pm – 9.45pm\n\n\nSession 9\nPrayer response: the steps to FIC\n26 Aug\, 8pm – 9.45pm\n\n\nSession 10\nRenewing the mind\n2 Sep\, 8pm – 9.45pm\n\n\nSession 11\nRelating to others\n9 Sep\, 8pm – 9.45pm\n\n\nSession 12\nWhat’s next\n16 Sep\, 8pm – 9.45pm\n\n\n\n  \nVenue: Online (Zoom) \nRegistration closes on 28 June 2026. \nSign up on the Church Center App
URL:https://www.brmc.org.sg/event/equip-freedom-in-christ-3-12-2/
LOCATION:ZOOM
ATTACH;FMTTYPE=image/png:https://www.brmc.org.sg/wp-content/uploads/2025/11/WEB_FIC2026.png
END:VEVENT
BEGIN:VEVENT
DTSTART;TZID=Asia/Singapore:20260719T133000
DTEND;TZID=Asia/Singapore:20260719T163000
DTSTAMP:20260424T011740
CREATED:20260227T084127Z
LAST-MODIFIED:20260227T084127Z
UID:13579-1784467800-1784478600@www.brmc.org.sg
SUMMARY:EQUIP - Marriage Preparation Course (#3/5)
DESCRIPTION:Ready as a couple to embark on your next step towards marriage? \nSign up for the Marriage Preparation Course which is designed for couples to prepare for and evaluate their relationship as a couple before embarking into marriage. Through biblical teaching and private mentoring sessions offering practical tips\, couples will learn how to build a Christ-centered marriage that honours God and brings lasting joy. \nConducted over 5 teaching sessions and 6 private mentoring sessions\, this course is a pre-requisite for couples to be married by Barker Road Methodist Church. \nTopics include: \n\nMarriage from a biblical perspective\nCommunication and managing finances\nManaging conflicts\nIntimacy and family planning\nChildren\, work life\, and family life\n\nDates: Sundays\, 5\, 12\, 19\, 26 Jul & 2 Aug 2026\nTime: 1.30pm – 4.30pm\nVenue: BRMC L2 Training Room \nPLEASE NOTE: \nCouples are strongly encouraged to attend the course one year before their wedding date. \nRegistration closes by 15 Jun 2026\, with capacity being limited to 15 couples per run on a first-come\, first-served basis. \nSign up on the Church Center App
URL:https://www.brmc.org.sg/event/equip-marriage-preparation-course-3-5/
LOCATION:L2 Training Room
ATTACH;FMTTYPE=image/png:https://www.brmc.org.sg/wp-content/uploads/2025/09/WEB_Marriage-Prep-2026.png
END:VEVENT
BEGIN:VEVENT
DTSTART;TZID=Asia/Singapore:20260722T200000
DTEND;TZID=Asia/Singapore:20260722T213000
DTSTAMP:20260424T011740
CREATED:20260410T020436Z
LAST-MODIFIED:20260410T020436Z
UID:14212-1784750400-1784755800@www.brmc.org.sg
SUMMARY:EQUIP - Freedom in Christ (#4/12)
DESCRIPTION:A new discipleship journey to break free and live fully in Christ. \nThe Discipleship & Nurture (D&N) Ministry is starting a 12-week online course designed to help believers experience true freedom in their walk with God. \nBased on the UK Freedom in Christ (FIC) Ministries curriculum\, this programme helps believers break spiritual bondages\, renew their minds\, and walk confidently in their identity in Christ. \nWhat You’ll Gain \n\nKnow who you are in Christ\nBreak free from negative patterns\nResolve spiritual conflicts through the cross\nLive daily in freedom and fruitfulness\n\nCome embark on this journey of healing\, surrender\, and transformation. \nParticipant Testimony \nI recognise this is the first step in addressing my unresolved traumas and various unholy strongholds. It’s a process of healing and striving to be more God pleasing. FIC reminds me that I’m a child of God – He loves me deeply\, and He is always there for me. I am reminded to surrender to Him. His will\, not my will. His time\, not my time… In Christ\, I found freedom. \n\n\n\nSession\nTopic\nDate & Time (Wednesdays)\n\n\nSession 1\nIntroduction\n1 Jul\, 8pm – 9.45pm\n\n\nSession 2\nWho am I?\n8 Jul\, 8pm – 9.45pm\n\n\nSession 3\nChoosing to believe the truth\n15 Jul\, 8pm – 9.45pm\n\n\nSession 4\nThe world view of truth\n22 Jul\, 8pm – 9.45pm\n\n\nSession 5\nOur daily choice\n29 Jul\, 8pm – 9.45pm\n\n\nSession 6\nThe battle for our minds\n5 Aug\, 8pm – 9.45pm\n\n\nSession 7\nHandling emotions well\n12 Aug\, 8pm – 9.45pm\n\n\nSession 8\nForgiving from the heart\n19 Aug\, 8pm – 9.45pm\n\n\nSession 9\nPrayer response: the steps to FIC\n26 Aug\, 8pm – 9.45pm\n\n\nSession 10\nRenewing the mind\n2 Sep\, 8pm – 9.45pm\n\n\nSession 11\nRelating to others\n9 Sep\, 8pm – 9.45pm\n\n\nSession 12\nWhat’s next\n16 Sep\, 8pm – 9.45pm\n\n\n\n  \nVenue: Online (Zoom) \nRegistration closes on 28 June 2026. \nSign up on the Church Center App
URL:https://www.brmc.org.sg/event/equip-freedom-in-christ-4-12-2/
LOCATION:ZOOM
ATTACH;FMTTYPE=image/png:https://www.brmc.org.sg/wp-content/uploads/2025/11/WEB_FIC2026.png
END:VEVENT
BEGIN:VEVENT
DTSTART;TZID=Asia/Singapore:20260726T133000
DTEND;TZID=Asia/Singapore:20260726T163000
DTSTAMP:20260424T011740
CREATED:20260227T084202Z
LAST-MODIFIED:20260227T084202Z
UID:13581-1785072600-1785083400@www.brmc.org.sg
SUMMARY:EQUIP - Marriage Preparation Course (#4/5)
DESCRIPTION:Ready as a couple to embark on your next step towards marriage? \nSign up for the Marriage Preparation Course which is designed for couples to prepare for and evaluate their relationship as a couple before embarking into marriage. Through biblical teaching and private mentoring sessions offering practical tips\, couples will learn how to build a Christ-centered marriage that honours God and brings lasting joy. \nConducted over 5 teaching sessions and 6 private mentoring sessions\, this course is a pre-requisite for couples to be married by Barker Road Methodist Church. \nTopics include: \n\nMarriage from a biblical perspective\nCommunication and managing finances\nManaging conflicts\nIntimacy and family planning\nChildren\, work life\, and family life\n\nDates: Sundays\, 5\, 12\, 19\, 26 Jul & 2 Aug 2026\nTime: 1.30pm – 4.30pm\nVenue: BRMC L2 Training Room \nPLEASE NOTE: \nCouples are strongly encouraged to attend the course one year before their wedding date. \nRegistration closes by 15 Jun 2026\, with capacity being limited to 15 couples per run on a first-come\, first-served basis. \nSign up on the Church Center App
URL:https://www.brmc.org.sg/event/equip-marriage-preparation-course-4-5/
LOCATION:L2 Training Room
ATTACH;FMTTYPE=image/png:https://www.brmc.org.sg/wp-content/uploads/2025/09/WEB_Marriage-Prep-2026.png
END:VEVENT
BEGIN:VEVENT
DTSTART;TZID=Asia/Singapore:20260729T200000
DTEND;TZID=Asia/Singapore:20260729T213000
DTSTAMP:20260424T011740
CREATED:20260410T020512Z
LAST-MODIFIED:20260410T020512Z
UID:14214-1785355200-1785360600@www.brmc.org.sg
SUMMARY:EQUIP - Freedom in Christ (#5/12)
DESCRIPTION:A new discipleship journey to break free and live fully in Christ. \nThe Discipleship & Nurture (D&N) Ministry is starting a 12-week online course designed to help believers experience true freedom in their walk with God. \nBased on the UK Freedom in Christ (FIC) Ministries curriculum\, this programme helps believers break spiritual bondages\, renew their minds\, and walk confidently in their identity in Christ. \nWhat You’ll Gain \n\nKnow who you are in Christ\nBreak free from negative patterns\nResolve spiritual conflicts through the cross\nLive daily in freedom and fruitfulness\n\nCome embark on this journey of healing\, surrender\, and transformation. \nParticipant Testimony \nI recognise this is the first step in addressing my unresolved traumas and various unholy strongholds. It’s a process of healing and striving to be more God pleasing. FIC reminds me that I’m a child of God – He loves me deeply\, and He is always there for me. I am reminded to surrender to Him. His will\, not my will. His time\, not my time… In Christ\, I found freedom. \n\n\n\nSession\nTopic\nDate & Time (Wednesdays)\n\n\nSession 1\nIntroduction\n1 Jul\, 8pm – 9.45pm\n\n\nSession 2\nWho am I?\n8 Jul\, 8pm – 9.45pm\n\n\nSession 3\nChoosing to believe the truth\n15 Jul\, 8pm – 9.45pm\n\n\nSession 4\nThe world view of truth\n22 Jul\, 8pm – 9.45pm\n\n\nSession 5\nOur daily choice\n29 Jul\, 8pm – 9.45pm\n\n\nSession 6\nThe battle for our minds\n5 Aug\, 8pm – 9.45pm\n\n\nSession 7\nHandling emotions well\n12 Aug\, 8pm – 9.45pm\n\n\nSession 8\nForgiving from the heart\n19 Aug\, 8pm – 9.45pm\n\n\nSession 9\nPrayer response: the steps to FIC\n26 Aug\, 8pm – 9.45pm\n\n\nSession 10\nRenewing the mind\n2 Sep\, 8pm – 9.45pm\n\n\nSession 11\nRelating to others\n9 Sep\, 8pm – 9.45pm\n\n\nSession 12\nWhat’s next\n16 Sep\, 8pm – 9.45pm\n\n\n\n  \nVenue: Online (Zoom) \nRegistration closes on 28 June 2026. \nSign up on the Church Center App
URL:https://www.brmc.org.sg/event/equip-freedom-in-christ-5-12-2/
LOCATION:ZOOM
ATTACH;FMTTYPE=image/png:https://www.brmc.org.sg/wp-content/uploads/2025/11/WEB_FIC2026.png
END:VEVENT
END:VCALENDAR