BEGIN:VCALENDAR
VERSION:2.0
PRODID:-//Barker Road Methodist Church - ECPv6.15.18//NONSGML v1.0//EN
CALSCALE:GREGORIAN
METHOD:PUBLISH
X-ORIGINAL-URL:https://www.brmc.org.sg
X-WR-CALDESC:Events for Barker Road Methodist Church
REFRESH-INTERVAL;VALUE=DURATION:PT1H
X-Robots-Tag:noindex
X-PUBLISHED-TTL:PT1H
BEGIN:VTIMEZONE
TZID:Asia/Singapore
BEGIN:STANDARD
TZOFFSETFROM:+0800
TZOFFSETTO:+0800
TZNAME:+08
DTSTART:20250101T000000
END:STANDARD
END:VTIMEZONE
BEGIN:VEVENT
DTSTART;VALUE=DATE:20260704
DTEND;VALUE=DATE:20260810
DTSTAMP:20260424T024926
CREATED:20260330T051920Z
LAST-MODIFIED:20260330T052509Z
UID:14006-1783123200-1786319999@www.brmc.org.sg
SUMMARY:Registration for Baptism and Membership Course (2H2026)
DESCRIPTION:Registration for BMC 2H2026 opens on Sat\, 4 Jul 2026 and closes on Sun\, 9 Aug 2026. \nRegistration for Adult Baptism/Confirmation/Transfer of Membership \nRegistration for Infant/Child Baptism \nPlease visit our FAQs for the criteria and other details. \nSchedule (Candidates must be present on all dates from the start of BMC) \n\n\n\nItem\nDates\n\n\nRegistration opens\n4 July 2026 (Sat)\n\n\nRegistration closes\n9 Aug 2026 (Sun)\n\n\nBMC Session 1\n22 Aug 2026 (Sat)\, 1.30pm-3.30pm\n\n\nBMC Session 2\n29 Aug 2026 (Sat)\, 1.30pm-3.30pm\n\n\nBMC Session 3\n5 Sep 2026 (Sat)\, 1.30pm-3.30pm\n\n\nBMC Session 4 & Admin Briefing*\n12 Sep 2026 (Sat)\, 10am-3pm\n\n\nBMC Session 5 & Admin Briefing*\n26 Sep 2026 (Sat)\, 9.30am-3pm\n\n\nPastoral Conversations\n31 Aug to 21 Sep 2026 (4 weeks)\n\n\nBaptism Service\n10 Oct 2026 (Sat)\, 10am-12pm\n\n\nCARIM Service\n10 Oct 2026 (Sat) and 11 Oct 2026 (Sun)\n\n\n\n  \n*For adult candidates (session 4) and parents (session 5)\, please note that sessions 4 & 5 follow different time schedules\, and lunch will be provided at both sessions.
URL:https://www.brmc.org.sg/event/registration-for-baptism-and-membership-course-2h2026/
ATTACH;FMTTYPE=image/png:https://www.brmc.org.sg/wp-content/uploads/2025/10/WEB_BMC-2026.png
END:VEVENT
BEGIN:VEVENT
DTSTART;TZID=Asia/Singapore:20260802T133000
DTEND;TZID=Asia/Singapore:20260802T163000
DTSTAMP:20260424T024926
CREATED:20260227T084238Z
LAST-MODIFIED:20260227T084238Z
UID:13583-1785677400-1785688200@www.brmc.org.sg
SUMMARY:EQUIP - Marriage Preparation Course (#5/5)
DESCRIPTION:Ready as a couple to embark on your next step towards marriage? \nSign up for the Marriage Preparation Course which is designed for couples to prepare for and evaluate their relationship as a couple before embarking into marriage. Through biblical teaching and private mentoring sessions offering practical tips\, couples will learn how to build a Christ-centered marriage that honours God and brings lasting joy. \nConducted over 5 teaching sessions and 6 private mentoring sessions\, this course is a pre-requisite for couples to be married by Barker Road Methodist Church. \nTopics include: \n\nMarriage from a biblical perspective\nCommunication and managing finances\nManaging conflicts\nIntimacy and family planning\nChildren\, work life\, and family life\n\nDates: Sundays\, 5\, 12\, 19\, 26 Jul & 2 Aug 2026\nTime: 1.30pm – 4.30pm\nVenue: BRMC L2 Training Room \nPLEASE NOTE: \nCouples are strongly encouraged to attend the course one year before their wedding date. \nRegistration closes by 15 Jun 2026\, with capacity being limited to 15 couples per run on a first-come\, first-served basis. \nSign up on the Church Center App
URL:https://www.brmc.org.sg/event/equip-marriage-preparation-course-5-5/
LOCATION:L2 Training Room
ATTACH;FMTTYPE=image/png:https://www.brmc.org.sg/wp-content/uploads/2025/09/WEB_Marriage-Prep-2026.png
END:VEVENT
BEGIN:VEVENT
DTSTART;TZID=Asia/Singapore:20260802T143000
DTEND;TZID=Asia/Singapore:20260802T160000
DTSTAMP:20260424T024926
CREATED:20251017T070526Z
LAST-MODIFIED:20251215T095206Z
UID:12144-1785681000-1785686400@www.brmc.org.sg
SUMMARY:EQUIP - Singles Coffee\, Conversations & Activi-Tea
DESCRIPTION:Coffee\, Conversations & Activi-Tea is a monthly event for singles to gather in a safe and welcoming environment to build meaningful relationships and develop greater self and interpersonal awareness. \nEach session includes interactive activities and guided discussions grounded in biblical themes. Participants can look forward to reflective sharing\, light refreshments\, and opportunities for wholesome fellowship that encourage personal and spiritual growth. \n2026 dates: 4 Jan\, 1 Feb\, 1 Mar\, 3 May\, 7 Jun\, 5 Jul\, 2 Aug\, 6 Sep\, 4 Oct\, 1 Nov \nSign up on the Church Center App
URL:https://www.brmc.org.sg/event/equip-singles-coffee-conversations-activi-tea-20/
ATTACH;FMTTYPE=image/png:https://www.brmc.org.sg/wp-content/uploads/2024/12/WEB_Singles-Coffee-Conversation.png
END:VEVENT
BEGIN:VEVENT
DTSTART;TZID=Asia/Singapore:20260805T200000
DTEND;TZID=Asia/Singapore:20260805T213000
DTSTAMP:20260424T024926
CREATED:20260410T020550Z
LAST-MODIFIED:20260410T020550Z
UID:14216-1785960000-1785965400@www.brmc.org.sg
SUMMARY:EQUIP - Freedom in Christ (#6/12)
DESCRIPTION:A new discipleship journey to break free and live fully in Christ. \nThe Discipleship & Nurture (D&N) Ministry is starting a 12-week online course designed to help believers experience true freedom in their walk with God. \nBased on the UK Freedom in Christ (FIC) Ministries curriculum\, this programme helps believers break spiritual bondages\, renew their minds\, and walk confidently in their identity in Christ. \nWhat You’ll Gain \n\nKnow who you are in Christ\nBreak free from negative patterns\nResolve spiritual conflicts through the cross\nLive daily in freedom and fruitfulness\n\nCome embark on this journey of healing\, surrender\, and transformation. \nParticipant Testimony \nI recognise this is the first step in addressing my unresolved traumas and various unholy strongholds. It’s a process of healing and striving to be more God pleasing. FIC reminds me that I’m a child of God – He loves me deeply\, and He is always there for me. I am reminded to surrender to Him. His will\, not my will. His time\, not my time… In Christ\, I found freedom. \n\n\n\nSession\nTopic\nDate & Time (Wednesdays)\n\n\nSession 1\nIntroduction\n1 Jul\, 8pm – 9.45pm\n\n\nSession 2\nWho am I?\n8 Jul\, 8pm – 9.45pm\n\n\nSession 3\nChoosing to believe the truth\n15 Jul\, 8pm – 9.45pm\n\n\nSession 4\nThe world view of truth\n22 Jul\, 8pm – 9.45pm\n\n\nSession 5\nOur daily choice\n29 Jul\, 8pm – 9.45pm\n\n\nSession 6\nThe battle for our minds\n5 Aug\, 8pm – 9.45pm\n\n\nSession 7\nHandling emotions well\n12 Aug\, 8pm – 9.45pm\n\n\nSession 8\nForgiving from the heart\n19 Aug\, 8pm – 9.45pm\n\n\nSession 9\nPrayer response: the steps to FIC\n26 Aug\, 8pm – 9.45pm\n\n\nSession 10\nRenewing the mind\n2 Sep\, 8pm – 9.45pm\n\n\nSession 11\nRelating to others\n9 Sep\, 8pm – 9.45pm\n\n\nSession 12\nWhat’s next\n16 Sep\, 8pm – 9.45pm\n\n\n\n  \nVenue: Online (Zoom) \nRegistration closes on 28 June 2026. \nSign up on the Church Center App
URL:https://www.brmc.org.sg/event/equip-freedom-in-christ-6-12-2/
LOCATION:ZOOM
ATTACH;FMTTYPE=image/png:https://www.brmc.org.sg/wp-content/uploads/2025/11/WEB_FIC2026.png
END:VEVENT
BEGIN:VEVENT
DTSTART;TZID=Asia/Singapore:20260812T200000
DTEND;TZID=Asia/Singapore:20260812T213000
DTSTAMP:20260424T024926
CREATED:20260410T020627Z
LAST-MODIFIED:20260410T020627Z
UID:14218-1786564800-1786570200@www.brmc.org.sg
SUMMARY:EQUIP - Freedom in Christ (#7/12)
DESCRIPTION:A new discipleship journey to break free and live fully in Christ. \nThe Discipleship & Nurture (D&N) Ministry is starting a 12-week online course designed to help believers experience true freedom in their walk with God. \nBased on the UK Freedom in Christ (FIC) Ministries curriculum\, this programme helps believers break spiritual bondages\, renew their minds\, and walk confidently in their identity in Christ. \nWhat You’ll Gain \n\nKnow who you are in Christ\nBreak free from negative patterns\nResolve spiritual conflicts through the cross\nLive daily in freedom and fruitfulness\n\nCome embark on this journey of healing\, surrender\, and transformation. \nParticipant Testimony \nI recognise this is the first step in addressing my unresolved traumas and various unholy strongholds. It’s a process of healing and striving to be more God pleasing. FIC reminds me that I’m a child of God – He loves me deeply\, and He is always there for me. I am reminded to surrender to Him. His will\, not my will. His time\, not my time… In Christ\, I found freedom. \n\n\n\nSession\nTopic\nDate & Time (Wednesdays)\n\n\nSession 1\nIntroduction\n1 Jul\, 8pm – 9.45pm\n\n\nSession 2\nWho am I?\n8 Jul\, 8pm – 9.45pm\n\n\nSession 3\nChoosing to believe the truth\n15 Jul\, 8pm – 9.45pm\n\n\nSession 4\nThe world view of truth\n22 Jul\, 8pm – 9.45pm\n\n\nSession 5\nOur daily choice\n29 Jul\, 8pm – 9.45pm\n\n\nSession 6\nThe battle for our minds\n5 Aug\, 8pm – 9.45pm\n\n\nSession 7\nHandling emotions well\n12 Aug\, 8pm – 9.45pm\n\n\nSession 8\nForgiving from the heart\n19 Aug\, 8pm – 9.45pm\n\n\nSession 9\nPrayer response: the steps to FIC\n26 Aug\, 8pm – 9.45pm\n\n\nSession 10\nRenewing the mind\n2 Sep\, 8pm – 9.45pm\n\n\nSession 11\nRelating to others\n9 Sep\, 8pm – 9.45pm\n\n\nSession 12\nWhat’s next\n16 Sep\, 8pm – 9.45pm\n\n\n\n  \nVenue: Online (Zoom) \nRegistration closes on 28 June 2026. \nSign up on the Church Center App
URL:https://www.brmc.org.sg/event/equip-freedom-in-christ-7-12-2/
LOCATION:ZOOM
ATTACH;FMTTYPE=image/png:https://www.brmc.org.sg/wp-content/uploads/2025/11/WEB_FIC2026.png
END:VEVENT
BEGIN:VEVENT
DTSTART;TZID=Asia/Singapore:20260815T090000
DTEND;TZID=Asia/Singapore:20260815T120000
DTSTAMP:20260424T024926
CREATED:20251219T024919Z
LAST-MODIFIED:20260324T023709Z
UID:12908-1786784400-1786795200@www.brmc.org.sg
SUMMARY:EQUIP - Singles Fellowship Walk & Brunch (Aug)
DESCRIPTION:Connect. Walk. Share life. \nJoin us for a relaxed morning of fellowship designed for singles to connect\, grow\, and be encouraged in faith. Through a casual walk and shared meal\, build meaningful friendships\, exchange life stories\, and journey together as a community. \nWhat to Expect: \n\nExpand your network of friendships\nBe encouraged in a faith-filled community\nDevelop inter- and intrapersonal skills\nEngage in God-centred conversations\nFellowship over a walk and brunch\n\nDate: Sat\, 15 Aug 2026\nTime: 9am-12pm\nMeeting Point: Botanic Gardens MRT station\, Exit A\nVenue: Botanic Gardens & Adam Road Food Center\nAttire: Comfortable walking attire \nSign up on the Church Center App
URL:https://www.brmc.org.sg/event/equip-singles-fellowship-walk-brunch-aug/
ATTACH;FMTTYPE=image/png:https://www.brmc.org.sg/wp-content/uploads/2024/12/WEB_WalkBrunch_22Feb.png
END:VEVENT
BEGIN:VEVENT
DTSTART;TZID=Asia/Singapore:20260819T200000
DTEND;TZID=Asia/Singapore:20260819T213000
DTSTAMP:20260424T024926
CREATED:20260410T032444Z
LAST-MODIFIED:20260410T032444Z
UID:14220-1787169600-1787175000@www.brmc.org.sg
SUMMARY:EQUIP - Freedom in Christ (#8/12)
DESCRIPTION:A new discipleship journey to break free and live fully in Christ. \nThe Discipleship & Nurture (D&N) Ministry is starting a 12-week online course designed to help believers experience true freedom in their walk with God. \nBased on the UK Freedom in Christ (FIC) Ministries curriculum\, this programme helps believers break spiritual bondages\, renew their minds\, and walk confidently in their identity in Christ. \nWhat You’ll Gain \n\nKnow who you are in Christ\nBreak free from negative patterns\nResolve spiritual conflicts through the cross\nLive daily in freedom and fruitfulness\n\nCome embark on this journey of healing\, surrender\, and transformation. \nParticipant Testimony \nI recognise this is the first step in addressing my unresolved traumas and various unholy strongholds. It’s a process of healing and striving to be more God pleasing. FIC reminds me that I’m a child of God – He loves me deeply\, and He is always there for me. I am reminded to surrender to Him. His will\, not my will. His time\, not my time… In Christ\, I found freedom. \n\n\n\nSession\nTopic\nDate & Time (Wednesdays)\n\n\nSession 1\nIntroduction\n1 Jul\, 8pm – 9.45pm\n\n\nSession 2\nWho am I?\n8 Jul\, 8pm – 9.45pm\n\n\nSession 3\nChoosing to believe the truth\n15 Jul\, 8pm – 9.45pm\n\n\nSession 4\nThe world view of truth\n22 Jul\, 8pm – 9.45pm\n\n\nSession 5\nOur daily choice\n29 Jul\, 8pm – 9.45pm\n\n\nSession 6\nThe battle for our minds\n5 Aug\, 8pm – 9.45pm\n\n\nSession 7\nHandling emotions well\n12 Aug\, 8pm – 9.45pm\n\n\nSession 8\nForgiving from the heart\n19 Aug\, 8pm – 9.45pm\n\n\nSession 9\nPrayer response: the steps to FIC\n26 Aug\, 8pm – 9.45pm\n\n\nSession 10\nRenewing the mind\n2 Sep\, 8pm – 9.45pm\n\n\nSession 11\nRelating to others\n9 Sep\, 8pm – 9.45pm\n\n\nSession 12\nWhat’s next\n16 Sep\, 8pm – 9.45pm\n\n\n\n  \nVenue: Online (Zoom) \nRegistration closes on 28 June 2026. \nSign up on the Church Center App
URL:https://www.brmc.org.sg/event/equip-freedom-in-christ-8-12-2/
LOCATION:ZOOM
ATTACH;FMTTYPE=image/png:https://www.brmc.org.sg/wp-content/uploads/2025/11/WEB_FIC2026.png
END:VEVENT
BEGIN:VEVENT
DTSTART;TZID=Asia/Singapore:20260823T140000
DTEND;TZID=Asia/Singapore:20260823T160000
DTSTAMP:20260424T024926
CREATED:20260420T021832Z
LAST-MODIFIED:20260420T080804Z
UID:14445-1787493600-1787500800@www.brmc.org.sg
SUMMARY:EQUIP Seminar - Church Unity and Denominations
DESCRIPTION:What does unity in the church look like today? \nJoin Rev Gilbert Lok for this EQUIP seminar\, a follow-up to The Spirit-filled Church sermon series\, as we explore the theme of church unity and denominations. \nDate: Sun\, 23 Aug 2026\nTime: 2pm – 4pm\nVenue: Wesley Hall\nSpeaker: Rev Gilbert Lok \nRegistration details will be provided soon. \n\nRead more about church unity in an article written by Rev Gilbert Lok\, titled Unity in Encircled Diversity\, published on Ethos Institute for Public Christianity on 18 Aug 2025. \n 
URL:https://www.brmc.org.sg/event/equip-seminar-church-unity-and-denominations/
LOCATION:Wesley Hall
ATTACH;FMTTYPE=image/png:https://www.brmc.org.sg/wp-content/uploads/2026/04/SEMINAR.png
END:VEVENT
BEGIN:VEVENT
DTSTART;TZID=Asia/Singapore:20260826T200000
DTEND;TZID=Asia/Singapore:20260826T213000
DTSTAMP:20260424T024926
CREATED:20260410T032537Z
LAST-MODIFIED:20260410T032537Z
UID:14223-1787774400-1787779800@www.brmc.org.sg
SUMMARY:EQUIP - Freedom in Christ (#9/12)
DESCRIPTION:A new discipleship journey to break free and live fully in Christ. \nThe Discipleship & Nurture (D&N) Ministry is starting a 12-week online course designed to help believers experience true freedom in their walk with God. \nBased on the UK Freedom in Christ (FIC) Ministries curriculum\, this programme helps believers break spiritual bondages\, renew their minds\, and walk confidently in their identity in Christ. \nWhat You’ll Gain \n\nKnow who you are in Christ\nBreak free from negative patterns\nResolve spiritual conflicts through the cross\nLive daily in freedom and fruitfulness\n\nCome embark on this journey of healing\, surrender\, and transformation. \nParticipant Testimony \nI recognise this is the first step in addressing my unresolved traumas and various unholy strongholds. It’s a process of healing and striving to be more God pleasing. FIC reminds me that I’m a child of God – He loves me deeply\, and He is always there for me. I am reminded to surrender to Him. His will\, not my will. His time\, not my time… In Christ\, I found freedom. \n\n\n\nSession\nTopic\nDate & Time (Wednesdays)\n\n\nSession 1\nIntroduction\n1 Jul\, 8pm – 9.45pm\n\n\nSession 2\nWho am I?\n8 Jul\, 8pm – 9.45pm\n\n\nSession 3\nChoosing to believe the truth\n15 Jul\, 8pm – 9.45pm\n\n\nSession 4\nThe world view of truth\n22 Jul\, 8pm – 9.45pm\n\n\nSession 5\nOur daily choice\n29 Jul\, 8pm – 9.45pm\n\n\nSession 6\nThe battle for our minds\n5 Aug\, 8pm – 9.45pm\n\n\nSession 7\nHandling emotions well\n12 Aug\, 8pm – 9.45pm\n\n\nSession 8\nForgiving from the heart\n19 Aug\, 8pm – 9.45pm\n\n\nSession 9\nPrayer response: the steps to FIC\n26 Aug\, 8pm – 9.45pm\n\n\nSession 10\nRenewing the mind\n2 Sep\, 8pm – 9.45pm\n\n\nSession 11\nRelating to others\n9 Sep\, 8pm – 9.45pm\n\n\nSession 12\nWhat’s next\n16 Sep\, 8pm – 9.45pm\n\n\n\n  \nVenue: Online (Zoom) \nRegistration closes on 28 June 2026. \nSign up on the Church Center App
URL:https://www.brmc.org.sg/event/equip-freedom-in-christ-9-12-2/
LOCATION:ZOOM
ATTACH;FMTTYPE=image/png:https://www.brmc.org.sg/wp-content/uploads/2025/11/WEB_FIC2026.png
END:VEVENT
END:VCALENDAR