BEGIN:VCALENDAR
VERSION:2.0
PRODID:-//Barker Road Methodist Church - ECPv6.15.18//NONSGML v1.0//EN
CALSCALE:GREGORIAN
METHOD:PUBLISH
X-ORIGINAL-URL:https://www.brmc.org.sg
X-WR-CALDESC:Events for Barker Road Methodist Church
REFRESH-INTERVAL;VALUE=DURATION:PT1H
X-Robots-Tag:noindex
X-PUBLISHED-TTL:PT1H
BEGIN:VTIMEZONE
TZID:Asia/Singapore
BEGIN:STANDARD
TZOFFSETFROM:+0800
TZOFFSETTO:+0800
TZNAME:+08
DTSTART:20250101T000000
END:STANDARD
END:VTIMEZONE
BEGIN:VEVENT
DTSTART;TZID=Asia/Singapore:20260902T200000
DTEND;TZID=Asia/Singapore:20260902T213000
DTSTAMP:20260424T042258
CREATED:20260410T032614Z
LAST-MODIFIED:20260410T032614Z
UID:14225-1788379200-1788384600@www.brmc.org.sg
SUMMARY:EQUIP - Freedom in Christ (#10/12)
DESCRIPTION:A new discipleship journey to break free and live fully in Christ. \nThe Discipleship & Nurture (D&N) Ministry is starting a 12-week online course designed to help believers experience true freedom in their walk with God. \nBased on the UK Freedom in Christ (FIC) Ministries curriculum\, this programme helps believers break spiritual bondages\, renew their minds\, and walk confidently in their identity in Christ. \nWhat You’ll Gain \n\nKnow who you are in Christ\nBreak free from negative patterns\nResolve spiritual conflicts through the cross\nLive daily in freedom and fruitfulness\n\nCome embark on this journey of healing\, surrender\, and transformation. \nParticipant Testimony \nI recognise this is the first step in addressing my unresolved traumas and various unholy strongholds. It’s a process of healing and striving to be more God pleasing. FIC reminds me that I’m a child of God – He loves me deeply\, and He is always there for me. I am reminded to surrender to Him. His will\, not my will. His time\, not my time… In Christ\, I found freedom. \n\n\n\nSession\nTopic\nDate & Time (Wednesdays)\n\n\nSession 1\nIntroduction\n1 Jul\, 8pm – 9.45pm\n\n\nSession 2\nWho am I?\n8 Jul\, 8pm – 9.45pm\n\n\nSession 3\nChoosing to believe the truth\n15 Jul\, 8pm – 9.45pm\n\n\nSession 4\nThe world view of truth\n22 Jul\, 8pm – 9.45pm\n\n\nSession 5\nOur daily choice\n29 Jul\, 8pm – 9.45pm\n\n\nSession 6\nThe battle for our minds\n5 Aug\, 8pm – 9.45pm\n\n\nSession 7\nHandling emotions well\n12 Aug\, 8pm – 9.45pm\n\n\nSession 8\nForgiving from the heart\n19 Aug\, 8pm – 9.45pm\n\n\nSession 9\nPrayer response: the steps to FIC\n26 Aug\, 8pm – 9.45pm\n\n\nSession 10\nRenewing the mind\n2 Sep\, 8pm – 9.45pm\n\n\nSession 11\nRelating to others\n9 Sep\, 8pm – 9.45pm\n\n\nSession 12\nWhat’s next\n16 Sep\, 8pm – 9.45pm\n\n\n\n  \nVenue: Online (Zoom) \nRegistration closes on 28 June 2026. \nSign up on the Church Center App
URL:https://www.brmc.org.sg/event/equip-freedom-in-christ-10-12-2/
LOCATION:ZOOM
ATTACH;FMTTYPE=image/png:https://www.brmc.org.sg/wp-content/uploads/2025/11/WEB_FIC2026.png
END:VEVENT
BEGIN:VEVENT
DTSTART;TZID=Asia/Singapore:20260906T143000
DTEND;TZID=Asia/Singapore:20260906T160000
DTSTAMP:20260424T042258
CREATED:20251017T070603Z
LAST-MODIFIED:20251215T095256Z
UID:12146-1788705000-1788710400@www.brmc.org.sg
SUMMARY:EQUIP - Singles Coffee\, Conversations & Activi-Tea
DESCRIPTION:Coffee\, Conversations & Activi-Tea is a monthly event for singles to gather in a safe and welcoming environment to build meaningful relationships and develop greater self and interpersonal awareness. \nEach session includes interactive activities and guided discussions grounded in biblical themes. Participants can look forward to reflective sharing\, light refreshments\, and opportunities for wholesome fellowship that encourage personal and spiritual growth. \n2026 dates: 4 Jan\, 1 Feb\, 1 Mar\, 3 May\, 7 Jun\, 5 Jul\, 2 Aug\, 6 Sep\, 4 Oct\, 1 Nov \nSign up on the Church Center App
URL:https://www.brmc.org.sg/event/equip-singles-coffee-conversations-activi-tea-21/
ATTACH;FMTTYPE=image/png:https://www.brmc.org.sg/wp-content/uploads/2024/12/WEB_Singles-Coffee-Conversation.png
END:VEVENT
BEGIN:VEVENT
DTSTART;TZID=Asia/Singapore:20260909T200000
DTEND;TZID=Asia/Singapore:20260909T213000
DTSTAMP:20260424T042258
CREATED:20260410T032702Z
LAST-MODIFIED:20260410T032702Z
UID:14227-1788984000-1788989400@www.brmc.org.sg
SUMMARY:EQUIP - Freedom in Christ (#11/12)
DESCRIPTION:A new discipleship journey to break free and live fully in Christ. \nThe Discipleship & Nurture (D&N) Ministry is starting a 12-week online course designed to help believers experience true freedom in their walk with God. \nBased on the UK Freedom in Christ (FIC) Ministries curriculum\, this programme helps believers break spiritual bondages\, renew their minds\, and walk confidently in their identity in Christ. \nWhat You’ll Gain \n\nKnow who you are in Christ\nBreak free from negative patterns\nResolve spiritual conflicts through the cross\nLive daily in freedom and fruitfulness\n\nCome embark on this journey of healing\, surrender\, and transformation. \nParticipant Testimony \nI recognise this is the first step in addressing my unresolved traumas and various unholy strongholds. It’s a process of healing and striving to be more God pleasing. FIC reminds me that I’m a child of God – He loves me deeply\, and He is always there for me. I am reminded to surrender to Him. His will\, not my will. His time\, not my time… In Christ\, I found freedom. \n\n\n\nSession\nTopic\nDate & Time (Wednesdays)\n\n\nSession 1\nIntroduction\n1 Jul\, 8pm – 9.45pm\n\n\nSession 2\nWho am I?\n8 Jul\, 8pm – 9.45pm\n\n\nSession 3\nChoosing to believe the truth\n15 Jul\, 8pm – 9.45pm\n\n\nSession 4\nThe world view of truth\n22 Jul\, 8pm – 9.45pm\n\n\nSession 5\nOur daily choice\n29 Jul\, 8pm – 9.45pm\n\n\nSession 6\nThe battle for our minds\n5 Aug\, 8pm – 9.45pm\n\n\nSession 7\nHandling emotions well\n12 Aug\, 8pm – 9.45pm\n\n\nSession 8\nForgiving from the heart\n19 Aug\, 8pm – 9.45pm\n\n\nSession 9\nPrayer response: the steps to FIC\n26 Aug\, 8pm – 9.45pm\n\n\nSession 10\nRenewing the mind\n2 Sep\, 8pm – 9.45pm\n\n\nSession 11\nRelating to others\n9 Sep\, 8pm – 9.45pm\n\n\nSession 12\nWhat’s next\n16 Sep\, 8pm – 9.45pm\n\n\n\n  \nVenue: Online (Zoom) \nRegistration closes on 28 June 2026. \nSign up on the Church Center App
URL:https://www.brmc.org.sg/event/equip-freedom-in-christ-11-12-2/
LOCATION:ZOOM
ATTACH;FMTTYPE=image/png:https://www.brmc.org.sg/wp-content/uploads/2025/11/WEB_FIC2026.png
END:VEVENT
BEGIN:VEVENT
DTSTART;TZID=Asia/Singapore:20260916T200000
DTEND;TZID=Asia/Singapore:20260916T213000
DTSTAMP:20260424T042258
CREATED:20260410T032735Z
LAST-MODIFIED:20260410T032735Z
UID:14229-1789588800-1789594200@www.brmc.org.sg
SUMMARY:EQUIP - Freedom in Christ (#12/12)
DESCRIPTION:A new discipleship journey to break free and live fully in Christ. \nThe Discipleship & Nurture (D&N) Ministry is starting a 12-week online course designed to help believers experience true freedom in their walk with God. \nBased on the UK Freedom in Christ (FIC) Ministries curriculum\, this programme helps believers break spiritual bondages\, renew their minds\, and walk confidently in their identity in Christ. \nWhat You’ll Gain \n\nKnow who you are in Christ\nBreak free from negative patterns\nResolve spiritual conflicts through the cross\nLive daily in freedom and fruitfulness\n\nCome embark on this journey of healing\, surrender\, and transformation. \nParticipant Testimony \nI recognise this is the first step in addressing my unresolved traumas and various unholy strongholds. It’s a process of healing and striving to be more God pleasing. FIC reminds me that I’m a child of God – He loves me deeply\, and He is always there for me. I am reminded to surrender to Him. His will\, not my will. His time\, not my time… In Christ\, I found freedom. \n\n\n\nSession\nTopic\nDate & Time (Wednesdays)\n\n\nSession 1\nIntroduction\n1 Jul\, 8pm – 9.45pm\n\n\nSession 2\nWho am I?\n8 Jul\, 8pm – 9.45pm\n\n\nSession 3\nChoosing to believe the truth\n15 Jul\, 8pm – 9.45pm\n\n\nSession 4\nThe world view of truth\n22 Jul\, 8pm – 9.45pm\n\n\nSession 5\nOur daily choice\n29 Jul\, 8pm – 9.45pm\n\n\nSession 6\nThe battle for our minds\n5 Aug\, 8pm – 9.45pm\n\n\nSession 7\nHandling emotions well\n12 Aug\, 8pm – 9.45pm\n\n\nSession 8\nForgiving from the heart\n19 Aug\, 8pm – 9.45pm\n\n\nSession 9\nPrayer response: the steps to FIC\n26 Aug\, 8pm – 9.45pm\n\n\nSession 10\nRenewing the mind\n2 Sep\, 8pm – 9.45pm\n\n\nSession 11\nRelating to others\n9 Sep\, 8pm – 9.45pm\n\n\nSession 12\nWhat’s next\n16 Sep\, 8pm – 9.45pm\n\n\n\n  \nVenue: Online (Zoom) \nRegistration closes on 28 June 2026. \nSign up on the Church Center App
URL:https://www.brmc.org.sg/event/equip-freedom-in-christ-12-12-2/
LOCATION:ZOOM
ATTACH;FMTTYPE=image/png:https://www.brmc.org.sg/wp-content/uploads/2025/11/WEB_FIC2026.png
END:VEVENT
END:VCALENDAR