BEGIN:VCALENDAR
VERSION:2.0
PRODID:-//Barker Road Methodist Church - ECPv6.15.18//NONSGML v1.0//EN
CALSCALE:GREGORIAN
METHOD:PUBLISH
X-ORIGINAL-URL:https://www.brmc.org.sg
X-WR-CALDESC:Events for Barker Road Methodist Church
REFRESH-INTERVAL;VALUE=DURATION:PT1H
X-Robots-Tag:noindex
X-PUBLISHED-TTL:PT1H
BEGIN:VTIMEZONE
TZID:Asia/Singapore
BEGIN:STANDARD
TZOFFSETFROM:+0800
TZOFFSETTO:+0800
TZNAME:+08
DTSTART:20240101T000000
END:STANDARD
END:VTIMEZONE
BEGIN:VEVENT
DTSTART;TZID=Asia/Singapore:20250405T060000
DTEND;TZID=Asia/Singapore:20250405T083000
DTSTAMP:20260424T151143
CREATED:20241218T090525Z
LAST-MODIFIED:20241218T090525Z
UID:8653-1743832800-1743841800@www.brmc.org.sg
SUMMARY:CONNECT - Emmaus Walk Men’s Fellowship
DESCRIPTION:Emmaus Walk Men’s Fellowship meets on Saturdays to encourage men\, whether singles\, husbands or fathers\, to be men after God’s heart. \nMen’s Prayer Sessions\nSaturdays\, 6am-7am\, Wesley Hall \nMen’s Fellowship Sessions\nSaturdays\, 7am-8.30am\, Wesley Hall \nFIND OUT MORE
URL:https://www.brmc.org.sg/event/connect-emmaus-walk-mens-fellowship-65/
END:VEVENT
BEGIN:VEVENT
DTSTART;TZID=Asia/Singapore:20250412T060000
DTEND;TZID=Asia/Singapore:20250412T083000
DTSTAMP:20260424T151143
CREATED:20241218T090614Z
LAST-MODIFIED:20241218T090614Z
UID:8655-1744437600-1744446600@www.brmc.org.sg
SUMMARY:CONNECT - Emmaus Walk Men’s Fellowship
DESCRIPTION:Emmaus Walk Men’s Fellowship meets on Saturdays to encourage men\, whether singles\, husbands or fathers\, to be men after God’s heart. \nMen’s Prayer Sessions\nSaturdays\, 6am-7am\, Wesley Hall \nMen’s Fellowship Sessions\nSaturdays\, 7am-8.30am\, Wesley Hall \nFIND OUT MORE
URL:https://www.brmc.org.sg/event/connect-emmaus-walk-mens-fellowship-66/
END:VEVENT
BEGIN:VEVENT
DTSTART;TZID=Asia/Singapore:20250419T060000
DTEND;TZID=Asia/Singapore:20250419T083000
DTSTAMP:20260424T151143
CREATED:20241218T090723Z
LAST-MODIFIED:20241218T090723Z
UID:8657-1745042400-1745051400@www.brmc.org.sg
SUMMARY:CONNECT - Emmaus Walk Men’s Fellowship
DESCRIPTION:Emmaus Walk Men’s Fellowship meets on Saturdays to encourage men\, whether singles\, husbands or fathers\, to be men after God’s heart. \nMen’s Prayer Sessions\nSaturdays\, 6am-7am\, Wesley Hall \nMen’s Fellowship Sessions\nSaturdays\, 7am-8.30am\, Wesley Hall \nFIND OUT MORE
URL:https://www.brmc.org.sg/event/connect-emmaus-walk-mens-fellowship-67/
END:VEVENT
END:VCALENDAR