BEGIN:VCALENDAR
VERSION:2.0
PRODID:-//Barker Road Methodist Church - ECPv6.15.18//NONSGML v1.0//EN
CALSCALE:GREGORIAN
METHOD:PUBLISH
X-WR-CALNAME:Barker Road Methodist Church
X-ORIGINAL-URL:https://www.brmc.org.sg
X-WR-CALDESC:Events for Barker Road Methodist Church
REFRESH-INTERVAL;VALUE=DURATION:PT1H
X-Robots-Tag:noindex
X-PUBLISHED-TTL:PT1H
BEGIN:VTIMEZONE
TZID:Asia/Singapore
BEGIN:STANDARD
TZOFFSETFROM:+0800
TZOFFSETTO:+0800
TZNAME:+08
DTSTART:20240101T000000
END:STANDARD
END:VTIMEZONE
BEGIN:VEVENT
DTSTART;TZID=Asia/Singapore:20250503T060000
DTEND;TZID=Asia/Singapore:20250503T083000
DTSTAMP:20260424T134203
CREATED:20241218T090918Z
LAST-MODIFIED:20241218T090918Z
UID:8661-1746252000-1746261000@www.brmc.org.sg
SUMMARY:CONNECT - Emmaus Walk Men’s Fellowship
DESCRIPTION:Emmaus Walk Men’s Fellowship meets on Saturdays to encourage men\, whether singles\, husbands or fathers\, to be men after God’s heart. \nMen’s Prayer Sessions\nSaturdays\, 6am-7am\, Wesley Hall \nMen’s Fellowship Sessions\nSaturdays\, 7am-8.30am\, Wesley Hall \nFIND OUT MORE
URL:https://www.brmc.org.sg/event/connect-emmaus-walk-mens-fellowship-69/
END:VEVENT
BEGIN:VEVENT
DTSTART;TZID=Asia/Singapore:20250510T060000
DTEND;TZID=Asia/Singapore:20250510T083000
DTSTAMP:20260424T134203
CREATED:20241218T091046Z
LAST-MODIFIED:20250509T030831Z
UID:8663-1746856800-1746865800@www.brmc.org.sg
SUMMARY:CONNECT - Emmaus Walk Men’s Fellowship
DESCRIPTION:Emmaus Walk Men’s Fellowship meets on Saturdays to encourage men\, whether singles\, husbands or fathers\, to be men after God’s heart. \nMen’s Prayer Sessions\nSaturdays\, 6am-7am\, Wesley Hall \nMen’s Fellowship Sessions\nSaturdays\, 7am-8.30am\, Wesley Hall \nFIND OUT MORE
URL:https://www.brmc.org.sg/event/connect-emmaus-walk-mens-fellowship-70/
END:VEVENT
BEGIN:VEVENT
DTSTART;TZID=Asia/Singapore:20250517T060000
DTEND;TZID=Asia/Singapore:20250517T083000
DTSTAMP:20260424T134203
CREATED:20241218T091148Z
LAST-MODIFIED:20250509T030841Z
UID:8665-1747461600-1747470600@www.brmc.org.sg
SUMMARY:CONNECT - Emmaus Walk Men’s Fellowship
DESCRIPTION:Emmaus Walk Men’s Fellowship meets on Saturdays to encourage men\, whether singles\, husbands or fathers\, to be men after God’s heart. \nMen’s Prayer Sessions\nSaturdays\, 6am-7am\, Wesley Hall \nMen’s Fellowship Sessions\nSaturdays\, 7am-8.30am\, Wesley Hall \nFIND OUT MORE
URL:https://www.brmc.org.sg/event/connect-emmaus-walk-mens-fellowship-71/
END:VEVENT
BEGIN:VEVENT
DTSTART;TZID=Asia/Singapore:20250524T060000
DTEND;TZID=Asia/Singapore:20250524T083000
DTSTAMP:20260424T134203
CREATED:20241218T091240Z
LAST-MODIFIED:20250509T030848Z
UID:8667-1748066400-1748075400@www.brmc.org.sg
SUMMARY:CONNECT - Emmaus Walk Men’s Fellowship
DESCRIPTION:Emmaus Walk Men’s Fellowship meets on Saturdays to encourage men\, whether singles\, husbands or fathers\, to be men after God’s heart. \nMen’s Prayer Sessions\nSaturdays\, 6am-7am\, Wesley Hall \nMen’s Fellowship Sessions\nSaturdays\, 7am-8.30am\, Wesley Hall \nFIND OUT MORE
URL:https://www.brmc.org.sg/event/connect-emmaus-walk-mens-fellowship-72/
END:VEVENT
BEGIN:VEVENT
DTSTART;TZID=Asia/Singapore:20250531T060000
DTEND;TZID=Asia/Singapore:20250531T083000
DTSTAMP:20260424T134203
CREATED:20241218T091345Z
LAST-MODIFIED:20250509T030856Z
UID:8669-1748671200-1748680200@www.brmc.org.sg
SUMMARY:CONNECT - Emmaus Walk Men’s Fellowship
DESCRIPTION:Emmaus Walk Men’s Fellowship meets on Saturdays to encourage men\, whether singles\, husbands or fathers\, to be men after God’s heart. \nMen’s Prayer Sessions\nSaturdays\, 6am-7am\, Wesley Hall \nMen’s Fellowship Sessions\nSaturdays\, 7am-8.30am\, Wesley Hall \nFIND OUT MORE
URL:https://www.brmc.org.sg/event/connect-emmaus-walk-mens-fellowship-73/
END:VEVENT
END:VCALENDAR