BEGIN:VCALENDAR
VERSION:2.0
PRODID:-//Barker Road Methodist Church - ECPv6.15.18//NONSGML v1.0//EN
CALSCALE:GREGORIAN
METHOD:PUBLISH
X-WR-CALNAME:Barker Road Methodist Church
X-ORIGINAL-URL:https://www.brmc.org.sg
X-WR-CALDESC:Events for Barker Road Methodist Church
REFRESH-INTERVAL;VALUE=DURATION:PT1H
X-Robots-Tag:noindex
X-PUBLISHED-TTL:PT1H
BEGIN:VTIMEZONE
TZID:Asia/Singapore
BEGIN:STANDARD
TZOFFSETFROM:+0800
TZOFFSETTO:+0800
TZNAME:+08
DTSTART:20240101T000000
END:STANDARD
END:VTIMEZONE
BEGIN:VEVENT
DTSTART;TZID=Asia/Singapore:20250802T060000
DTEND;TZID=Asia/Singapore:20250802T083000
DTSTAMP:20260424T091054
CREATED:20250422T043656Z
LAST-MODIFIED:20250422T043656Z
UID:9465-1754114400-1754123400@www.brmc.org.sg
SUMMARY:CONNECT - Emmaus Walk Men’s Fellowship
DESCRIPTION:Emmaus Walk Men’s Fellowship meets on Saturdays to encourage men\, whether singles\, husbands or fathers\, to be men after God’s heart. \nMen’s Prayer Sessions\nSaturdays\, 6am-7am\, Wesley Hall \nMen’s Fellowship Sessions\nSaturdays\, 7am-8.30am\, Wesley Hall \nFIND OUT MORE
URL:https://www.brmc.org.sg/event/connect-emmaus-walk-mens-fellowship-81/
END:VEVENT
BEGIN:VEVENT
DTSTART;TZID=Asia/Singapore:20250809T060000
DTEND;TZID=Asia/Singapore:20250809T083000
DTSTAMP:20260424T091054
CREATED:20250422T043910Z
LAST-MODIFIED:20250422T043910Z
UID:9467-1754719200-1754728200@www.brmc.org.sg
SUMMARY:CONNECT - Emmaus Walk Men’s Fellowship
DESCRIPTION:Emmaus Walk Men’s Fellowship meets on Saturdays to encourage men\, whether singles\, husbands or fathers\, to be men after God’s heart. \nMen’s Prayer Sessions\nSaturdays\, 6am-7am\, Wesley Hall \nMen’s Fellowship Sessions\nSaturdays\, 7am-8.30am\, Wesley Hall \nFIND OUT MORE
URL:https://www.brmc.org.sg/event/connect-emmaus-walk-mens-fellowship-82/
END:VEVENT
BEGIN:VEVENT
DTSTART;TZID=Asia/Singapore:20250816T060000
DTEND;TZID=Asia/Singapore:20250816T083000
DTSTAMP:20260424T091054
CREATED:20250422T044059Z
LAST-MODIFIED:20250422T044059Z
UID:9469-1755324000-1755333000@www.brmc.org.sg
SUMMARY:CONNECT - Emmaus Walk Men’s Fellowship
DESCRIPTION:Emmaus Walk Men’s Fellowship meets on Saturdays to encourage men\, whether singles\, husbands or fathers\, to be men after God’s heart. \nMen’s Prayer Sessions\nSaturdays\, 6am-7am\, Wesley Hall \nMen’s Fellowship Sessions\nSaturdays\, 7am-8.30am\, Wesley Hall \nFIND OUT MORE
URL:https://www.brmc.org.sg/event/connect-emmaus-walk-mens-fellowship-83/
END:VEVENT
BEGIN:VEVENT
DTSTART;TZID=Asia/Singapore:20250823T060000
DTEND;TZID=Asia/Singapore:20250823T083000
DTSTAMP:20260424T091054
CREATED:20250422T044212Z
LAST-MODIFIED:20250422T044212Z
UID:9471-1755928800-1755937800@www.brmc.org.sg
SUMMARY:CONNECT - Emmaus Walk Men’s Fellowship
DESCRIPTION:Emmaus Walk Men’s Fellowship meets on Saturdays to encourage men\, whether singles\, husbands or fathers\, to be men after God’s heart. \nMen’s Prayer Sessions\nSaturdays\, 6am-7am\, Wesley Hall \nMen’s Fellowship Sessions\nSaturdays\, 7am-8.30am\, Wesley Hall \nFIND OUT MORE
URL:https://www.brmc.org.sg/event/connect-emmaus-walk-mens-fellowship-84/
END:VEVENT
BEGIN:VEVENT
DTSTART;TZID=Asia/Singapore:20250829T083000
DTEND;TZID=Asia/Singapore:20250829T120000
DTSTAMP:20260424T091054
CREATED:20250630T071218Z
LAST-MODIFIED:20250708T030852Z
UID:10598-1756456200-1756468800@www.brmc.org.sg
SUMMARY:Emmaus Walk Men's Fellowship Retreat - Discovering God's Destiny for Your Life
DESCRIPTION:Emmaus Walk Men’s Fellowship Retreat\nDiscovering God’s Destiny for Your Life \nFor I know the plans I have for you\, declares the LORD\, plans for welfare and not for evil\, to give you a future and a hope. Then you will call upon me and come and pray to me\, and I will hear you. You will seek me and find me\, when you seek me with all your heart. — Jeremiah 29:11-13 (ESV) \nSpeaker: Rev Barnabas Chong \nSign up on the Church Center App \n 
URL:https://www.brmc.org.sg/event/emmaus-walk-mens-fellowship-retreat-2025/
ATTACH;FMTTYPE=image/png:https://www.brmc.org.sg/wp-content/uploads/2025/06/WEB_EW-Retreat-2025.png
END:VEVENT
BEGIN:VEVENT
DTSTART;TZID=Asia/Singapore:20250830T060000
DTEND;TZID=Asia/Singapore:20250830T083000
DTSTAMP:20260424T091054
CREATED:20250422T044344Z
LAST-MODIFIED:20250709T094931Z
UID:9473-1756533600-1756542600@www.brmc.org.sg
SUMMARY:CANCELLED: CONNECT - Emmaus Walk Men’s Fellowship
DESCRIPTION:In light of the retreat that is taking place on 29 Aug 2025\, the Emmaus Walk Men’s Fellowship will not be meeting on 30 Aug 2025. \n\nEmmaus Walk Men’s Fellowship meets on Saturdays to encourage men\, whether singles\, husbands or fathers\, to be men after God’s heart. \nMen’s Prayer Sessions\nSaturdays\, 6am-7am\, Wesley Hall \nMen’s Fellowship Sessions\nSaturdays\, 7am-8.30am\, Wesley Hall \nFIND OUT MORE
URL:https://www.brmc.org.sg/event/connect-emmaus-walk-mens-fellowship-85/
END:VEVENT
END:VCALENDAR