BEGIN:VCALENDAR
VERSION:2.0
PRODID:-//Barker Road Methodist Church - ECPv6.15.18//NONSGML v1.0//EN
CALSCALE:GREGORIAN
METHOD:PUBLISH
X-WR-CALNAME:Barker Road Methodist Church
X-ORIGINAL-URL:https://www.brmc.org.sg
X-WR-CALDESC:Events for Barker Road Methodist Church
REFRESH-INTERVAL;VALUE=DURATION:PT1H
X-Robots-Tag:noindex
X-PUBLISHED-TTL:PT1H
BEGIN:VTIMEZONE
TZID:Asia/Singapore
BEGIN:STANDARD
TZOFFSETFROM:+0800
TZOFFSETTO:+0800
TZNAME:+08
DTSTART:20240101T000000
END:STANDARD
END:VTIMEZONE
BEGIN:VEVENT
DTSTART;TZID=Asia/Singapore:20251004T060000
DTEND;TZID=Asia/Singapore:20251004T083000
DTSTAMP:20260424T062758
CREATED:20250422T045237Z
LAST-MODIFIED:20250422T045237Z
UID:9483-1759557600-1759566600@www.brmc.org.sg
SUMMARY:CONNECT - Emmaus Walk Men’s Fellowship
DESCRIPTION:Emmaus Walk Men’s Fellowship meets on Saturdays to encourage men\, whether singles\, husbands or fathers\, to be men after God’s heart. \nMen’s Prayer Sessions\nSaturdays\, 6am-7am\, Wesley Hall \nMen’s Fellowship Sessions\nSaturdays\, 7am-8.30am\, Wesley Hall \nFIND OUT MORE
URL:https://www.brmc.org.sg/event/connect-emmaus-walk-mens-fellowship-90/
END:VEVENT
BEGIN:VEVENT
DTSTART;TZID=Asia/Singapore:20251011T060000
DTEND;TZID=Asia/Singapore:20251011T083000
DTSTAMP:20260424T062758
CREATED:20250422T045351Z
LAST-MODIFIED:20251006T053726Z
UID:9485-1760162400-1760171400@www.brmc.org.sg
SUMMARY:CONNECT - Emmaus Walk Men’s Fellowship
DESCRIPTION:He has told you\, O mortal\, what is good\, and what does the Lord require of you but to do justice and to love kindness and to walk humbly with your God? – Micah 6:8 \nEmmaus Walk Men’s Fellowship meets on Saturdays to encourage men\, whether singles\, husbands or fathers\, to be men after God’s heart. \nMen’s Prayer Sessions\nSaturdays\, 6am – 7am\, Wesley Hall \nMen’s Fellowship Sessions\nSaturdays\, 7am – 8.30am\, Wesley Hall \nFIND OUT MORE
URL:https://www.brmc.org.sg/event/connect-emmaus-walk-mens-fellowship-91/
END:VEVENT
BEGIN:VEVENT
DTSTART;TZID=Asia/Singapore:20251018T060000
DTEND;TZID=Asia/Singapore:20251018T083000
DTSTAMP:20260424T062758
CREATED:20250422T045501Z
LAST-MODIFIED:20251006T053731Z
UID:9487-1760767200-1760776200@www.brmc.org.sg
SUMMARY:CONNECT - Emmaus Walk Men’s Fellowship
DESCRIPTION:He has told you\, O mortal\, what is good\, and what does the Lord require of you but to do justice and to love kindness and to walk humbly with your God? – Micah 6:8 \nEmmaus Walk Men’s Fellowship meets on Saturdays to encourage men\, whether singles\, husbands or fathers\, to be men after God’s heart. \nMen’s Prayer Sessions\nSaturdays\, 6am – 7am\, Wesley Hall \nMen’s Fellowship Sessions\nSaturdays\, 7am – 8.30am\, Wesley Hall \nFIND OUT MORE
URL:https://www.brmc.org.sg/event/connect-emmaus-walk-mens-fellowship-92/
END:VEVENT
BEGIN:VEVENT
DTSTART;TZID=Asia/Singapore:20251025T060000
DTEND;TZID=Asia/Singapore:20251025T083000
DTSTAMP:20260424T062758
CREATED:20250422T045616Z
LAST-MODIFIED:20251006T053738Z
UID:9489-1761372000-1761381000@www.brmc.org.sg
SUMMARY:CONNECT - Emmaus Walk Men’s Fellowship
DESCRIPTION:He has told you\, O mortal\, what is good\, and what does the Lord require of you but to do justice and to love kindness and to walk humbly with your God? – Micah 6:8 \nEmmaus Walk Men’s Fellowship meets on Saturdays to encourage men\, whether singles\, husbands or fathers\, to be men after God’s heart. \nMen’s Prayer Sessions\nSaturdays\, 6am – 7am\, Wesley Hall \nMen’s Fellowship Sessions\nSaturdays\, 7am – 8.30am\, Wesley Hall \nFIND OUT MORE
URL:https://www.brmc.org.sg/event/connect-emmaus-walk-mens-fellowship-93/
END:VEVENT
END:VCALENDAR