BEGIN:VCALENDAR
VERSION:2.0
PRODID:-//Barker Road Methodist Church - ECPv6.15.18//NONSGML v1.0//EN
CALSCALE:GREGORIAN
METHOD:PUBLISH
X-ORIGINAL-URL:https://www.brmc.org.sg
X-WR-CALDESC:Events for Barker Road Methodist Church
REFRESH-INTERVAL;VALUE=DURATION:PT1H
X-Robots-Tag:noindex
X-PUBLISHED-TTL:PT1H
BEGIN:VTIMEZONE
TZID:Asia/Singapore
BEGIN:STANDARD
TZOFFSETFROM:+0800
TZOFFSETTO:+0800
TZNAME:+08
DTSTART:20250101T000000
END:STANDARD
END:VTIMEZONE
BEGIN:VEVENT
DTSTART;TZID=Asia/Singapore:20260103T060000
DTEND;TZID=Asia/Singapore:20260103T083000
DTSTAMP:20260424T012607
CREATED:20251006T052051Z
LAST-MODIFIED:20251006T054114Z
UID:11700-1767420000-1767429000@www.brmc.org.sg
SUMMARY:CONNECT - Emmaus Walk Men’s Fellowship
DESCRIPTION:He has told you\, O mortal\, what is good\, and what does the Lord require of you but to do justice and to love kindness and to walk humbly with your God? – Micah 6:8 \nEmmaus Walk Men’s Fellowship meets on Saturdays to encourage men\, whether singles\, husbands or fathers\, to be men after God’s heart. \nMen’s Prayer Sessions\nSaturdays\, 6am – 7am\, Wesley Hall \nMen’s Fellowship Sessions\nSaturdays\, 7am – 8.30am\, Wesley Hall \nFIND OUT MORE
URL:https://www.brmc.org.sg/event/connect-emmaus-walk-mens-fellowship-103/
END:VEVENT
BEGIN:VEVENT
DTSTART;TZID=Asia/Singapore:20260110T060000
DTEND;TZID=Asia/Singapore:20260110T083000
DTSTAMP:20260424T012607
CREATED:20251006T052137Z
LAST-MODIFIED:20251006T054119Z
UID:11702-1768024800-1768033800@www.brmc.org.sg
SUMMARY:CONNECT - Emmaus Walk Men’s Fellowship
DESCRIPTION:He has told you\, O mortal\, what is good\, and what does the Lord require of you but to do justice and to love kindness and to walk humbly with your God? – Micah 6:8 \nEmmaus Walk Men’s Fellowship meets on Saturdays to encourage men\, whether singles\, husbands or fathers\, to be men after God’s heart. \nMen’s Prayer Sessions\nSaturdays\, 6am – 7am\, Wesley Hall \nMen’s Fellowship Sessions\nSaturdays\, 7am – 8.30am\, Wesley Hall \nFIND OUT MORE
URL:https://www.brmc.org.sg/event/connect-emmaus-walk-mens-fellowship-104/
END:VEVENT
BEGIN:VEVENT
DTSTART;TZID=Asia/Singapore:20260117T060000
DTEND;TZID=Asia/Singapore:20260117T083000
DTSTAMP:20260424T012607
CREATED:20251006T053611Z
LAST-MODIFIED:20251006T054124Z
UID:11704-1768629600-1768638600@www.brmc.org.sg
SUMMARY:CONNECT - Emmaus Walk Men’s Fellowship
DESCRIPTION:He has told you\, O mortal\, what is good\, and what does the Lord require of you but to do justice and to love kindness and to walk humbly with your God? – Micah 6:8 \nEmmaus Walk Men’s Fellowship meets on Saturdays to encourage men\, whether singles\, husbands or fathers\, to be men after God’s heart. \nMen’s Prayer Sessions\nSaturdays\, 6am – 7am\, Wesley Hall \nMen’s Fellowship Sessions\nSaturdays\, 7am – 8.30am\, Wesley Hall \nFIND OUT MORE
URL:https://www.brmc.org.sg/event/connect-emmaus-walk-mens-fellowship-105/
END:VEVENT
BEGIN:VEVENT
DTSTART;TZID=Asia/Singapore:20260124T060000
DTEND;TZID=Asia/Singapore:20260124T083000
DTSTAMP:20260424T012607
CREATED:20251006T054010Z
LAST-MODIFIED:20251006T054129Z
UID:11739-1769234400-1769243400@www.brmc.org.sg
SUMMARY:CONNECT - Emmaus Walk Men’s Fellowship
DESCRIPTION:He has told you\, O mortal\, what is good\, and what does the Lord require of you but to do justice and to love kindness and to walk humbly with your God? – Micah 6:8 \nEmmaus Walk Men’s Fellowship meets on Saturdays to encourage men\, whether singles\, husbands or fathers\, to be men after God’s heart. \nMen’s Prayer Sessions\nSaturdays\, 6am – 7am\, Wesley Hall \nMen’s Fellowship Sessions\nSaturdays\, 7am – 8.30am\, Wesley Hall \nFIND OUT MORE
URL:https://www.brmc.org.sg/event/connect-emmaus-walk-mens-fellowship-106/
END:VEVENT
BEGIN:VEVENT
DTSTART;TZID=Asia/Singapore:20260131T060000
DTEND;TZID=Asia/Singapore:20260131T083000
DTSTAMP:20260424T012607
CREATED:20251006T054148Z
LAST-MODIFIED:20251006T054148Z
UID:11741-1769839200-1769848200@www.brmc.org.sg
SUMMARY:CONNECT - Emmaus Walk Men’s Fellowship
DESCRIPTION:He has told you\, O mortal\, what is good\, and what does the Lord require of you but to do justice and to love kindness and to walk humbly with your God? – Micah 6:8 \nEmmaus Walk Men’s Fellowship meets on Saturdays to encourage men\, whether singles\, husbands or fathers\, to be men after God’s heart. \nMen’s Prayer Sessions\nSaturdays\, 6am – 7am\, Wesley Hall \nMen’s Fellowship Sessions\nSaturdays\, 7am – 8.30am\, Wesley Hall \nFIND OUT MORE
URL:https://www.brmc.org.sg/event/connect-emmaus-walk-mens-fellowship-107/
END:VEVENT
END:VCALENDAR