BEGIN:VCALENDAR
VERSION:2.0
PRODID:-//Barker Road Methodist Church - ECPv6.15.18//NONSGML v1.0//EN
CALSCALE:GREGORIAN
METHOD:PUBLISH
X-WR-CALNAME:Barker Road Methodist Church
X-ORIGINAL-URL:https://www.brmc.org.sg
X-WR-CALDESC:Events for Barker Road Methodist Church
REFRESH-INTERVAL;VALUE=DURATION:PT1H
X-Robots-Tag:noindex
X-PUBLISHED-TTL:PT1H
BEGIN:VTIMEZONE
TZID:Asia/Singapore
BEGIN:STANDARD
TZOFFSETFROM:+0800
TZOFFSETTO:+0800
TZNAME:+08
DTSTART:20250101T000000
END:STANDARD
END:VTIMEZONE
BEGIN:VEVENT
DTSTART;TZID=Asia/Singapore:20261205T060000
DTEND;TZID=Asia/Singapore:20261205T083000
DTSTAMP:20260424T091131
CREATED:20251006T074412Z
LAST-MODIFIED:20260423T055446Z
UID:11862-1796450400-1796459400@www.brmc.org.sg
SUMMARY:CONNECT - Emmaus Walk Men’s Fellowship
DESCRIPTION:He has told you\, O mortal\, what is good\, and what does the Lord require of you but to do justice and to love kindness and to walk humbly with your God? – Micah 6:8 \nEmmaus Walk Men’s Fellowship meets on Saturdays to encourage men\, whether singles\, husbands or fathers\, to be men after God’s heart. \nMen’s Prayer Sessions\nSaturdays\, 6am – 7am\, Wesley Hall \nMen’s Fellowship Sessions\nSaturdays\, 7am – 8.30am\, Wesley Hall \nFIND OUT MORE
URL:https://www.brmc.org.sg/event/connect-emmaus-walk-mens-fellowship-151/
ATTACH;FMTTYPE=image/jpeg:https://www.brmc.org.sg/wp-content/uploads/2025/10/Web_Wesley-Hall.jpg
END:VEVENT
BEGIN:VEVENT
DTSTART;TZID=Asia/Singapore:20261212T060000
DTEND;TZID=Asia/Singapore:20261212T083000
DTSTAMP:20260424T091131
CREATED:20251006T074457Z
LAST-MODIFIED:20260423T055459Z
UID:11864-1797055200-1797064200@www.brmc.org.sg
SUMMARY:CONNECT - Emmaus Walk Men’s Fellowship
DESCRIPTION:He has told you\, O mortal\, what is good\, and what does the Lord require of you but to do justice and to love kindness and to walk humbly with your God? – Micah 6:8 \nEmmaus Walk Men’s Fellowship meets on Saturdays to encourage men\, whether singles\, husbands or fathers\, to be men after God’s heart. \nMen’s Prayer Sessions\nSaturdays\, 6am – 7am\, Wesley Hall \nMen’s Fellowship Sessions\nSaturdays\, 7am – 8.30am\, Wesley Hall \nFIND OUT MORE
URL:https://www.brmc.org.sg/event/connect-emmaus-walk-mens-fellowship-152/
ATTACH;FMTTYPE=image/jpeg:https://www.brmc.org.sg/wp-content/uploads/2025/10/Web_Wesley-Hall.jpg
END:VEVENT
BEGIN:VEVENT
DTSTART;TZID=Asia/Singapore:20261219T060000
DTEND;TZID=Asia/Singapore:20261219T083000
DTSTAMP:20260424T091131
CREATED:20251006T074811Z
LAST-MODIFIED:20260423T055509Z
UID:11866-1797660000-1797669000@www.brmc.org.sg
SUMMARY:CONNECT - Emmaus Walk Men’s Fellowship
DESCRIPTION:He has told you\, O mortal\, what is good\, and what does the Lord require of you but to do justice and to love kindness and to walk humbly with your God? – Micah 6:8 \nEmmaus Walk Men’s Fellowship meets on Saturdays to encourage men\, whether singles\, husbands or fathers\, to be men after God’s heart. \nMen’s Prayer Sessions\nSaturdays\, 6am – 7am\, Wesley Hall \nMen’s Fellowship Sessions\nSaturdays\, 7am – 8.30am\, Wesley Hall \nFIND OUT MORE
URL:https://www.brmc.org.sg/event/connect-emmaus-walk-mens-fellowship-153/
ATTACH;FMTTYPE=image/jpeg:https://www.brmc.org.sg/wp-content/uploads/2025/10/Web_Wesley-Hall.jpg
END:VEVENT
BEGIN:VEVENT
DTSTART;TZID=Asia/Singapore:20261226T060000
DTEND;TZID=Asia/Singapore:20261226T083000
DTSTAMP:20260424T091131
CREATED:20251006T074855Z
LAST-MODIFIED:20260423T055524Z
UID:11868-1798264800-1798273800@www.brmc.org.sg
SUMMARY:CONNECT - Emmaus Walk Men’s Fellowship
DESCRIPTION:He has told you\, O mortal\, what is good\, and what does the Lord require of you but to do justice and to love kindness and to walk humbly with your God? – Micah 6:8 \nEmmaus Walk Men’s Fellowship meets on Saturdays to encourage men\, whether singles\, husbands or fathers\, to be men after God’s heart. \nMen’s Prayer Sessions\nSaturdays\, 6am – 7am\, Wesley Hall \nMen’s Fellowship Sessions\nSaturdays\, 7am – 8.30am\, Wesley Hall \nFIND OUT MORE
URL:https://www.brmc.org.sg/event/connect-emmaus-walk-mens-fellowship-154/
ATTACH;FMTTYPE=image/jpeg:https://www.brmc.org.sg/wp-content/uploads/2025/10/Web_Wesley-Hall.jpg
END:VEVENT
END:VCALENDAR