BEGIN:VCALENDAR
VERSION:2.0
PRODID:-//Barker Road Methodist Church - ECPv6.15.18//NONSGML v1.0//EN
CALSCALE:GREGORIAN
METHOD:PUBLISH
X-WR-CALNAME:Barker Road Methodist Church
X-ORIGINAL-URL:https://www.brmc.org.sg
X-WR-CALDESC:Events for Barker Road Methodist Church
REFRESH-INTERVAL;VALUE=DURATION:PT1H
X-Robots-Tag:noindex
X-PUBLISHED-TTL:PT1H
BEGIN:VTIMEZONE
TZID:Asia/Singapore
BEGIN:STANDARD
TZOFFSETFROM:+0800
TZOFFSETTO:+0800
TZNAME:+08
DTSTART:20240101T000000
END:STANDARD
END:VTIMEZONE
BEGIN:VEVENT
DTSTART;TZID=Asia/Singapore:20250207T093000
DTEND;TZID=Asia/Singapore:20250207T113000
DTSTAMP:20260425T055918
CREATED:20241217T023810Z
LAST-MODIFIED:20241224T062120Z
UID:8597-1738920600-1738927800@www.brmc.org.sg
SUMMARY:Heart2Heart Mothers' Fellowship - When You Pray (Session 4/7)
DESCRIPTION:Do you have trouble thinking of words to say to God when you pray? Are you afraid some emotions are too intense to express to God? Do you reach the end of a day only to realise you haven’t prayed at all? You’re not alone. Prayer is the way we relate to God\, but sometimes it’s a struggle. Throughout God’s Word\, we encounter many voices who teach us how to pray. \nIn this 7-session study\, join with six beloved Bible teachers who will help you study prayers in the Bible that can inspire your own. You’ll learn that God welcomes your praise and lament\, your thanksgiving and intercession. You’ll see examples of how to pray when you’re alone and when you’re gathered with others. Above all\, you’ll notice there’s no one right way to pray. As you draw near to God through prayer\, you’ll find your faith strengthened and your heart united to Christ. \nDates: Fridays\, 10 Jan – 28 Feb 2025\nTime: 9:30am – 11:30am\nVenue: BRMC Conference Room\, L1 \nAll moms\, young and old are welcome! \nThe Heart2Heart Mothers’ Fellowship meets every Friday during school term time. \nEvent and sign up details \n  \n  \n 
URL:https://www.brmc.org.sg/event/heart2heart-mothers-fellowship-when-you-pray-session-4-7/
LOCATION:L1 Conference Room
ATTACH;FMTTYPE=image/png:https://www.brmc.org.sg/wp-content/uploads/2024/12/WEB_H2H2025.png
END:VEVENT
BEGIN:VEVENT
DTSTART;TZID=Asia/Singapore:20250214T093000
DTEND;TZID=Asia/Singapore:20250214T113000
DTSTAMP:20260425T055918
CREATED:20241217T023905Z
LAST-MODIFIED:20241224T062216Z
UID:8599-1739525400-1739532600@www.brmc.org.sg
SUMMARY:Heart2Heart Mothers' Fellowship - When You Pray (Session 5/7)
DESCRIPTION:Do you have trouble thinking of words to say to God when you pray? Are you afraid some emotions are too intense to express to God? Do you reach the end of a day only to realise you haven’t prayed at all? You’re not alone. Prayer is the way we relate to God\, but sometimes it’s a struggle. Throughout God’s Word\, we encounter many voices who teach us how to pray. \nIn this 7-session study\, join with six beloved Bible teachers who will help you study prayers in the Bible that can inspire your own. You’ll learn that God welcomes your praise and lament\, your thanksgiving and intercession. You’ll see examples of how to pray when you’re alone and when you’re gathered with others. Above all\, you’ll notice there’s no one right way to pray. As you draw near to God through prayer\, you’ll find your faith strengthened and your heart united to Christ. \nDates: Fridays\, 10 Jan – 28 Feb 2025\nTime: 9:30am – 11:30am\nVenue: BRMC Conference Room\, L1 \nAll moms\, young and old are welcome! \nThe Heart2Heart Mothers’ Fellowship meets every Friday during school term time. \nEvent and sign up details \n  \n  \n 
URL:https://www.brmc.org.sg/event/heart2heart-mothers-fellowship-when-you-pray-session-5-7/
LOCATION:L1 Conference Room
ATTACH;FMTTYPE=image/png:https://www.brmc.org.sg/wp-content/uploads/2024/12/WEB_H2H2025.png
END:VEVENT
BEGIN:VEVENT
DTSTART;TZID=Asia/Singapore:20250221T093000
DTEND;TZID=Asia/Singapore:20250221T113000
DTSTAMP:20260425T055918
CREATED:20241217T024010Z
LAST-MODIFIED:20250115T053157Z
UID:8601-1740130200-1740137400@www.brmc.org.sg
SUMMARY:Heart2Heart Mothers' Fellowship - When You Pray (Session 6/7)
DESCRIPTION:Do you have trouble thinking of words to say to God when you pray? Are you afraid some emotions are too intense to express to God? Do you reach the end of a day only to realise you haven’t prayed at all? You’re not alone. Prayer is the way we relate to God\, but sometimes it’s a struggle. Throughout God’s Word\, we encounter many voices who teach us how to pray. \nIn this 7-session study\, join with six beloved Bible teachers who will help you study prayers in the Bible that can inspire your own. You’ll learn that God welcomes your praise and lament\, your thanksgiving and intercession. You’ll see examples of how to pray when you’re alone and when you’re gathered with others. Above all\, you’ll notice there’s no one right way to pray. As you draw near to God through prayer\, you’ll find your faith strengthened and your heart united to Christ. \nDates: Fridays\, 10 Jan – 28 Feb 2025\nTime: 9:30am – 11:30am\nVenue: BRMC Conference Room\, L1 \nAll moms\, young and old are welcome! \nThe Heart2Heart Mothers’ Fellowship meets every Friday during school term time. \nEvent and sign up details \n  \n  \n 
URL:https://www.brmc.org.sg/event/heart2heart-mothers-fellowship-when-you-pray-session-6-7/
LOCATION:L1 Conference Room
ATTACH;FMTTYPE=image/png:https://www.brmc.org.sg/wp-content/uploads/2024/12/WEB_H2H2025.png
END:VEVENT
BEGIN:VEVENT
DTSTART;TZID=Asia/Singapore:20250228T093000
DTEND;TZID=Asia/Singapore:20250228T113000
DTSTAMP:20260425T055918
CREATED:20241217T024100Z
LAST-MODIFIED:20241224T062317Z
UID:8603-1740735000-1740742200@www.brmc.org.sg
SUMMARY:Heart2Heart Mothers' Fellowship - When You Pray (Session 7/7)
DESCRIPTION:Do you have trouble thinking of words to say to God when you pray? Are you afraid some emotions are too intense to express to God? Do you reach the end of a day only to realise you haven’t prayed at all? You’re not alone. Prayer is the way we relate to God\, but sometimes it’s a struggle. Throughout God’s Word\, we encounter many voices who teach us how to pray. \nIn this 7-session study\, join with six beloved Bible teachers who will help you study prayers in the Bible that can inspire your own. You’ll learn that God welcomes your praise and lament\, your thanksgiving and intercession. You’ll see examples of how to pray when you’re alone and when you’re gathered with others. Above all\, you’ll notice there’s no one right way to pray. As you draw near to God through prayer\, you’ll find your faith strengthened and your heart united to Christ. \nDates: Fridays\, 10 Jan – 28 Feb 2025\nTime: 9:30am – 11:30am\nVenue: BRMC Conference Room\, L1 \nAll moms\, young and old are welcome! \nThe Heart2Heart Mothers’ Fellowship meets every Friday during school term time. \nEvent and sign up details \n  \n  \n 
URL:https://www.brmc.org.sg/event/heart2heart-mothers-fellowship-when-you-pray-session-7-7/
LOCATION:L1 Conference Room
ATTACH;FMTTYPE=image/png:https://www.brmc.org.sg/wp-content/uploads/2024/12/WEB_H2H2025.png
END:VEVENT
END:VCALENDAR