BEGIN:VCALENDAR
VERSION:2.0
PRODID:-//Barker Road Methodist Church - ECPv6.15.18//NONSGML v1.0//EN
CALSCALE:GREGORIAN
METHOD:PUBLISH
X-ORIGINAL-URL:https://www.brmc.org.sg
X-WR-CALDESC:Events for Barker Road Methodist Church
REFRESH-INTERVAL;VALUE=DURATION:PT1H
X-Robots-Tag:noindex
X-PUBLISHED-TTL:PT1H
BEGIN:VTIMEZONE
TZID:Asia/Singapore
BEGIN:STANDARD
TZOFFSETFROM:+0800
TZOFFSETTO:+0800
TZNAME:+08
DTSTART:20240101T000000
END:STANDARD
END:VTIMEZONE
BEGIN:VEVENT
DTSTART;TZID=Asia/Singapore:20250307T093000
DTEND;TZID=Asia/Singapore:20250307T113000
DTSTAMP:20260425T042421
CREATED:20250115T054854Z
LAST-MODIFIED:20250225T125606Z
UID:8647-1741339800-1741347000@www.brmc.org.sg
SUMMARY:EQUIP - Talking With Your Kids about Jesus (#1/3)
DESCRIPTION:You already know the world will challenge your child’s faith in Jesus. But do you know specifically what those faith challenges are\, how to effectively talk with your child about them\, and what that means for you as a Christian parent on a day-to-day basis? \nIf your answer is no\, you’re not alone. Many Christian parents feel the same. \nHere’s the good news: This 3 part series\, Talking with Your Kids about Jesus\, will give you the confidence you need to have the conversations that matter most in today’s skeptical world. \nJoin us as we learn from Natasha Crain the essential topics on Jesus’s identity\, teachings\, death\, and resurrection. \nDates:  7 Mar\, 28 Mar\, 25 Apr 2025 (Fridays)\nTime: 9:30am – 11:30am\nVenue: L1 Conference Room \nAll moms\, young and old are welcome! \nThe Heart2Heart Mothers’ Fellowship meets every Friday during school term time. \nEvent and sign up details \n  \n  \n 
URL:https://www.brmc.org.sg/event/talkingwithyourkidsaboutjesus/
LOCATION:L1 Conference Room
ATTACH;FMTTYPE=image/png:https://www.brmc.org.sg/wp-content/uploads/2024/12/WEB_H2H2025.png
END:VEVENT
BEGIN:VEVENT
DTSTART;TZID=Asia/Singapore:20250328T093000
DTEND;TZID=Asia/Singapore:20250328T113000
DTSTAMP:20260425T042421
CREATED:20250218T091637Z
LAST-MODIFIED:20250225T125305Z
UID:8988-1743154200-1743161400@www.brmc.org.sg
SUMMARY:EQUIP - Talking With Your Kids about Jesus (#2/3)
DESCRIPTION:You already know the world will challenge your child’s faith in Jesus. But do you know specifically what those faith challenges are\, how to effectively talk with your child about them\, and what that means for you as a Christian parent on a day-to-day basis? \nIf your answer is no\, you’re not alone. Many Christian parents feel the same. \nThis 3-part series\, Talking with Your Kids about Jesus\, will give you the confidence you need to have the conversations that matter most in today’s skeptical world. \nJoin us as we learn from Natasha Crain the essential topics on Jesus’s identity\, teachings\, death\, and resurrection. \nDates: 7 Mar\, 28 Mar\, 25 Apr 2025 (Fridays)\nTime: 9.30am – 11.30am\nVenue: L1 Conference Room \nAll moms\, young and old are welcome! \nThe Heart2Heart Mothers’ Fellowship meets every Friday during school term time. \nEvent and sign up details \n  \n  \n 
URL:https://www.brmc.org.sg/event/heart2heart-mothers-fellowship-talking-with-your-kids-about-jesus-session-2-3/
LOCATION:L1 Conference Room
ATTACH;FMTTYPE=image/png:https://www.brmc.org.sg/wp-content/uploads/2024/12/WEB_H2H2025.png
END:VEVENT
END:VCALENDAR