BEGIN:VCALENDAR
VERSION:2.0
PRODID:-//Barker Road Methodist Church - ECPv6.15.18//NONSGML v1.0//EN
CALSCALE:GREGORIAN
METHOD:PUBLISH
X-ORIGINAL-URL:https://www.brmc.org.sg
X-WR-CALDESC:Events for Barker Road Methodist Church
REFRESH-INTERVAL;VALUE=DURATION:PT1H
X-Robots-Tag:noindex
X-PUBLISHED-TTL:PT1H
BEGIN:VTIMEZONE
TZID:Asia/Singapore
BEGIN:STANDARD
TZOFFSETFROM:+0800
TZOFFSETTO:+0800
TZNAME:+08
DTSTART:20240101T000000
END:STANDARD
END:VTIMEZONE
BEGIN:VEVENT
DTSTART;TZID=Asia/Singapore:20250509T090000
DTEND;TZID=Asia/Singapore:20250509T120000
DTSTAMP:20260425T012058
CREATED:20250429T072748Z
LAST-MODIFIED:20250505T051405Z
UID:9768-1746781200-1746792000@www.brmc.org.sg
SUMMARY:H2H Mothers' Fellowship - 25th Anniversary and Mother's Day celebrations
DESCRIPTION:This Mother’s Day\, we have double the joy—and we want YOU to be part of it! We’re celebrating 25 years of Heart2Heart Mothers Fellowship and the beautiful gift of motherhood. Through every season\, God has been faithful\, and now we gather to honour His goodness and give Him all the glory. \nWe’re thrilled to welcome Alice Hsieh as our guest speaker\, sharing a heartfelt message titled:\n“The Wise Mother”\, a special word on godly wisdom\, purpose\, and the legacy we leave as moms. \nWhether you’re new or a longtime friend\, your presence means so much. Come celebrate with us as mothers\, sisters\, and daughters of the King! \nAll moms are welcome! \nDate: Friday\, 9 May\nTime: 9am – 12pm\nVenue: BRMC Conference Rooms\, L1 (next to Little Lights Preschool) \nSign up on the Church Center App
URL:https://www.brmc.org.sg/event/equip-h2h-mothers-fellowship-25th-anniversary-and-mothers-day-celebrations/
LOCATION:L1 Conference Room
ATTACH;FMTTYPE=image/png:https://www.brmc.org.sg/wp-content/uploads/2025/04/H2H-WEB_2025.png
END:VEVENT
BEGIN:VEVENT
DTSTART;TZID=Asia/Singapore:20250516T093000
DTEND;TZID=Asia/Singapore:20250516T113000
DTSTAMP:20260425T012058
CREATED:20250429T073101Z
LAST-MODIFIED:20250509T021613Z
UID:9771-1747387800-1747395000@www.brmc.org.sg
SUMMARY:H2H Mothers' Fellowship - Praying Through Art
DESCRIPTION:Struggling to connect with God through your usual practices? \nWith our culture becoming more and more visually oriented\, an intentional way of praying with images is needed now more than ever. Art can deepen your relationship with God. \nDiscover visio divina—praying with art and Scripture at a more contemplative pace. Discover God through acrylic on canvas. \nNo prior art experience needed. \nAll moms are welcome! \nFacilitator: Ms Corinne Teo\nDate: Friday\, 16 May\nTime: 9.30am – 11.30am\nVenue: BRMC Conference Rooms\, L1 (next to Little Lights Preschool) \nSign up on the Church Center App
URL:https://www.brmc.org.sg/event/equip-h2h-mothers-fellowship-praying-through-art/
LOCATION:L1 Conference Room
ATTACH;FMTTYPE=image/png:https://www.brmc.org.sg/wp-content/uploads/2025/04/H2H-WEB_2025.png
END:VEVENT
END:VCALENDAR