BEGIN:VCALENDAR
VERSION:2.0
PRODID:-//Barker Road Methodist Church - ECPv6.15.18//NONSGML v1.0//EN
CALSCALE:GREGORIAN
METHOD:PUBLISH
X-WR-CALNAME:Barker Road Methodist Church
X-ORIGINAL-URL:https://www.brmc.org.sg
X-WR-CALDESC:Events for Barker Road Methodist Church
REFRESH-INTERVAL;VALUE=DURATION:PT1H
X-Robots-Tag:noindex
X-PUBLISHED-TTL:PT1H
BEGIN:VTIMEZONE
TZID:Asia/Singapore
BEGIN:STANDARD
TZOFFSETFROM:+0800
TZOFFSETTO:+0800
TZNAME:+08
DTSTART:20240101T000000
END:STANDARD
END:VTIMEZONE
BEGIN:VEVENT
DTSTART;TZID=Asia/Singapore:20250704T093000
DTEND;TZID=Asia/Singapore:20250704T113000
DTSTAMP:20260424T223410
CREATED:20250429T073956Z
LAST-MODIFIED:20251231T022537Z
UID:9777-1751621400-1751628600@www.brmc.org.sg
SUMMARY:Equip Heart2Heart Mothers' Fellowship - Parenting is Heart Work (#1/8)
DESCRIPTION:Calling all mums with kids from 2 -18 years! \nIf you’re like most parents\, you have developed your own parenting strategy—sometimes it seems to work\, and other times—based on the way your child behaves—you wonder if it’s working at all. There are countless ways to try to get a child’s attention and to effect change—but here’s the truth—unless you deal with a child through his or her heart\, you are not likely to see lasting change. \nBe equip with hands-on biblical strategies to parent your children’s hearts. Learn what a heart-based approach to parenting is all about and why it’s more effective than simple reward and punishment. Family routines that build character in children with every interaction are included for instructions and correction. \nCome and join us in this training to equip parents with heart-based strategies for instruction and correction. Learn what the heart is and then apply that information to develop parenting tools to bring about lasting change. \nAll moms are welcome! \nThe Heart2Heart Mothers’ Fellowship meets every Friday during school term time. \nDate: Fridays\, 4 Jul – 29 Aug 2025\nTime: 9.30am – 11.30am\nVenue: BRMC Conference Rooms\, L1 (next to Little Lights Preschool) \nSign up on the Church Center App
URL:https://www.brmc.org.sg/event/equip-heart2heart-mothers-fellowship-parenting-is-heart-work-session-1-8/
LOCATION:L1 Conference Room
ATTACH;FMTTYPE=image/png:https://www.brmc.org.sg/wp-content/uploads/2025/04/H2H-WEB_2025.png
END:VEVENT
BEGIN:VEVENT
DTSTART;TZID=Asia/Singapore:20250711T093000
DTEND;TZID=Asia/Singapore:20250711T113000
DTSTAMP:20260424T223410
CREATED:20250429T074119Z
LAST-MODIFIED:20251231T022545Z
UID:9780-1752226200-1752233400@www.brmc.org.sg
SUMMARY:Equip Heart2Heart Mothers' Fellowship - Parenting is Heart Work (#2/8)
DESCRIPTION:Calling all mums with kids from 2 -18 years! \nIf you’re like most parents\, you have developed your own parenting strategy—sometimes it seems to work\, and other times—based on the way your child behaves—you wonder if it’s working at all. There are countless ways to try to get a child’s attention and to effect change—but here’s the truth—unless you deal with a child through his or her heart\, you are not likely to see lasting change. \nBe equip with hands-on biblical strategies to parent your children’s hearts. Learn what a heart-based approach to parenting is all about and why it’s more effective than simple reward and punishment. Family routines that build character in children with every interaction are included for instructions and correction. \nCome and join us in this training to equip parents with heart-based strategies for instruction and correction. Learn what the heart is and then apply that information to develop parenting tools to bring about lasting change. \nAll moms are welcome! \nThe Heart2Heart Mothers’ Fellowship meets every Friday during school term time. \nDate: Fridays\, 4 Jul – 29 Aug 2025\nTime: 9.30am – 11.30am\nVenue: BRMC Conference Rooms\, L1 (next to Little Lights Preschool) \nSign up on the Church Center App
URL:https://www.brmc.org.sg/event/equip-heart2heart-mothers-fellowship-parenting-is-heart-work-session-2-8/
LOCATION:L1 Conference Room
ATTACH;FMTTYPE=image/png:https://www.brmc.org.sg/wp-content/uploads/2025/04/H2H-WEB_2025.png
END:VEVENT
BEGIN:VEVENT
DTSTART;TZID=Asia/Singapore:20250718T093000
DTEND;TZID=Asia/Singapore:20250718T113000
DTSTAMP:20260424T223410
CREATED:20250429T074218Z
LAST-MODIFIED:20251231T022551Z
UID:9782-1752831000-1752838200@www.brmc.org.sg
SUMMARY:Equip Heart2Heart Mothers' Fellowship - Parenting is Heart Work (#3/8)
DESCRIPTION:Calling all mums with kids from 2 -18 years! \nIf you’re like most parents\, you have developed your own parenting strategy—sometimes it seems to work\, and other times—based on the way your child behaves—you wonder if it’s working at all. There are countless ways to try to get a child’s attention and to effect change—but here’s the truth—unless you deal with a child through his or her heart\, you are not likely to see lasting change. \nBe equip with hands-on biblical strategies to parent your children’s hearts. Learn what a heart-based approach to parenting is all about and why it’s more effective than simple reward and punishment. Family routines that build character in children with every interaction are included for instructions and correction. \nCome and join us in this training to equip parents with heart-based strategies for instruction and correction. Learn what the heart is and then apply that information to develop parenting tools to bring about lasting change. \nAll moms are welcome! \nThe Heart2Heart Mothers’ Fellowship meets every Friday during school term time. \nDate: Fridays\, 4 Jul – 29 Aug 2025\nTime: 9.30am – 11.30am\nVenue: BRMC Conference Rooms\, L1 (next to Little Lights Preschool) \nSign up on the Church Center App
URL:https://www.brmc.org.sg/event/equip-heart2heart-mothers-fellowship-parenting-is-heart-work-session-3-8/
LOCATION:L1 Conference Room
ATTACH;FMTTYPE=image/png:https://www.brmc.org.sg/wp-content/uploads/2025/04/H2H-WEB_2025.png
END:VEVENT
BEGIN:VEVENT
DTSTART;TZID=Asia/Singapore:20250725T093000
DTEND;TZID=Asia/Singapore:20250725T113000
DTSTAMP:20260424T223410
CREATED:20250429T075254Z
LAST-MODIFIED:20251231T022556Z
UID:9784-1753435800-1753443000@www.brmc.org.sg
SUMMARY:Equip Heart2Heart Mothers' Fellowship - Parenting is Heart Work (#4/8)
DESCRIPTION:Calling all mums with kids from 2 -18 years! \nIf you’re like most parents\, you have developed your own parenting strategy—sometimes it seems to work\, and other times—based on the way your child behaves—you wonder if it’s working at all. There are countless ways to try to get a child’s attention and to effect change—but here’s the truth—unless you deal with a child through his or her heart\, you are not likely to see lasting change. \nBe equip with hands-on biblical strategies to parent your children’s hearts. Learn what a heart-based approach to parenting is all about and why it’s more effective than simple reward and punishment. Family routines that build character in children with every interaction are included for instructions and correction. \nCome and join us in this training to equip parents with heart-based strategies for instruction and correction. Learn what the heart is and then apply that information to develop parenting tools to bring about lasting change. \nAll moms are welcome! \nThe Heart2Heart Mothers’ Fellowship meets every Friday during school term time. \nDate: Fridays\, 4 Jul – 22 Aug 2025\nTime: 9.30am – 11.30am\nVenue: BRMC Conference Rooms\, L1 (next to Little Lights Preschool) \nSign up on the Church Center App
URL:https://www.brmc.org.sg/event/equip-heart2heart-mothers-fellowship-parenting-is-heart-work-session-4-8/
LOCATION:L1 Conference Room
ATTACH;FMTTYPE=image/png:https://www.brmc.org.sg/wp-content/uploads/2025/04/H2H-WEB_2025.png
END:VEVENT
END:VCALENDAR