BEGIN:VCALENDAR
VERSION:2.0
PRODID:-//Barker Road Methodist Church - ECPv6.15.18//NONSGML v1.0//EN
CALSCALE:GREGORIAN
METHOD:PUBLISH
X-WR-CALNAME:Barker Road Methodist Church
X-ORIGINAL-URL:https://www.brmc.org.sg
X-WR-CALDESC:Events for Barker Road Methodist Church
REFRESH-INTERVAL;VALUE=DURATION:PT1H
X-Robots-Tag:noindex
X-PUBLISHED-TTL:PT1H
BEGIN:VTIMEZONE
TZID:Asia/Singapore
BEGIN:STANDARD
TZOFFSETFROM:+0800
TZOFFSETTO:+0800
TZNAME:+08
DTSTART:20240101T000000
END:STANDARD
END:VTIMEZONE
BEGIN:VEVENT
DTSTART;TZID=Asia/Singapore:20250801T093000
DTEND;TZID=Asia/Singapore:20250801T113000
DTSTAMP:20260424T205156
CREATED:20250429T075423Z
LAST-MODIFIED:20251231T022601Z
UID:9786-1754040600-1754047800@www.brmc.org.sg
SUMMARY:Equip Heart2Heart Mothers' Fellowship - Parenting is Heart Work (#5/8)
DESCRIPTION:Calling all mums with kids from 2 -18 years! \nIf you’re like most parents\, you have developed your own parenting strategy—sometimes it seems to work\, and other times—based on the way your child behaves—you wonder if it’s working at all. There are countless ways to try to get a child’s attention and to effect change—but here’s the truth—unless you deal with a child through his or her heart\, you are not likely to see lasting change. \nBe equip with hands-on biblical strategies to parent your children’s hearts. Learn what a heart-based approach to parenting is all about and why it’s more effective than simple reward and punishment. Family routines that build character in children with every interaction are included for instructions and correction. \nCome and join us in this training to equip parents with heart-based strategies for instruction and correction. Learn what the heart is and then apply that information to develop parenting tools to bring about lasting change. \nAll moms are welcome! \nThe Heart2Heart Mothers’ Fellowship meets every Friday during school term time. \nDate: Fridays\, 4 Jul – 29 Aug 2025\nTime: 9.30am – 11.30am\nVenue: BRMC Conference Rooms\, L1 (next to Little Lights Preschool) \nSign up on the Church Center App
URL:https://www.brmc.org.sg/event/equip-heart2heart-mothers-fellowship-parenting-is-heart-work-session-5-8/
LOCATION:L1 Conference Room
ATTACH;FMTTYPE=image/png:https://www.brmc.org.sg/wp-content/uploads/2025/04/H2H-WEB_2025.png
END:VEVENT
BEGIN:VEVENT
DTSTART;TZID=Asia/Singapore:20250815T093000
DTEND;TZID=Asia/Singapore:20250815T113000
DTSTAMP:20260424T205156
CREATED:20250429T075547Z
LAST-MODIFIED:20251231T022605Z
UID:9788-1755250200-1755257400@www.brmc.org.sg
SUMMARY:Equip Heart2Heart Mothers' Fellowship - Parenting is Heart Work (#6/8)
DESCRIPTION:Calling all mums with kids from 2 -18 years! \nIf you’re like most parents\, you have developed your own parenting strategy—sometimes it seems to work\, and other times—based on the way your child behaves—you wonder if it’s working at all. There are countless ways to try to get a child’s attention and to effect change—but here’s the truth—unless you deal with a child through his or her heart\, you are not likely to see lasting change. \nBe equip with hands-on biblical strategies to parent your children’s hearts. Learn what a heart-based approach to parenting is all about and why it’s more effective than simple reward and punishment. Family routines that build character in children with every interaction are included for instructions and correction. \nCome and join us in this training to equip parents with heart-based strategies for instruction and correction. Learn what the heart is and then apply that information to develop parenting tools to bring about lasting change. \nAll moms are welcome! \nThe Heart2Heart Mothers’ Fellowship meets every Friday during school term time. \nDate: Fridays\, 4 Jul – 29 Aug 2025\nTime: 9.30am – 11.30am\nVenue: BRMC Conference Rooms\, L1 (next to Little Lights Preschool) \nSign up on the Church Center App
URL:https://www.brmc.org.sg/event/equip-heart2heart-mothers-fellowship-parenting-is-heart-work-session-6-8/
LOCATION:L1 Conference Room
ATTACH;FMTTYPE=image/png:https://www.brmc.org.sg/wp-content/uploads/2025/04/H2H-WEB_2025.png
END:VEVENT
BEGIN:VEVENT
DTSTART;TZID=Asia/Singapore:20250822T093000
DTEND;TZID=Asia/Singapore:20250822T113000
DTSTAMP:20260424T205156
CREATED:20250429T075816Z
LAST-MODIFIED:20251231T022609Z
UID:9792-1755855000-1755862200@www.brmc.org.sg
SUMMARY:Equip Heart2Heart Mothers' Fellowship - Parenting is Heart Work (#7/8)
DESCRIPTION:Calling all mums with kids from 2 -18 years! \nIf you’re like most parents\, you have developed your own parenting strategy—sometimes it seems to work\, and other times—based on the way your child behaves—you wonder if it’s working at all. There are countless ways to try to get a child’s attention and to effect change—but here’s the truth—unless you deal with a child through his or her heart\, you are not likely to see lasting change. \nBe equip with hands-on biblical strategies to parent your children’s hearts. Learn what a heart-based approach to parenting is all about and why it’s more effective than simple reward and punishment. Family routines that build character in children with every interaction are included for instructions and correction. \nCome and join us in this training to equip parents with heart-based strategies for instruction and correction. Learn what the heart is and then apply that information to develop parenting tools to bring about lasting change. \nAll moms are welcome! \nThe Heart2Heart Mothers’ Fellowship meets every Friday during school term time. \nDate: Fridays\, 4 Jul – 29 Aug 2025\nTime: 9.30am – 11.30am\nVenue: BRMC Conference Rooms\, L1 (next to Little Lights Preschool) \nSign up on the Church Center App
URL:https://www.brmc.org.sg/event/equip-heart2heart-mothers-fellowship-parenting-is-heart-work-session-7-8/
LOCATION:L1 Conference Room
ATTACH;FMTTYPE=image/png:https://www.brmc.org.sg/wp-content/uploads/2025/04/H2H-WEB_2025.png
END:VEVENT
BEGIN:VEVENT
DTSTART;TZID=Asia/Singapore:20250829T093000
DTEND;TZID=Asia/Singapore:20250829T113000
DTSTAMP:20260424T205156
CREATED:20250429T075917Z
LAST-MODIFIED:20251231T022613Z
UID:9794-1756459800-1756467000@www.brmc.org.sg
SUMMARY:Equip Heart2Heart Mothers' Fellowship - Parenting is Heart Work (#8/8)
DESCRIPTION:Calling all mums with kids from 2 -18 years! \nIf you’re like most parents\, you have developed your own parenting strategy—sometimes it seems to work\, and other times—based on the way your child behaves—you wonder if it’s working at all. There are countless ways to try to get a child’s attention and to effect change—but here’s the truth—unless you deal with a child through his or her heart\, you are not likely to see lasting change. \nBe equip with hands-on biblical strategies to parent your children’s hearts. Learn what a heart-based approach to parenting is all about and why it’s more effective than simple reward and punishment. Family routines that build character in children with every interaction are included for instructions and correction. \nCome and join us in this training to equip parents with heart-based strategies for instruction and correction. Learn what the heart is and then apply that information to develop parenting tools to bring about lasting change. \nAll moms are welcome! \nThe Heart2Heart Mothers’ Fellowship meets every Friday during school term time. \nDate: Fridays\, 4 Jul – 29 Aug 2025\nTime: 9.30am – 11.30am\nVenue: BRMC Conference Rooms\, L1 (next to Little Lights Preschool) \nSign up on the Church Center App
URL:https://www.brmc.org.sg/event/equip-heart2heart-mothers-fellowship-parenting-is-heart-work-session-8-8/
LOCATION:L1 Conference Room
ATTACH;FMTTYPE=image/png:https://www.brmc.org.sg/wp-content/uploads/2025/04/H2H-WEB_2025.png
END:VEVENT
END:VCALENDAR