BEGIN:VCALENDAR
VERSION:2.0
PRODID:-//Barker Road Methodist Church - ECPv6.15.18//NONSGML v1.0//EN
CALSCALE:GREGORIAN
METHOD:PUBLISH
X-WR-CALNAME:Barker Road Methodist Church
X-ORIGINAL-URL:https://www.brmc.org.sg
X-WR-CALDESC:Events for Barker Road Methodist Church
REFRESH-INTERVAL;VALUE=DURATION:PT1H
X-Robots-Tag:noindex
X-PUBLISHED-TTL:PT1H
BEGIN:VTIMEZONE
TZID:Asia/Singapore
BEGIN:STANDARD
TZOFFSETFROM:+0800
TZOFFSETTO:+0800
TZNAME:+08
DTSTART:20250101T000000
END:STANDARD
END:VTIMEZONE
BEGIN:VEVENT
DTSTART;VALUE=DATE:20260515
DTEND;VALUE=DATE:20260518
DTSTAMP:20260424T033902
CREATED:20260219T091905Z
LAST-MODIFIED:20260420T055115Z
UID:13421-1778803200-1779062399@www.brmc.org.sg
SUMMARY:BRMC 70th Anniversary Weekend & Service
DESCRIPTION:Theme: Faithful Through The Generations \nJoin us as we celebrate 70 years of God’s faithfulness at Barker Road Methodist Church. This milestone weekend is a time of thanksgiving\, renewal\, and recommissioning—honouring what God has done\, receiving His grace afresh\, and stepping forward to release His purposes to the next generation. \nA special Evening of Worship and Prayer will be held on Fri\, 15 May at 7.30pm in the sanctuary\, followed by a light supper at 9pm. \nOur weekend services on Sat and Sun will proceed as usual\, with TRAC President Rev Reuben Ng bringing God’s Word. \nCome as one church family across generations to give thanks and look ahead with faith. \nEvening of Worship and Prayer: Fri\, 15 May | 7.30pm (sanctuary)\nLight Supper: 9pm\nWeekend Services: As per usual timings\nSpeaker: TRAC President Rev Reuben Ng
URL:https://www.brmc.org.sg/event/brmc-anniversary-weekend/
ATTACH;FMTTYPE=image/png:https://www.brmc.org.sg/wp-content/uploads/2026/02/Web_70th-Anniversary.png
END:VEVENT
END:VCALENDAR