BEGIN:VCALENDAR
VERSION:2.0
PRODID:-//Barker Road Methodist Church - ECPv6.15.18//NONSGML v1.0//EN
CALSCALE:GREGORIAN
METHOD:PUBLISH
X-ORIGINAL-URL:https://www.brmc.org.sg
X-WR-CALDESC:Events for Barker Road Methodist Church
REFRESH-INTERVAL;VALUE=DURATION:PT1H
X-Robots-Tag:noindex
X-PUBLISHED-TTL:PT1H
BEGIN:VTIMEZONE
TZID:Asia/Singapore
BEGIN:STANDARD
TZOFFSETFROM:+0800
TZOFFSETTO:+0800
TZNAME:+08
DTSTART:20240101T000000
END:STANDARD
END:VTIMEZONE
BEGIN:VEVENT
DTSTART;TZID=Asia/Singapore:20250504T140000
DTEND;TZID=Asia/Singapore:20250504T170000
DTSTAMP:20260424T200837
CREATED:20250416T022052Z
LAST-MODIFIED:20250429T062529Z
UID:9238-1746367200-1746378000@www.brmc.org.sg
SUMMARY:CONNECT - Pickleball
DESCRIPTION:Join us for weekly pickleball sessions designed to promote intergenerational bonding and an active\, healthy lifestyle within the BRMC family! \nWhether you’re a seasoned player or a complete beginner\, everyone is welcome—children\, youth\, adults\, and seniors alike. We’ll teach newcomers the game\, and equipment (paddles\, balls\, and nets) will be provided. Come enjoy this fun\, easy-to-learn sport that blends tennis\, badminton\, and ping pong! \n🧒 Free for children 12 & under and seniors 55 & over💵 $4 per session for all others (payable via QR code at the entrance)👟 Sports attire with non-marking court shoes required🚫 No food in the auditorium. Bring your own water/drinks. \nNote: These sessions will replace the Thursday Seniors’ Pickleball group from May onwards.Participation is only open to BRMC members. \n\nVolunteer With Us! \n\nLooking for committed volunteers to help set up and return all equipment at the end of each session.  If we can get 12 volunteers\, we will roster 2 volunteers per session.  Commitment will then be once every 6 weeks. \nCommunication\nAll participants will be placed in a BRMC Pickleball WhatsApp group for ease of communication.\n\n\nRegister to indicate your interest.
URL:https://www.brmc.org.sg/event/connect-pickleball-3/
LOCATION:ACS Auditorium
ATTACH;FMTTYPE=image/png:https://www.brmc.org.sg/wp-content/uploads/2025/04/WEB_BRMC-PIckleball.png
END:VEVENT
BEGIN:VEVENT
DTSTART;TZID=Asia/Singapore:20250511T140000
DTEND;TZID=Asia/Singapore:20250511T170000
DTSTAMP:20260424T200837
CREATED:20250416T022238Z
LAST-MODIFIED:20250505T052832Z
UID:9240-1746972000-1746982800@www.brmc.org.sg
SUMMARY:CONNECT - Pickleball
DESCRIPTION:Join us for weekly pickleball sessions designed to promote intergenerational bonding and an active\, healthy lifestyle within the BRMC family! \nWhether you’re a seasoned player or a complete beginner\, everyone is welcome—children\, youth\, adults\, and seniors alike. We’ll teach newcomers the game\, and equipment (paddles\, balls\, and nets) will be provided. Come enjoy this fun\, easy-to-learn sport that blends tennis\, badminton\, and ping pong! \n🧒 Free for children 12 & under and seniors 55 & over💵 $4 per session for all others (payable via QR code at the entrance)👟 Sports attire with non-marking court shoes required🚫 No food in the auditorium. Bring your own water/drinks. \nNote: These sessions will replace the Thursday Seniors’ Pickleball group from May onwards.Participation is only open to BRMC members. \n\nVolunteer With Us! \n\nLooking for committed volunteers to help set up and return all equipment at the end of each session.  If we can get 12 volunteers\, we will roster 2 volunteers per session.  Commitment will then be once every 6 weeks. \nCommunication\nAll participants will be placed in a BRMC Pickleball WhatsApp group for ease of communication.\n\n\nRegister to indicate your interest.
URL:https://www.brmc.org.sg/event/connect-pickleball-4/
LOCATION:ACS Auditorium
ATTACH;FMTTYPE=image/png:https://www.brmc.org.sg/wp-content/uploads/2025/04/WEB_BRMC-PIckleball.png
END:VEVENT
BEGIN:VEVENT
DTSTART;TZID=Asia/Singapore:20250518T140000
DTEND;TZID=Asia/Singapore:20250518T170000
DTSTAMP:20260424T200837
CREATED:20250416T022347Z
LAST-MODIFIED:20250505T052857Z
UID:9242-1747576800-1747587600@www.brmc.org.sg
SUMMARY:CONNECT - Pickleball
DESCRIPTION:Join us for weekly pickleball sessions designed to promote intergenerational bonding and an active\, healthy lifestyle within the BRMC family! \nWhether you’re a seasoned player or a complete beginner\, everyone is welcome—children\, youth\, adults\, and seniors alike. We’ll teach newcomers the game\, and equipment (paddles\, balls\, and nets) will be provided. Come enjoy this fun\, easy-to-learn sport that blends tennis\, badminton\, and ping pong! \n🧒 Free for children 12 & under and seniors 55 & over💵 $4 per session for all others (payable via QR code at the entrance)👟 Sports attire with non-marking court shoes required🚫 No food in the auditorium. Bring your own water/drinks. \nNote: These sessions will replace the Thursday Seniors’ Pickleball group from May onwards.Participation is only open to BRMC members. \nVolunteer With Us! \n\n\nLooking for committed volunteers to help set up and return all equipment at the end of each session.  If we can get 12 volunteers\, we will roster 2 volunteers per session.  Commitment will then be once every 6 weeks. \nCommunication\nAll participants will be placed in a BRMC Pickleball WhatsApp group for ease of communication.\n\n\nRegister to indicate your interest.
URL:https://www.brmc.org.sg/event/connect-pickleball-5/
LOCATION:ACS Auditorium
ATTACH;FMTTYPE=image/png:https://www.brmc.org.sg/wp-content/uploads/2025/04/WEB_BRMC-PIckleball.png
END:VEVENT
BEGIN:VEVENT
DTSTART;TZID=Asia/Singapore:20250525T140000
DTEND;TZID=Asia/Singapore:20250525T170000
DTSTAMP:20260424T200837
CREATED:20250416T022450Z
LAST-MODIFIED:20250505T052913Z
UID:9244-1748181600-1748192400@www.brmc.org.sg
SUMMARY:CONNECT - Pickleball
DESCRIPTION:Join us for weekly pickleball sessions designed to promote intergenerational bonding and an active\, healthy lifestyle within the BRMC family! \nWhether you’re a seasoned player or a complete beginner\, everyone is welcome—children\, youth\, adults\, and seniors alike. We’ll teach newcomers the game\, and equipment (paddles\, balls\, and nets) will be provided. Come enjoy this fun\, easy-to-learn sport that blends tennis\, badminton\, and ping pong! \n🧒 Free for children 12 & under and seniors 55 & over💵 $4 per session for all others (payable via QR code at the entrance)👟 Sports attire with non-marking court shoes required🚫 No food in the auditorium. Bring your own water/drinks. \nNote: These sessions will replace the Thursday Seniors’ Pickleball group from May onwards.Participation is only open to BRMC members. \nVolunteer With Us! \n\n\nLooking for committed volunteers to help set up and return all equipment at the end of each session.  If we can get 12 volunteers\, we will roster 2 volunteers per session.  Commitment will then be once every 6 weeks. \nCommunication\nAll participants will be placed in a BRMC Pickleball WhatsApp group for ease of communication.\n\n\nRegister to indicate your interest.
URL:https://www.brmc.org.sg/event/connect-pickleball-6/
LOCATION:ACS Auditorium
ATTACH;FMTTYPE=image/png:https://www.brmc.org.sg/wp-content/uploads/2025/04/WEB_BRMC-PIckleball.png
END:VEVENT
END:VCALENDAR