BEGIN:VCALENDAR
VERSION:2.0
PRODID:-//Barker Road Methodist Church - ECPv6.15.18//NONSGML v1.0//EN
CALSCALE:GREGORIAN
METHOD:PUBLISH
X-ORIGINAL-URL:https://www.brmc.org.sg
X-WR-CALDESC:Events for Barker Road Methodist Church
REFRESH-INTERVAL;VALUE=DURATION:PT1H
X-Robots-Tag:noindex
X-PUBLISHED-TTL:PT1H
BEGIN:VTIMEZONE
TZID:Asia/Singapore
BEGIN:STANDARD
TZOFFSETFROM:+0800
TZOFFSETTO:+0800
TZNAME:+08
DTSTART:20240101T000000
END:STANDARD
END:VTIMEZONE
BEGIN:VEVENT
DTSTART;TZID=Asia/Singapore:20250803T140000
DTEND;TZID=Asia/Singapore:20250803T170000
DTSTAMP:20260424T155757
CREATED:20250416T024126Z
LAST-MODIFIED:20250506T052801Z
UID:9264-1754229600-1754240400@www.brmc.org.sg
SUMMARY:CONNECT - Pickleball
DESCRIPTION:Join us for weekly pickleball sessions designed to promote intergenerational bonding and an active\, healthy lifestyle within the BRMC family! \nWhether you’re a seasoned player or a complete beginner\, everyone is welcome—children\, youth\, adults\, and seniors alike. We’ll teach newcomers the game\, and equipment (paddles\, balls\, and nets) will be provided. Come enjoy this fun\, easy-to-learn sport that blends tennis\, badminton\, and ping pong! \n🧒 Free for children 12 & under and seniors 55 & over💵 $4 per session for all others (payable via QR code at the entrance)👟 Sports attire with non-marking court shoes required🚫 No food in the auditorium. Bring your own water/drinks. \nNote: These sessions will replace the Thursday Seniors’ Pickleball group from May onwards.Participation is only open to BRMC members. \nVolunteer With Us! \n\n\nLooking for committed volunteers to help set up and return all equipment at the end of each session.  If we can get 12 volunteers\, we will roster 2 volunteers per session.  Commitment will then be once every 6 weeks. \nCommunication\nAll participants will be placed in a BRMC Pickleball WhatsApp group for ease of communication.\n\n\nRegister to indicate your interest
URL:https://www.brmc.org.sg/event/connect-pickleball-16/
LOCATION:ACS Auditorium
ATTACH;FMTTYPE=image/png:https://www.brmc.org.sg/wp-content/uploads/2025/04/WEB_BRMC-PIckleball.png
END:VEVENT
BEGIN:VEVENT
DTSTART;TZID=Asia/Singapore:20250810T140000
DTEND;TZID=Asia/Singapore:20250810T170000
DTSTAMP:20260424T155757
CREATED:20250416T024226Z
LAST-MODIFIED:20250506T052818Z
UID:9266-1754834400-1754845200@www.brmc.org.sg
SUMMARY:CONNECT - Pickleball
DESCRIPTION:Join us for weekly pickleball sessions designed to promote intergenerational bonding and an active\, healthy lifestyle within the BRMC family! \nWhether you’re a seasoned player or a complete beginner\, everyone is welcome—children\, youth\, adults\, and seniors alike. We’ll teach newcomers the game\, and equipment (paddles\, balls\, and nets) will be provided. Come enjoy this fun\, easy-to-learn sport that blends tennis\, badminton\, and ping pong! \n🧒 Free for children 12 & under and seniors 55 & over💵 $4 per session for all others (payable via QR code at the entrance)👟 Sports attire with non-marking court shoes required🚫 No food in the auditorium. Bring your own water/drinks. \nNote: These sessions will replace the Thursday Seniors’ Pickleball group from May onwards.Participation is only open to BRMC members. \nVolunteer With Us! \n\n\nLooking for committed volunteers to help set up and return all equipment at the end of each session.  If we can get 12 volunteers\, we will roster 2 volunteers per session.  Commitment will then be once every 6 weeks. \nCommunication\nAll participants will be placed in a BRMC Pickleball WhatsApp group for ease of communication.\n\n\nRegister to indicate your interest
URL:https://www.brmc.org.sg/event/connect-pickleball-17/
LOCATION:ACS Auditorium
ATTACH;FMTTYPE=image/png:https://www.brmc.org.sg/wp-content/uploads/2025/04/WEB_BRMC-PIckleball.png
END:VEVENT
BEGIN:VEVENT
DTSTART;TZID=Asia/Singapore:20250817T140000
DTEND;TZID=Asia/Singapore:20250817T170000
DTSTAMP:20260424T155757
CREATED:20250416T024329Z
LAST-MODIFIED:20250506T052901Z
UID:9268-1755439200-1755450000@www.brmc.org.sg
SUMMARY:CONNECT - Pickleball
DESCRIPTION:Join us for weekly pickleball sessions designed to promote intergenerational bonding and an active\, healthy lifestyle within the BRMC family! \nWhether you’re a seasoned player or a complete beginner\, everyone is welcome—children\, youth\, adults\, and seniors alike. We’ll teach newcomers the game\, and equipment (paddles\, balls\, and nets) will be provided. Come enjoy this fun\, easy-to-learn sport that blends tennis\, badminton\, and ping pong! \n🧒 Free for children 12 & under and seniors 55 & over💵 $4 per session for all others (payable via QR code at the entrance)👟 Sports attire with non-marking court shoes required🚫 No food in the auditorium. Bring your own water/drinks. \nNote: These sessions will replace the Thursday Seniors’ Pickleball group from May onwards.Participation is only open to BRMC members. \nVolunteer With Us! \n\n\nLooking for committed volunteers to help set up and return all equipment at the end of each session.  If we can get 12 volunteers\, we will roster 2 volunteers per session.  Commitment will then be once every 6 weeks. \nCommunication\nAll participants will be placed in a BRMC Pickleball WhatsApp group for ease of communication.\n\n\nRegister to indicate your interest
URL:https://www.brmc.org.sg/event/connect-pickleball-18/
LOCATION:ACS Auditorium
ATTACH;FMTTYPE=image/png:https://www.brmc.org.sg/wp-content/uploads/2025/04/WEB_BRMC-PIckleball.png
END:VEVENT
BEGIN:VEVENT
DTSTART;TZID=Asia/Singapore:20250824T140000
DTEND;TZID=Asia/Singapore:20250824T170000
DTSTAMP:20260424T155757
CREATED:20250416T024426Z
LAST-MODIFIED:20250506T052909Z
UID:9270-1756044000-1756054800@www.brmc.org.sg
SUMMARY:CONNECT - Pickleball
DESCRIPTION:Join us for weekly pickleball sessions designed to promote intergenerational bonding and an active\, healthy lifestyle within the BRMC family! \nWhether you’re a seasoned player or a complete beginner\, everyone is welcome—children\, youth\, adults\, and seniors alike. We’ll teach newcomers the game\, and equipment (paddles\, balls\, and nets) will be provided. Come enjoy this fun\, easy-to-learn sport that blends tennis\, badminton\, and ping pong! \n🧒 Free for children 12 & under and seniors 55 & over💵 $4 per session for all others (payable via QR code at the entrance)👟 Sports attire with non-marking court shoes required🚫 No food in the auditorium. Bring your own water/drinks. \nNote: These sessions will replace the Thursday Seniors’ Pickleball group from May onwards.Participation is only open to BRMC members. \nVolunteer With Us! \n\n\nLooking for committed volunteers to help set up and return all equipment at the end of each session.  If we can get 12 volunteers\, we will roster 2 volunteers per session.  Commitment will then be once every 6 weeks. \nCommunication\nAll participants will be placed in a BRMC Pickleball WhatsApp group for ease of communication.\n\n\nRegister to indicate your interest
URL:https://www.brmc.org.sg/event/connect-pickleball-19/
LOCATION:ACS Auditorium
ATTACH;FMTTYPE=image/png:https://www.brmc.org.sg/wp-content/uploads/2025/04/WEB_BRMC-PIckleball.png
END:VEVENT
BEGIN:VEVENT
DTSTART;TZID=Asia/Singapore:20250831T140000
DTEND;TZID=Asia/Singapore:20250831T170000
DTSTAMP:20260424T155757
CREATED:20250416T024542Z
LAST-MODIFIED:20250506T052915Z
UID:9272-1756648800-1756659600@www.brmc.org.sg
SUMMARY:CONNECT - Pickleball
DESCRIPTION:Join us for weekly pickleball sessions designed to promote intergenerational bonding and an active\, healthy lifestyle within the BRMC family! \nWhether you’re a seasoned player or a complete beginner\, everyone is welcome—children\, youth\, adults\, and seniors alike. We’ll teach newcomers the game\, and equipment (paddles\, balls\, and nets) will be provided. Come enjoy this fun\, easy-to-learn sport that blends tennis\, badminton\, and ping pong! \n🧒 Free for children 12 & under and seniors 55 & over💵 $4 per session for all others (payable via QR code at the entrance)👟 Sports attire with non-marking court shoes required🚫 No food in the auditorium. Bring your own water/drinks. \nNote: These sessions will replace the Thursday Seniors’ Pickleball group from May onwards.Participation is only open to BRMC members. \nVolunteer With Us! \n\n\nLooking for committed volunteers to help set up and return all equipment at the end of each session.  If we can get 12 volunteers\, we will roster 2 volunteers per session.  Commitment will then be once every 6 weeks. \nCommunication\nAll participants will be placed in a BRMC Pickleball WhatsApp group for ease of communication.\n\n\nRegister to indicate your interest
URL:https://www.brmc.org.sg/event/connect-pickleball-20/
LOCATION:ACS Auditorium
ATTACH;FMTTYPE=image/png:https://www.brmc.org.sg/wp-content/uploads/2025/04/WEB_BRMC-PIckleball.png
END:VEVENT
END:VCALENDAR