BEGIN:VCALENDAR
VERSION:2.0
PRODID:-//Barker Road Methodist Church - ECPv6.15.18//NONSGML v1.0//EN
CALSCALE:GREGORIAN
METHOD:PUBLISH
X-WR-CALNAME:Barker Road Methodist Church
X-ORIGINAL-URL:https://www.brmc.org.sg
X-WR-CALDESC:Events for Barker Road Methodist Church
REFRESH-INTERVAL;VALUE=DURATION:PT1H
X-Robots-Tag:noindex
X-PUBLISHED-TTL:PT1H
BEGIN:VTIMEZONE
TZID:Asia/Singapore
BEGIN:STANDARD
TZOFFSETFROM:+0800
TZOFFSETTO:+0800
TZNAME:+08
DTSTART:20220101T000000
END:STANDARD
END:VTIMEZONE
BEGIN:VEVENT
DTSTART;TZID=Asia/Singapore:20230901T193000
DTEND;TZID=Asia/Singapore:20230901T213000
DTSTAMP:20260425T190855
CREATED:20230119T025057Z
LAST-MODIFIED:20230726T103935Z
UID:2915-1693596600-1693603800@www.brmc.org.sg
SUMMARY:Kairos Corporate Worship
DESCRIPTION:Let’s come together and pray with one mind and one voice so that we glorify the God and Father of our Lord Jesus Christ. \n 
URL:https://www.brmc.org.sg/event/kairos-corporate-worship-sep/
LOCATION:Sanctuary
ATTACH;FMTTYPE=image/jpeg:https://www.brmc.org.sg/wp-content/uploads/2023/01/Corporate-Worship_Web-Listing.jpg
END:VEVENT
BEGIN:VEVENT
DTSTART;TZID=Asia/Singapore:20230920T151500
DTEND;TZID=Asia/Singapore:20230920T161500
DTSTAMP:20260425T190855
CREATED:20230714T034926Z
LAST-MODIFIED:20230914T034239Z
UID:5125-1695222900-1695226500@www.brmc.org.sg
SUMMARY:CONNECT - Seniors Chapel
DESCRIPTION:All seniors are invited to this new monthly on-site worship and prayer session which is held at the Sanctuary. \nIt is a time and place for us to personally draw near to God in His Sanctuary through songs\, prayers\, and guided meditation. \nDate: Wed\, 20 Sep 2023\nTime: 3.15pm – 4.15pm\nVenue: Sanctuary \nNo registration is required. \n 
URL:https://www.brmc.org.sg/event/connect-seniors-chapel-4/
ATTACH;FMTTYPE=image/jpeg:https://www.brmc.org.sg/wp-content/uploads/2023/07/seniors-chapel.jpg
END:VEVENT
BEGIN:VEVENT
DTSTART;TZID=Asia/Singapore:20230929T193000
DTEND;TZID=Asia/Singapore:20230929T213000
DTSTAMP:20260425T190855
CREATED:20230119T024424Z
LAST-MODIFIED:20231003T062726Z
UID:2903-1696015800-1696023000@www.brmc.org.sg
SUMMARY:Kairos Corporate Prayer
DESCRIPTION:Let us gather and pray as one church family for empowerment to go forth and fulfil God’s calling in our lives. \nVenue: Sanctuary\nTime: 7.30pm
URL:https://www.brmc.org.sg/event/kairos-corporate-prayer-meeting-4/
LOCATION:Sanctuary
ATTACH;FMTTYPE=image/jpeg:https://www.brmc.org.sg/wp-content/uploads/2023/01/Corporate-Prayer_Web-Listing.jpg
END:VEVENT
END:VCALENDAR