BEGIN:VCALENDAR
VERSION:2.0
PRODID:-//Barker Road Methodist Church - ECPv6.15.18//NONSGML v1.0//EN
CALSCALE:GREGORIAN
METHOD:PUBLISH
X-ORIGINAL-URL:https://www.brmc.org.sg
X-WR-CALDESC:Events for Barker Road Methodist Church
REFRESH-INTERVAL;VALUE=DURATION:PT1H
X-Robots-Tag:noindex
X-PUBLISHED-TTL:PT1H
BEGIN:VTIMEZONE
TZID:Asia/Singapore
BEGIN:STANDARD
TZOFFSETFROM:+0800
TZOFFSETTO:+0800
TZNAME:+08
DTSTART:20230101T000000
END:STANDARD
END:VTIMEZONE
BEGIN:VEVENT
DTSTART;TZID=Asia/Singapore:20240802T193000
DTEND;TZID=Asia/Singapore:20240802T213000
DTSTAMP:20260425T012408
CREATED:20240117T013010Z
LAST-MODIFIED:20240117T013010Z
UID:6749-1722627000-1722634200@www.brmc.org.sg
SUMMARY:KAIROS
DESCRIPTION:All are encouraged to gather\, pray and worship as one church family at this monthly corporate prayer session.
URL:https://www.brmc.org.sg/event/kairos-6/
LOCATION:Wesley Hall
END:VEVENT
BEGIN:VEVENT
DTSTART;TZID=Asia/Singapore:20240814T153000
DTEND;TZID=Asia/Singapore:20240814T163000
DTSTAMP:20260425T012408
CREATED:20240117T004613Z
LAST-MODIFIED:20240117T004613Z
UID:6694-1723649400-1723653000@www.brmc.org.sg
SUMMARY:CONNECT - Seniors Chapel
DESCRIPTION:This is a time and place for us to personally draw near to God in His Sanctuary through songs\, prayers\, and guided meditation. \nDate: Wed\, 14 Aug 2024\nTime: 3.30pm – 4.30pm\nVenue: Wesley Hall \nNo registration is required. \n 
URL:https://www.brmc.org.sg/event/connect-seniors-chapel-14/
LOCATION:Wesley Hall
ATTACH;FMTTYPE=image/jpeg:https://www.brmc.org.sg/wp-content/uploads/2023/07/seniors-chapel.jpg
END:VEVENT
END:VCALENDAR