BEGIN:VCALENDAR
VERSION:2.0
PRODID:-//Barker Road Methodist Church - ECPv6.15.18//NONSGML v1.0//EN
CALSCALE:GREGORIAN
METHOD:PUBLISH
X-WR-CALNAME:Barker Road Methodist Church
X-ORIGINAL-URL:https://www.brmc.org.sg
X-WR-CALDESC:Events for Barker Road Methodist Church
REFRESH-INTERVAL;VALUE=DURATION:PT1H
X-Robots-Tag:noindex
X-PUBLISHED-TTL:PT1H
BEGIN:VTIMEZONE
TZID:Asia/Singapore
BEGIN:STANDARD
TZOFFSETFROM:+0800
TZOFFSETTO:+0800
TZNAME:+08
DTSTART:20240101T000000
END:STANDARD
END:VTIMEZONE
BEGIN:VEVENT
DTSTART;TZID=Asia/Singapore:20251107T193000
DTEND;TZID=Asia/Singapore:20251107T213000
DTSTAMP:20260424T032026
CREATED:20250429T070346Z
LAST-MODIFIED:20251003T015813Z
UID:9750-1762543800-1762551000@www.brmc.org.sg
SUMMARY:KAIROS
DESCRIPTION:Come gather\, pray and worship as one church family at our monthly corporate prayer session. \nAll are welcome. \n  \nAre any among you suffering? They should pray. Are any cheerful? They should sing songs of praise. Are any among you sick? They should call for the elders of the church and have them pray over them\, anointing them with oil in the name of the Lord. The prayer of faith will save the sick\, and the Lord will raise them up\, and anyone who has committed sins will be forgiven. Therefore confess your sins to one another and pray for one another\, so that you may be healed. The prayer of the righteous is powerful and effective. \n– James 5:13-16 (NRSV)
URL:https://www.brmc.org.sg/event/kairos-15/
LOCATION:Sanctuary
ATTACH;FMTTYPE=image/png:https://www.brmc.org.sg/wp-content/uploads/2025/04/WEB-1.png
END:VEVENT
BEGIN:VEVENT
DTSTART;TZID=Asia/Singapore:20251119T153000
DTEND;TZID=Asia/Singapore:20251119T163000
DTSTAMP:20260424T032026
CREATED:20250416T040210Z
LAST-MODIFIED:20250416T070836Z
UID:9348-1763566200-1763569800@www.brmc.org.sg
SUMMARY:CONNECT - Seniors Chapel
DESCRIPTION:This is a time and place for us to personally draw near to God in His Sanctuary through songs\, prayers\, and guided meditation. \nDate: Wed\, 19 Nov 2025\nTime: 3.30pm – 4.30pm\nVenue: Wesley Hall \nNo registration is required. \n\nThe CONNECT Seniors Ministry meets regularly to G.R.O.W. – Graciously Ripen\, Overflowing with Wisdom from Above. \nJoin us and embrace the joy of growth\, wisdom\, and community.
URL:https://www.brmc.org.sg/event/connect-seniors-chapel-29/
LOCATION:Wesley Hall
ATTACH;FMTTYPE=image/jpeg:https://www.brmc.org.sg/wp-content/uploads/2023/07/seniors-chapel.jpg
END:VEVENT
END:VCALENDAR