BEGIN:VCALENDAR
VERSION:2.0
PRODID:-//Barker Road Methodist Church - ECPv6.15.18//NONSGML v1.0//EN
CALSCALE:GREGORIAN
METHOD:PUBLISH
X-WR-CALNAME:Barker Road Methodist Church
X-ORIGINAL-URL:https://www.brmc.org.sg
X-WR-CALDESC:Events for Barker Road Methodist Church
REFRESH-INTERVAL;VALUE=DURATION:PT1H
X-Robots-Tag:noindex
X-PUBLISHED-TTL:PT1H
BEGIN:VTIMEZONE
TZID:Asia/Singapore
BEGIN:STANDARD
TZOFFSETFROM:+0800
TZOFFSETTO:+0800
TZNAME:+08
DTSTART:20240101T000000
END:STANDARD
END:VTIMEZONE
BEGIN:VEVENT
DTSTART;TZID=Asia/Singapore:20250315T173000
DTEND;TZID=Asia/Singapore:20250315T203000
DTSTAMP:20260424T150704
CREATED:20250213T061348Z
LAST-MODIFIED:20250213T061348Z
UID:8958-1742059800-1742070600@www.brmc.org.sg
SUMMARY:SERVE with the Prison Ministry @The Helping Hand Family Event
DESCRIPTION:Come alongside our Prison Ministry by volunteering as… \n\nFood servers\nBefrienders\nUshers\n\n@ The Helping Hand Family Event on Sat\, 15 Mar 2025 from 5.30pm-8.30pm. \nSign up now
URL:https://www.brmc.org.sg/event/serve-with-the-prison-ministry-the-helping-hand-family-event/
LOCATION:The Helping Hand
ATTACH;FMTTYPE=image/png:https://www.brmc.org.sg/wp-content/uploads/2024/11/Web_PM_2025.png
END:VEVENT
BEGIN:VEVENT
DTSTART;TZID=Asia/Singapore:20250315T190000
DTEND;TZID=Asia/Singapore:20250315T210000
DTSTAMP:20260424T150704
CREATED:20250216T021001Z
LAST-MODIFIED:20250216T021001Z
UID:8965-1742065200-1742072400@www.brmc.org.sg
SUMMARY:SERVE - Community Night with Migrant Workers
DESCRIPTION:Are you interested in cross-cultural mission work without needing a passport?  \nJoin us every 3rd Saturday of the month\, 7pm-9pm\, at Defu Industrial City (DIC) Dormitory. \nWe will be sharing the love of Christ by distributing fruits to Bangladeshi workers residing at DIC and continuing to deepen our friendships with them. \nMonthly community night dates in 2025 are as follows: \n15 Feb\, 15 Mar\, 19 Apr\, 17 May\, 21 Jun\, 19 Jul\, 16 Aug\, 20 Sep\, 18 Oct\, 15 Nov\, 20 Dec \nSIGN UP NOW \n...you will be my witnesses in Jerusalem and in all Judea and Samaria\, and to the end of the earth. Acts 1:8b \n \n 
URL:https://www.brmc.org.sg/event/serve-community-night-with-migrant-workers/
ATTACH;FMTTYPE=image/png:https://www.brmc.org.sg/wp-content/uploads/2025/02/WEB_mw-1.png
END:VEVENT
END:VCALENDAR