BEGIN:VCALENDAR
VERSION:2.0
PRODID:-//Barker Road Methodist Church - ECPv6.15.18//NONSGML v1.0//EN
CALSCALE:GREGORIAN
METHOD:PUBLISH
X-ORIGINAL-URL:https://www.brmc.org.sg
X-WR-CALDESC:Events for Barker Road Methodist Church
REFRESH-INTERVAL;VALUE=DURATION:PT1H
X-Robots-Tag:noindex
X-PUBLISHED-TTL:PT1H
BEGIN:VTIMEZONE
TZID:Asia/Singapore
BEGIN:STANDARD
TZOFFSETFROM:+0800
TZOFFSETTO:+0800
TZNAME:+08
DTSTART:20250101T000000
END:STANDARD
END:VTIMEZONE
BEGIN:VEVENT
DTSTART;TZID=Asia/Singapore:20260704T093000
DTEND;TZID=Asia/Singapore:20260704T123000
DTSTAMP:20260423T234150
CREATED:20260213T022635Z
LAST-MODIFIED:20260318T014007Z
UID:13323-1783157400-1783168200@www.brmc.org.sg
SUMMARY:Missions Learning Journey (#4/4)
DESCRIPTION:Ready to step out and make a difference for Christ? Join our Missions Learning Journey and be equipped to serve across cultures and borders. \nDates: Saturdays\, 9 & 16 May\, 27 Jun\, 4 Jul 2026 \nTime: 9.30am – 12.30pm \nVenue: TBC \n\nLearn the biblical basis of missions\nRelate to people from different cultures and religions\nDiscover how to share your testimony\nGrow as a team and serve together\n\nAll participants must attend all training sessions and team meetings before joining a trip. \nRegistration details will be provided soon. \n2026 Mission Trips \n\nIndonesia\, Tanjung Pinang – Medical &/or Children’s Programme (18-19 Jul)\nIndonesia\, Batam – Medical (24-25 Oct) (Register here)\nNepal – Medical & Dental Mission (3rd week of Nov)\nCambodia – Medical & Christmas Outreach (1-6 Dec)\nSouth India – Children’s Outreach (1st or 2nd week of Dec)\nThailand\, Chiang Mai – Christmas Outreach (14-20 Dec)\n\nRegistration details will be provided soon.
URL:https://www.brmc.org.sg/event/missions-learning-journey-may-jun-4-4/
ATTACH;FMTTYPE=image/png:https://www.brmc.org.sg/wp-content/uploads/2026/02/PCO_2026_Missions.png
END:VEVENT
BEGIN:VEVENT
DTSTART;TZID=Asia/Singapore:20260718T133000
DTEND;TZID=Asia/Singapore:20260718T163000
DTSTAMP:20260423T234150
CREATED:20260212T100534Z
LAST-MODIFIED:20260413T100538Z
UID:13313-1784381400-1784392200@www.brmc.org.sg
SUMMARY:Missions: Starter Workshops (#1/2)
DESCRIPTION:As part of BRMC’s Year of Release\, we’ve partnered with OMF Singapore to present Missions: Starter Workshops\, designed for those new to missions. \nOver two weekends\, experience missions through interactive\, action-based workshops like” People Chain” and “Secret Message”. Discover what happens on the field and how you can be part of the Great Commission. \nJesus is calling. Will you come and see? See His heart for the nations. Find your place in His mission. \nDate: Saturdays\, 18 & 25 Jul 2026\nTime: 1.30pm – 4.30pm\nVenue: L1 Conference Room \nSign up on the Church Center App \n2026 Mission Trips \n\nIndonesia\, Tanjung Pinang – Medical &/or Children’s Programme (TBC)\nIndonesia\, Batam – Medical (TBC)\nNepal – Medical & Dental Mission (3rd week of Nov)\nCambodia – Medical & Christmas Outreach (1-6 Dec)\nSouth India – Children’s Outreach (1st week of Dec)\nThailand\, Chiang Mai – Christmas Outreach (14-20 Dec)\n\nSign up on the Church Center App
URL:https://www.brmc.org.sg/event/missions-101-1-2/
LOCATION:L1 Conference Room
ATTACH;FMTTYPE=image/png:https://www.brmc.org.sg/wp-content/uploads/2025/10/Web_YR_ENACT.png
END:VEVENT
BEGIN:VEVENT
DTSTART;TZID=Asia/Singapore:20260718T193000
DTEND;TZID=Asia/Singapore:20260718T213000
DTSTAMP:20260423T234150
CREATED:20251027T054241Z
LAST-MODIFIED:20251027T054241Z
UID:12295-1784403000-1784410200@www.brmc.org.sg
SUMMARY:SERVE - Community Night with Migrant Workers
DESCRIPTION:Are you interested in cross-cultural mission work without needing a passport?  \nJoin us every 3rd Saturday of the month\, 7.30pm – 9.30pm\, at Defu Industrial City (DIC) Dormitory. \nWe will be sharing the love of Christ by distributing fruits to Bangladeshi workers residing at DIC and continuing to deepen our friendships with them. \nMonthly community night dates in 2026 are as follows: \n17 Jan\, 21 Feb\, 21 Mar\, 18 Apr\, 16 May\, 20 Jun\, 18 Jul\, 15 Aug\, 19 Sep\, 17 Oct\, 21 Nov\, 19 Dec \nSIGN UP NOW
URL:https://www.brmc.org.sg/event/serve-community-night-with-migrant-workers-17/
ATTACH;FMTTYPE=image/png:https://www.brmc.org.sg/wp-content/uploads/2025/02/WEB_mw-1.png
END:VEVENT
BEGIN:VEVENT
DTSTART;TZID=Asia/Singapore:20260725T133000
DTEND;TZID=Asia/Singapore:20260725T163000
DTSTAMP:20260423T234150
CREATED:20260213T023753Z
LAST-MODIFIED:20260413T062756Z
UID:13342-1784986200-1784997000@www.brmc.org.sg
SUMMARY:Missions: Starter Workshops (#2/2)
DESCRIPTION:As part of BRMC’s Year of Release\, we’ve partnered with OMF Singapore to present Missions: Starter Workshops\, designed for those new to missions. \nOver two weekends\, experience missions through interactive\, action-based workshops like” People Chain” and “Secret Message”. Discover what happens on the field and how you can be part of the Great Commission. \nJesus is calling. Will you come and see? See His heart for the nations. Find your place in His mission. \nDate: Saturdays\, 18 & 25 Jul 2026\nTime: 1.30pm – 4.30pm\nVenue: L1 Conference Room \nSign up on the Church Center App \n2026 Mission Trips \n\nIndonesia\, Tanjung Pinang – Medical &/or Children’s Programme (TBC)\nIndonesia\, Batam – Medical (TBC)\nNepal – Medical & Dental Mission (3rd week of Nov)\nCambodia – Medical & Christmas Outreach (1-6 Dec)\nSouth India – Children’s Outreach (1st week of Dec)\nThailand\, Chiang Mai – Christmas Outreach (14-20 Dec)\n\nSign up on the Church Center App
URL:https://www.brmc.org.sg/event/missions-101-2-2/
LOCATION:L1 Conference Room
ATTACH;FMTTYPE=image/png:https://www.brmc.org.sg/wp-content/uploads/2025/10/Web_YR_ENACT.png
END:VEVENT
BEGIN:VEVENT
DTSTART;TZID=Asia/Singapore:20260731T190000
DTEND;TZID=Asia/Singapore:20260731T210000
DTSTAMP:20260423T234150
CREATED:20260319T072136Z
LAST-MODIFIED:20260319T072136Z
UID:13886-1785524400-1785531600@www.brmc.org.sg
SUMMARY:Epworth Community Services Fundraising Gala Dinner 2026
DESCRIPTION:Epworth Community Services\, one of BRMC’s Release Ministries\, is hosting a fundraising gala to support their work in bringing hope and care to the community. Join us at the Epworth Fundraising Gala Dinner as we come together to support vital programmes that serve vulnerable individuals and families across Singapore. Your presence and generosity will help continue the work of transforming lives and restoring hope. \nDate: 31 Jul 2026\nVenue: One Farrer Hotel \nGiving Opportunities:\nTables from $6\,000\nSeats from $500 (250% tax deduction applies) \nBe part of what God is doing beyond our church walls. Gather your family\, friends or Connect Group\, and support this important cause. \nReserve your table here.
URL:https://www.brmc.org.sg/event/epworth-community-services-fundraising-gala-dinner-2026/
ATTACH;FMTTYPE=image/jpeg:https://www.brmc.org.sg/wp-content/uploads/2025/04/Placeholder-Image-for-Event-Web-Listing.jpg
END:VEVENT
END:VCALENDAR