BEGIN:VCALENDAR
VERSION:2.0
PRODID:-//Barker Road Methodist Church - ECPv6.15.18//NONSGML v1.0//EN
CALSCALE:GREGORIAN
METHOD:PUBLISH
X-WR-CALNAME:Barker Road Methodist Church
X-ORIGINAL-URL:https://www.brmc.org.sg
X-WR-CALDESC:Events for Barker Road Methodist Church
REFRESH-INTERVAL;VALUE=DURATION:PT1H
X-Robots-Tag:noindex
X-PUBLISHED-TTL:PT1H
BEGIN:VTIMEZONE
TZID:Asia/Singapore
BEGIN:STANDARD
TZOFFSETFROM:+0800
TZOFFSETTO:+0800
TZNAME:+08
DTSTART:20250101T000000
END:STANDARD
END:VTIMEZONE
BEGIN:VEVENT
DTSTART;TZID=Asia/Singapore:20260605T103000
DTEND;TZID=Asia/Singapore:20260605T123000
DTSTAMP:20260424T022428
CREATED:20251003T075659Z
LAST-MODIFIED:20251006T071953Z
UID:11690-1780655400-1780662600@www.brmc.org.sg
SUMMARY:CONNECT - Seniors Fellowship Brunch
DESCRIPTION:Join us at the monthly Seniors Fellowship Brunch for seniors and their caregivers. \nThis event offers a chance to G.R.O.W. (Gracefully Ripen\, Overflowing with Wisdom from God) by connecting and engaging in activities with like-minded individuals. \nCome and be a part of our community as we share stories\, offer support\, and encourage one another over brunch. \nWhether you are a regular attendee or a first-timer\, all are welcome. \nDate: Fri\, 5 Jun 2026\nTime: 10.30am – 12.30pm\nVenue: Zaffron Kitchen\nAddress: 30 Orange Grove Rd\, #04-02 RELC International Hotel\, Singapore 258352 \nAny amount is acceptable. Freewill offering is welcome. \nRegistration is required. More details will be provided soon. \n\nThe CONNECT Seniors Ministry meets regularly to G.R.O.W. – Graciously Ripen\, Overflowing with Wisdom from Above. \nJoin us and embrace the joy of growth\, wisdom\, and community.
URL:https://www.brmc.org.sg/event/connect-seniors-fellowship-brunch-5/
ATTACH;FMTTYPE=image/png:https://www.brmc.org.sg/wp-content/uploads/2025/04/WEB_Seniors_Brunch_2025.png
END:VEVENT
BEGIN:VEVENT
DTSTART;TZID=Asia/Singapore:20260607T140000
DTEND;TZID=Asia/Singapore:20260607T170000
DTSTAMP:20260424T022428
CREATED:20251022T060958Z
LAST-MODIFIED:20260302T092821Z
UID:12245-1780840800-1780851600@www.brmc.org.sg
SUMMARY:CONNECT - Pickleball
DESCRIPTION:Join us for weekly pickleball sessions for a time of inter-generational bonding with our church family! \nWhether you’re a seasoned player or a complete beginner\, everyone is welcome—children\, youth\, adults\, and seniors alike. We’ll teach newcomers the game\, and equipment (paddles\, balls\, and nets) will be provided. \n🧒 Free for children 12 and under\, & seniors 55 and over💵 $4 per session for all others (payable via QR code at the entrance)👟 Sports attire with non-marking court shoes required🚫 No food in the Auditorium. Bring your own water/drinks \nParticipation is only open to BRMC members. \nVolunteer with us! \n\n\nWe need committed volunteers to help set up and return all equipment at the end of each session.  If we can get 12 volunteers\, we will roster 2 volunteers per session.  Commitment will then be once every 6 weeks. \nWhatsApp Chat Group\nAll participants will be placed in a BRMC Pickleball WhatsApp group for ease of communication.\n\n\nRegister your interest
URL:https://www.brmc.org.sg/event/connect-pickleball-60/
LOCATION:ACS Auditorium
ATTACH;FMTTYPE=image/png:https://www.brmc.org.sg/wp-content/uploads/2025/10/Web_Pickleball.png
END:VEVENT
BEGIN:VEVENT
DTSTART;TZID=Asia/Singapore:20260611T100000
DTEND;TZID=Asia/Singapore:20260611T120000
DTSTAMP:20260424T022428
CREATED:20251006T082215Z
LAST-MODIFIED:20251006T082215Z
UID:11880-1781172000-1781179200@www.brmc.org.sg
SUMMARY:CONNECT - Seniors Singing Fellowship
DESCRIPTION:Date: Thu\, 11 Jun 2026\nTime: 10am – 12pm\nVenue: Methodist Girls’ School (IGLC room) @ Blackmore Drive \nOn the second week of the month\, we call out to all seniors and their caregivers who love singing. \nAt the Singing Fellowship\, we share our reﬂections on our Christian life through the songs we nominate to sing together\, facilitated by a pastoral staff. \nSinging helps us explore and grow in faith both cognitively and affectively. The lyrics guide our thinking and the music inspires our souls. After singing\, we deepen our bonds of bonds of kinship\, friendship and discipleship over a shared meal together. \nPlease confirm your attendance with Chang Chong Tian at the church office at 6256 4298. \n\nThe CONNECT Seniors Ministry meets regularly to G.R.O.W. – Graciously Ripen\, Overflowing with Wisdom from Above. \nJoin us and embrace the joy of growth\, wisdom\, and community.
URL:https://www.brmc.org.sg/event/connect-seniors-singing-fellowship-21/
ATTACH;FMTTYPE=image/png:https://www.brmc.org.sg/wp-content/uploads/2024/10/WEB_Senior-Singing.png
END:VEVENT
BEGIN:VEVENT
DTSTART;TZID=Asia/Singapore:20260614T140000
DTEND;TZID=Asia/Singapore:20260614T170000
DTSTAMP:20260424T022428
CREATED:20251022T061039Z
LAST-MODIFIED:20260302T092831Z
UID:12247-1781445600-1781456400@www.brmc.org.sg
SUMMARY:CONNECT - Pickleball
DESCRIPTION:Join us for weekly pickleball sessions for a time of inter-generational bonding with our church family! \nWhether you’re a seasoned player or a complete beginner\, everyone is welcome—children\, youth\, adults\, and seniors alike. We’ll teach newcomers the game\, and equipment (paddles\, balls\, and nets) will be provided. \n🧒 Free for children 12 and under\, & seniors 55 and over💵 $4 per session for all others (payable via QR code at the entrance)👟 Sports attire with non-marking court shoes required🚫 No food in the Auditorium. Bring your own water/drinks \nParticipation is only open to BRMC members. \nVolunteer with us! \n\n\nWe need committed volunteers to help set up and return all equipment at the end of each session.  If we can get 12 volunteers\, we will roster 2 volunteers per session.  Commitment will then be once every 6 weeks. \nWhatsApp Chat Group\nAll participants will be placed in a BRMC Pickleball WhatsApp group for ease of communication.\n\n\nRegister your interest
URL:https://www.brmc.org.sg/event/connect-pickleball-61/
LOCATION:ACS Auditorium
ATTACH;FMTTYPE=image/png:https://www.brmc.org.sg/wp-content/uploads/2025/10/Web_Pickleball.png
END:VEVENT
BEGIN:VEVENT
DTSTART;TZID=Asia/Singapore:20260617T153000
DTEND;TZID=Asia/Singapore:20260617T163000
DTSTAMP:20260424T022428
CREATED:20251006T071628Z
LAST-MODIFIED:20260330T014848Z
UID:11796-1781710200-1781713800@www.brmc.org.sg
SUMMARY:CONNECT - Seniors Chapel
DESCRIPTION:This is a time and place for us to personally draw near to God in His Sanctuary through songs\, prayers\, and guided meditation. \nDate: Wed\, 17 Jun 2026\nTime: 3.30pm – 4.30pm\nVenue: Wesley Hall \nHoly Communion is served every month at Seniors Chapel. \nNo registration is required. \n\nThe CONNECT Seniors Ministry meets regularly to G.R.O.W. – Graciously Ripen\, Overflowing with Wisdom from Above. \nJoin us and embrace the joy of growth\, wisdom\, and community.
URL:https://www.brmc.org.sg/event/connect-seniors-chapel-36/
LOCATION:Wesley Hall
ATTACH;FMTTYPE=image/jpeg:https://www.brmc.org.sg/wp-content/uploads/2025/10/Web_Wesley-Hall.jpg
END:VEVENT
BEGIN:VEVENT
DTSTART;TZID=Asia/Singapore:20260620T133000
DTEND;TZID=Asia/Singapore:20260620T160000
DTSTAMP:20260424T022428
CREATED:20260414T053224Z
LAST-MODIFIED:20260414T053224Z
UID:14279-1781962200-1781971200@www.brmc.org.sg
SUMMARY:CONNECT - Shalom Dementia Care Fellowship
DESCRIPTION:Caring for someone with dementia or living with it can be overwhelming\, but you’re not alone. \nThe monthly Shalom Dementia Care Fellowship provides a supportive space where those with dementia and their caregivers can come together in faith and fellowship. It runs on 3rd Saturdays of the month. \nDate: 20 Jun 2026\nTime: 1.30pm – 4pm\nVenue: Wesley Hall \nThe programme is as follows: \n\nWelcome\nWorship\nScripture/Message\nExercise\nClosing\n\nRegistration is required. Please contact Chong Tian at the church office at 6256 4298. \nGet in touch \n\nThe CONNECT Seniors Ministry meets regularly to G.R.O.W. – Graciously Ripen\, Overflowing with Wisdom from Above. \nJoin us and embrace the joy of growth\, wisdom\, and community.
URL:https://www.brmc.org.sg/event/connect-shalom-dementia-care-fellowship-37/
ATTACH;FMTTYPE=image/jpeg:https://www.brmc.org.sg/wp-content/uploads/2023/07/dementia-care.jpeg
END:VEVENT
BEGIN:VEVENT
DTSTART;TZID=Asia/Singapore:20260621T140000
DTEND;TZID=Asia/Singapore:20260621T170000
DTSTAMP:20260424T022428
CREATED:20251022T061127Z
LAST-MODIFIED:20260302T092841Z
UID:12249-1782050400-1782061200@www.brmc.org.sg
SUMMARY:CONNECT - Pickleball
DESCRIPTION:Join us for weekly pickleball sessions for a time of inter-generational bonding with our church family! \nWhether you’re a seasoned player or a complete beginner\, everyone is welcome—children\, youth\, adults\, and seniors alike. We’ll teach newcomers the game\, and equipment (paddles\, balls\, and nets) will be provided. \n🧒 Free for children 12 and under\, & seniors 55 and over💵 $4 per session for all others (payable via QR code at the entrance)👟 Sports attire with non-marking court shoes required🚫 No food in the Auditorium. Bring your own water/drinks \nParticipation is only open to BRMC members. \nVolunteer with us! \n\n\nWe need committed volunteers to help set up and return all equipment at the end of each session.  If we can get 12 volunteers\, we will roster 2 volunteers per session.  Commitment will then be once every 6 weeks. \nWhatsApp Chat Group\nAll participants will be placed in a BRMC Pickleball WhatsApp group for ease of communication.\n\n\nRegister your interest
URL:https://www.brmc.org.sg/event/connect-pickleball-62/
LOCATION:ACS Auditorium
ATTACH;FMTTYPE=image/png:https://www.brmc.org.sg/wp-content/uploads/2025/10/Web_Pickleball.png
END:VEVENT
BEGIN:VEVENT
DTSTART;TZID=Asia/Singapore:20260628T140000
DTEND;TZID=Asia/Singapore:20260628T170000
DTSTAMP:20260424T022428
CREATED:20251022T061200Z
LAST-MODIFIED:20260302T092851Z
UID:12251-1782655200-1782666000@www.brmc.org.sg
SUMMARY:CONNECT - Pickleball
DESCRIPTION:Join us for weekly pickleball sessions for a time of inter-generational bonding with our church family! \nWhether you’re a seasoned player or a complete beginner\, everyone is welcome—children\, youth\, adults\, and seniors alike. We’ll teach newcomers the game\, and equipment (paddles\, balls\, and nets) will be provided. \n🧒 Free for children 12 and under\, & seniors 55 and over💵 $4 per session for all others (payable via QR code at the entrance)👟 Sports attire with non-marking court shoes required🚫 No food in the Auditorium. Bring your own water/drinks \nParticipation is only open to BRMC members. \nVolunteer with us! \n\n\nWe need committed volunteers to help set up and return all equipment at the end of each session.  If we can get 12 volunteers\, we will roster 2 volunteers per session.  Commitment will then be once every 6 weeks. \nWhatsApp Chat Group\nAll participants will be placed in a BRMC Pickleball WhatsApp group for ease of communication.\n\n\nRegister your interest
URL:https://www.brmc.org.sg/event/connect-pickleball-63/
LOCATION:ACS Auditorium
ATTACH;FMTTYPE=image/png:https://www.brmc.org.sg/wp-content/uploads/2025/10/Web_Pickleball.png
END:VEVENT
END:VCALENDAR