BEGIN:VCALENDAR
VERSION:2.0
PRODID:-//Barker Road Methodist Church - ECPv6.15.18//NONSGML v1.0//EN
CALSCALE:GREGORIAN
METHOD:PUBLISH
X-WR-CALNAME:Barker Road Methodist Church
X-ORIGINAL-URL:https://www.brmc.org.sg
X-WR-CALDESC:Events for Barker Road Methodist Church
REFRESH-INTERVAL;VALUE=DURATION:PT1H
X-Robots-Tag:noindex
X-PUBLISHED-TTL:PT1H
BEGIN:VTIMEZONE
TZID:Asia/Singapore
BEGIN:STANDARD
TZOFFSETFROM:+0800
TZOFFSETTO:+0800
TZNAME:+08
DTSTART:20230101T000000
END:STANDARD
END:VTIMEZONE
BEGIN:VEVENT
DTSTART;TZID=Asia/Singapore:20241212T100000
DTEND;TZID=Asia/Singapore:20241212T120000
DTSTAMP:20260424T232621
CREATED:20241001T080654Z
LAST-MODIFIED:20241104T095241Z
UID:8077-1733997600-1734004800@www.brmc.org.sg
SUMMARY:CONNECT - Seniors Singing Fellowship
DESCRIPTION:Date: Thu\, 12 Dec 2024\nTime: 10am – 12noon\nVenue: Methodist Girls’ School (IGLC room) @ Blackmore Drive \nOn the second week of the month\, we call out to all seniors and their caregivers who love singing. \nAt the Singing Fellowship\, we share our reﬂections on our Christian life through the songs we nominate to sing together\, facilitated by a pastoral staff. \nSinging helps us explore and grow in faith both cognitively and affectively. The lyrics guide our thinking and the music inspires our souls. After singing\, we deepen our bonds of bonds of kinship\, friendship and discipleship over a shared meal together. \nPlease confirm your attendance with Chang Chong Tian at the church office at 6256 4298. \n\nThis event offers a chance to G.R.O.W. (Gracefully Ripen\, Overflowing with Wisdom from God) by connecting and engaging in activities with like-minded individuals.
URL:https://www.brmc.org.sg/event/connect-seniors-singing-fellowship-3/
ATTACH;FMTTYPE=image/png:https://www.brmc.org.sg/wp-content/uploads/2024/10/WEB_Senior-Singing.png
END:VEVENT
END:VCALENDAR